BEGIN:VCALENDAR
VERSION:2.0
PRODID:-//Serenity Knoll - ECPv6.10.1.1//NONSGML v1.0//EN
CALSCALE:GREGORIAN
METHOD:PUBLISH
X-ORIGINAL-URL:https://serenityknoll.com
X-WR-CALDESC:Events for Serenity Knoll
REFRESH-INTERVAL;VALUE=DURATION:PT1H
X-Robots-Tag:noindex
X-PUBLISHED-TTL:PT1H
BEGIN:VTIMEZONE
TZID:America/New_York
BEGIN:DAYLIGHT
TZOFFSETFROM:-0500
TZOFFSETTO:-0400
TZNAME:EDT
DTSTART:20260308T070000
END:DAYLIGHT
BEGIN:STANDARD
TZOFFSETFROM:-0400
TZOFFSETTO:-0500
TZNAME:EST
DTSTART:20261101T060000
END:STANDARD
END:VTIMEZONE
BEGIN:VEVENT
DTSTART;TZID=America/New_York:20260621T110000
DTEND;TZID=America/New_York:20260621T130000
DTSTAMP:20260420T094300
CREATED:20260407T233832Z
LAST-MODIFIED:20260407T233832Z
UID:10001134-1782039600-1782046800@serenityknoll.com
SUMMARY:SUNDAY YOGA & BRUNCH\, JUNE 21st at 11AM\, $30 PER PERSON
DESCRIPTION:Led by Lydie Ometto. Join us for an hour of gentle Yoga in our open-air pavilion\, followed by a delicious and healthy brunch! Yoga sessions are beginner-friendly\, and mats\, blocks\, bolsters\, and blankets will be available. Please sign up to secure your spot! Rain or Shine.
URL:https://serenityknoll.com/event/sunday-yoga-brunch-june-21st-at-11am-30-per-person/
LOCATION:Serenity Knoll Farm\, 542 Bacon Branch Rd\, Jonesborough\, TN\, 37659\, United States
CATEGORIES:Yoga
ATTACH;FMTTYPE=image/jpeg:https://serenityknoll.com/wp-content/uploads/2023/05/Yoga-Jonesborough.jpeg
ORGANIZER;CN="Serenity Knoll Cooking School":MAILTO:sheridan@serenityknoll.com
END:VEVENT
BEGIN:VEVENT
DTSTART;TZID=America/New_York:20260625T180000
DTEND;TZID=America/New_York:20260625T203000
DTSTAMP:20260420T094300
CREATED:20260418T123757Z
LAST-MODIFIED:20260418T123757Z
UID:10001142-1782410400-1782419400@serenityknoll.com
SUMMARY:PIPING FLOWER CAKE DECORATING CLASS w/ CHEF ANGELA BOWES\, JUNE 25TH at 6PM\, $75 PER PERSON
DESCRIPTION:Ready to bring your cake decorating skills to life?  Join Food Network Winner Chef Angela Bowes in the Serenity Knoll kitchen for a fun\, hands-on class where you’ll learn how to create and decorate your very own gorgeous two-layer\, six-inch cake! In this interactive workshop\, you’ll be guided step-by-step through prepping your cake layers\, stacking\, and transforming your cake into a beautiful floral design using buttercream and a variety of piping tips.  Whether you’re a complete beginner or looking to refine your skills\, you’ll gain confidence and leave with a stunning cake you’ll be proud to show off (and enjoy!). This class is perfect for all ages—no experience needed. Just bring your creativity and love for all things sweet! \nWhat You’ll Get: \n A two-layer\, six-inch chocolate cake to decorate and take home \n Hands-on experience piping beautiful buttercream flowers with multiple tips. All tools\, materials\, and step-by-step instructions are provided \n A fun\, creative experience (and a cake that’s as delicious as it is beautiful!) This class can be made gluten-free for a small additional charge. Just let us know when you purchase your ticket so we can have everything ready for you! Spots are limited—grab your ticket today and let’s get piping! 
URL:https://serenityknoll.com/event/piping-flower-cake-decorating-class-w-chef-angela-bowes-june-25th-at-6pm-75-per-person/
LOCATION:Serenity Knoll Farm\, 542 Bacon Branch Rd\, Jonesborough\, TN\, 37659\, United States
CATEGORIES:Cooking
ATTACH;FMTTYPE=image/jpeg:https://serenityknoll.com/wp-content/uploads/2025/04/cakeflowersUSE.jpg
ORGANIZER;CN="Serenity Knoll Cooking School":MAILTO:sheridan@serenityknoll.com
END:VEVENT
BEGIN:VEVENT
DTSTART;TZID=America/New_York:20260627T180000
DTEND;TZID=America/New_York:20260627T200000
DTSTAMP:20260420T094300
CREATED:20260418T183256Z
LAST-MODIFIED:20260418T183256Z
UID:10001150-1782583200-1782590400@serenityknoll.com
SUMMARY:SMASHBURGER w/ CHEF NATHAN BRAND\, JUNE 27TH at 6PM\, $65 PER PERSON\, BYOB
DESCRIPTION:Spend a fun evening in the kitchen with a hands-on\, high-energy cooking class built around one of our chef’s most popular dishes—the perfect Smashburger. Nathan Brand\, one of the founders of Timber! in Johnson City\, will lead this class. In this class\, you’ll learn the techniques that make a great Smashburger unforgettable: properly heating the griddle\, smashing for maximum crust\, seasoning for flavor\, and building layers that balance richness and crunch. We’ll also take the time to master true caramelized onions\, showing you how patience and heat transform simple onions into something extraordinary. To round out the meal\, we’ll prepare oven-roasted fingerling potatoes with garlic aioli\, and a fresh\, crunchy kale slaw that brings brightness and balance to the plate.\nThis class is designed to be fun\, approachable\, and deeply satisfying—perfect for cooks of all levels\, and a great way to spend the evening cooking\, eating\, and learning together.
URL:https://serenityknoll.com/event/smashburger-w-chef-nathan-brand-june-27th-at-6pm-65-per-person-byob/
LOCATION:Serenity Knoll Farm\, 542 Bacon Branch Rd\, Jonesborough\, TN\, 37659\, United States
CATEGORIES:Cooking
ATTACH;FMTTYPE=image/jpeg:https://serenityknoll.com/wp-content/uploads/2026/02/SMASH-BURGER.jpg
ORGANIZER;CN="Serenity Knoll Cooking School":MAILTO:sheridan@serenityknoll.com
END:VEVENT
END:VCALENDAR