BEGIN:VCALENDAR
VERSION:2.0
PRODID:-//Serenity Knoll - ECPv6.10.1.1//NONSGML v1.0//EN
CALSCALE:GREGORIAN
METHOD:PUBLISH
X-WR-CALNAME:Serenity Knoll
X-ORIGINAL-URL:https://serenityknoll.com
X-WR-CALDESC:Events for Serenity Knoll
REFRESH-INTERVAL;VALUE=DURATION:PT1H
X-Robots-Tag:noindex
X-PUBLISHED-TTL:PT1H
BEGIN:VTIMEZONE
TZID:America/New_York
BEGIN:DAYLIGHT
TZOFFSETFROM:-0500
TZOFFSETTO:-0400
TZNAME:EDT
DTSTART:20260308T070000
END:DAYLIGHT
BEGIN:STANDARD
TZOFFSETFROM:-0400
TZOFFSETTO:-0500
TZNAME:EST
DTSTART:20261101T060000
END:STANDARD
END:VTIMEZONE
BEGIN:VEVENT
DTSTART;TZID=America/New_York:20260308T150000
DTEND;TZID=America/New_York:20260308T170000
DTSTAMP:20260420T215652
CREATED:20260218T232558Z
LAST-MODIFIED:20260218T232558Z
UID:10001077-1772982000-1772989200@serenityknoll.com
SUMMARY:MASTER THE ART OF AUTHENTIC PHO & CHICKEN BUN w/ CHEF KARLA\, MARCH 8TH at 3PM\, $70 PER PERSON\, BYOB
DESCRIPTION:Stop buying it—start cooking it! Join Chef Karla for a hands-on cooking class where you’ll learn to create the perfect\, aromatic Beef Pho broth and the fresh\, zesty flavors of Chicken Bun (Bun Ga Nuong) from scratch.
URL:https://serenityknoll.com/event/master-the-art-of-authentic-pho-chicken-bun-w-chef-karla-march-8th-at-3pm-70-per-person-byob/
LOCATION:Serenity Knoll Farm\, 542 Bacon Branch Rd\, Jonesborough\, TN\, 37659\, United States
CATEGORIES:Cooking
ATTACH;FMTTYPE=image/jpeg:https://serenityknoll.com/wp-content/uploads/2026/02/PHO.jpg
ORGANIZER;CN="Serenity Knoll Cooking School":MAILTO:sheridan@serenityknoll.com
END:VEVENT
BEGIN:VEVENT
DTSTART;TZID=America/New_York:20260311T163000
DTEND;TZID=America/New_York:20260311T180000
DTSTAMP:20260420T215652
CREATED:20260221T161551Z
LAST-MODIFIED:20260310T123228Z
UID:10001084-1773246600-1773252000@serenityknoll.com
SUMMARY:KID'S ST. PATRICK'S DAY RAINBOW CHOCOLATE BARK w/DAVID WILEY\, MARCH 11TH at 4:30PM\, $35 PER PERSON\, MUST BE ACCOMPANIED BY AN ADULT
DESCRIPTION:Celebrate St.Patrick’s Day with hands-on chocolate fun! In this interactive class\, kids will\ncreate their own rainbow chocolate bark and “pot of gold” treats using white chocolate\,\ncolorful candy melts\, and festive sprinkles. They’ll practice melting\, drizzling\, layering\nand decorating techniques while designing unique edible masterpieces.\nEach student will take home a box of bright\, colorful chocolate creations to share or\nenjoy. This class is perfect for kids who love hands-on creativity\, vibrant colors and\nsweet treats.
URL:https://serenityknoll.com/event/kids-st-patricks-day-rainbow-chocolate-bark-w-david-wiley-march-11th-at-430pm-35-per-person-must-be-accompanied-by-an-adult/
LOCATION:Serenity Knoll Farm\, 542 Bacon Branch Rd\, Jonesborough\, TN\, 37659\, United States
CATEGORIES:Cooking
ATTACH;FMTTYPE=image/jpeg:https://serenityknoll.com/wp-content/uploads/2026/02/rainbow-chocolate-bark.jpg
ORGANIZER;CN="Serenity Knoll Cooking School":MAILTO:sheridan@serenityknoll.com
END:VEVENT
BEGIN:VEVENT
DTSTART;TZID=America/New_York:20260312T180000
DTEND;TZID=America/New_York:20260312T200000
DTSTAMP:20260420T215652
CREATED:20260205T200958Z
LAST-MODIFIED:20260205T200958Z
UID:10001074-1773338400-1773345600@serenityknoll.com
SUMMARY:PIZZA FROM SCRATCH W/ DAVID WILEY\, MARCH 12TH\, at 6PM\, $65.00 PER PERSON\, BYOB
DESCRIPTION:This class will inspire you with simple yet effective cooking techniques\, allow you to experience fresh\, local ingredients\, and give you the satisfaction of serving great food to others. Bring the whole family! We’ll make the pizza in the wood oven\, but you can easily do this at home or on your backyard grill.
URL:https://serenityknoll.com/event/pizza-from-scratch-w-david-wiley-march-12th-at-6pm-65-00-per-person-byob/
LOCATION:Serenity Knoll Farm\, 542 Bacon Branch Rd\, Jonesborough\, TN\, 37659\, United States
CATEGORIES:Cooking
ATTACH;FMTTYPE=image/jpeg:https://serenityknoll.com/wp-content/uploads/2023/09/pizza-new-scaled.jpg
ORGANIZER;CN="Serenity Knoll Cooking School":MAILTO:sheridan@serenityknoll.com
END:VEVENT
BEGIN:VEVENT
DTSTART;TZID=America/New_York:20260313T180000
DTEND;TZID=America/New_York:20260313T200000
DTSTAMP:20260420T215652
CREATED:20260205T132647Z
LAST-MODIFIED:20260311T171716Z
UID:10001070-1773424800-1773432000@serenityknoll.com
SUMMARY:SPANISH OLIVE OIL TASTING AND TAPAS w/MARK & KIM PLEMMONS\, MARCH 13TH at 6PM\, $65 PER PERSON\, BYOB
DESCRIPTION:Extra virgin olive oil is the essence of Spanish cuisine.  Join us for an olive oil tasting featuring oils with six unique flavor profiles followed by the chance to prepare two of Spain’s classic tapas – gambas pil pil and tortilla española. This a unique opportunity to explore these extraordinary oils.
URL:https://serenityknoll.com/event/spanish-olive-oil-tasting-and-tapas-w-mark-kim-plemmons-march-13th-at-6pm-65-per-person-byob/
LOCATION:Serenity Knoll Farm\, 542 Bacon Branch Rd\, Jonesborough\, TN\, 37659\, United States
CATEGORIES:Cooking
ATTACH;FMTTYPE=image/jpeg:https://serenityknoll.com/wp-content/uploads/2026/02/tortilla-and-olive-oil-1.jpg
ORGANIZER;CN="Serenity Knoll Cooking School":MAILTO:sheridan@serenityknoll.com
END:VEVENT
BEGIN:VEVENT
DTSTART;TZID=America/New_York:20260314T110000
DTEND;TZID=America/New_York:20260314T130000
DTSTAMP:20260420T215652
CREATED:20251226T172108Z
LAST-MODIFIED:20260310T134802Z
UID:10001027-1773486000-1773493200@serenityknoll.com
SUMMARY:AUTHENTIC MEXICAN BREAKFAST w/ HERMAN GARCIA\, MARCH 14TH at 11AM\, $65 PER PERSON\, BYOB
DESCRIPTION:Are you saddened by the fact that you can’t find a great Mexican breakfast here in our area? Get ready to change that with this class by learning to prepare Migas Chilaquiles and Huevos Rancheros\, plus you’ll learn to make Herman’s famous Red and Green salsas\, which are great on pretty much everything.
URL:https://serenityknoll.com/event/authentic-mexican-breakfast-w-herman-garcia-march-14th-at-11am-65-per-person-byob/
LOCATION:Serenity Knoll Farm\, 542 Bacon Branch Rd\, Jonesborough\, TN\, 37659\, United States
CATEGORIES:Cooking
ATTACH;FMTTYPE=image/jpeg:https://serenityknoll.com/wp-content/uploads/2025/12/Mexican-breakfast.jpg
ORGANIZER;CN="Serenity Knoll Cooking School":MAILTO:sheridan@serenityknoll.com
END:VEVENT
BEGIN:VEVENT
DTSTART;TZID=America/New_York:20260314T180000
DTEND;TZID=America/New_York:20260314T200000
DTSTAMP:20260420T215652
CREATED:20260220T162816Z
LAST-MODIFIED:20260220T162816Z
UID:10001080-1773511200-1773518400@serenityknoll.com
SUMMARY:PIEROGI CLASS w/ NANCY KING\, MARCH 14TH at 6PM\, $65 PER PERSON\, BYOB
DESCRIPTION:A Pierogi is a Polish Dumpling with Potato and Cheese filling\, sautéed in butter with sliced onion until golden brown. They are served with sour cream on the side. Nancy’s family had a Polish Tavern in Pittsburgh\, PA\, for 33 years\, so authenticity is guaranteed! You need this skill in your repertoire!
URL:https://serenityknoll.com/event/pierogi-class-w-nancy-king-march-14th-at-6pm-65-per-person-byob/
LOCATION:Serenity Knoll Farm\, 542 Bacon Branch Rd\, Jonesborough\, TN\, 37659\, United States
CATEGORIES:Cooking
ATTACH;FMTTYPE=image/jpeg:https://serenityknoll.com/wp-content/uploads/2026/02/Nancys-pierogi.jpg
ORGANIZER;CN="Serenity Knoll Cooking School":MAILTO:sheridan@serenityknoll.com
END:VEVENT
END:VCALENDAR