BEGIN:VCALENDAR
VERSION:2.0
PRODID:-//Serenity Knoll - ECPv6.10.1.1//NONSGML v1.0//EN
CALSCALE:GREGORIAN
METHOD:PUBLISH
X-WR-CALNAME:Serenity Knoll
X-ORIGINAL-URL:https://serenityknoll.com
X-WR-CALDESC:Events for Serenity Knoll
REFRESH-INTERVAL;VALUE=DURATION:PT1H
X-Robots-Tag:noindex
X-PUBLISHED-TTL:PT1H
BEGIN:VTIMEZONE
TZID:America/New_York
BEGIN:DAYLIGHT
TZOFFSETFROM:-0500
TZOFFSETTO:-0400
TZNAME:EDT
DTSTART:20250309T070000
END:DAYLIGHT
BEGIN:STANDARD
TZOFFSETFROM:-0400
TZOFFSETTO:-0500
TZNAME:EST
DTSTART:20251102T060000
END:STANDARD
END:VTIMEZONE
BEGIN:VEVENT
DTSTART;TZID=America/New_York:20251214T150000
DTEND;TZID=America/New_York:20251214T173000
DTSTAMP:20260422T165841
CREATED:20250805T144040Z
LAST-MODIFIED:20251116T130929Z
UID:10000918-1765724400-1765733400@serenityknoll.com
SUMMARY:CHRISTMAS FRENCH MACARON WORKSHOP w/ CHEF ANGELA BOWES\, DECEMBER 14TH at 3PM\, $75 PER PERSON
DESCRIPTION:Have you ever wanted to make beautiful\, delicious French macarons? Now’s your chance—with a festive twist! Join Chef Angela from Cakes By Angela in this hands-on holiday workshop at Serenity Knoll Cooking School\, you’ll learn every step of the macaron-making process—from mixing and piping to filling and assembling. No experience needed! This class is open to all ages and perfect for beginners and baking enthusiasts alike. We’ll be celebrating the season with irresistible Christmas-inspired flavors like:\n✨ Gingerbread\n✨ Egg Nog\n✨ Peppermint Bark\n✨ Hot Chocolate\n✨ Pecan Turtle\nAll recipes are included\, and you’ll leave with a box of stunning macarons and the confidence to recreate them at home. Join us for a sweet\, joyful\, and unforgettable macaron experience—just in time for the holidays!
URL:https://serenityknoll.com/event/christmas-french-macaron-workshop-w-chef-angela-bowes-december-14th-at-3pm-75-per-person/
LOCATION:Serenity Knoll Farm\, 542 Bacon Branch Rd\, Jonesborough\, TN\, 37659\, United States
CATEGORIES:Cooking
ATTACH;FMTTYPE=image/jpeg:https://serenityknoll.com/wp-content/uploads/2025/04/Holiday-macarons.jpg
ORGANIZER;CN="Serenity Knoll Cooking School":MAILTO:sheridan@serenityknoll.com
END:VEVENT
BEGIN:VEVENT
DTSTART;TZID=America/New_York:20251217T163000
DTEND;TZID=America/New_York:20251217T180000
DTSTAMP:20260422T165841
CREATED:20251125T201647Z
LAST-MODIFIED:20251125T201647Z
UID:10000995-1765989000-1765994400@serenityknoll.com
SUMMARY:BREAKFAST FOR DINNER KID'S CLASS w/ DAVID WILEY\, DECEMBER 17TH\, 4:30 - 6PM\, $35 PER PERSON\, AGES 6 - 12\, MUST BE ACCOMPANIED BY AN ADULT
DESCRIPTION:Join us for a fun hands-on cooking adventure where kids will make and flip mini pancakes\, make cheesy breakfast quesadillas\, and build their own colorful yogurt parfaits! Perfect for kids who love to cook—or love to eat. It’s messy\, delicious\, creative\, and 100% kid-approved.
URL:https://serenityknoll.com/event/breakfast-for-dinner-kids-class-w-david-wiley-december-17th-430-6pm-35-per-person-ages-6-12-must-be-accompanied-by-an-adult/
LOCATION:Serenity Knoll Farm\, 542 Bacon Branch Rd\, Jonesborough\, TN\, 37659\, United States
CATEGORIES:Cooking
ATTACH;FMTTYPE=image/jpeg:https://serenityknoll.com/wp-content/uploads/2025/11/annie-spratt-UyEmagArOLY-unsplash-scaled.jpg
ORGANIZER;CN="Serenity Knoll Cooking School":MAILTO:sheridan@serenityknoll.com
END:VEVENT
BEGIN:VEVENT
DTSTART;TZID=America/New_York:20251218T180000
DTEND;TZID=America/New_York:20251218T200000
DTSTAMP:20260422T165841
CREATED:20251017T121124Z
LAST-MODIFIED:20251017T121124Z
UID:10000972-1766080800-1766088000@serenityknoll.com
SUMMARY:COOKIE DECORATING CLASS w/ CHEF ANGELA BOWES\, DECEMBER 18TH at 6PM\, $65 PER PERSON
DESCRIPTION:Get into the holiday spirit with a sweet and festive hands-on class! You’ll decorate six Christmas-themed sugar cookies using three fun techniques:\nRoyal Icing – Perfect for smooth snowflakes and ornaments.\nButtercream – Great for piping Christmas florals.\nFondant – Ideal for creating textured mittens.\nWhether you’re a beginner or a seasoned baker\, this class is open to all ages and skill levels! Join Angela from Cakes By Angela at Serenity Knoll Cooking School and create edible works of art that are sure to impress your family and friends this holiday season. What’s Included:\n✔️ Step-by-step holiday-themed instruction in a fun\, relaxed setting\n✔️ All decorating tools and materials provided\n✔️ Take-home recipes to keep the cookie magic going\n✔️ Your own set of six beautifully decorated Christmas cookies\nSpots are limited—we will provide the aprons and join the festive fun!
URL:https://serenityknoll.com/event/cookie-decorating-class-w-chef-angela-bowes-december-18th-at-6pm-65-per-person/
LOCATION:Serenity Knoll Farm\, 542 Bacon Branch Rd\, Jonesborough\, TN\, 37659\, United States
ATTACH;FMTTYPE=image/jpeg:https://serenityknoll.com/wp-content/uploads/2024/07/jpgsugarcookiewinter.jpg
ORGANIZER;CN="Serenity Knoll Cooking School":MAILTO:sheridan@serenityknoll.com
END:VEVENT
BEGIN:VEVENT
DTSTART;TZID=America/New_York:20251219T180000
DTEND;TZID=America/New_York:20251219T200000
DTSTAMP:20260422T165841
CREATED:20251126T160138Z
LAST-MODIFIED:20251217T130847Z
UID:10000999-1766167200-1766174400@serenityknoll.com
SUMMARY:LOADED NACHO MADNESS & MOCKTAIL BAR w/ CHEF EVAN WATERS\, DECEMBER 19TH at 6PM\, $50 PER PERSON
DESCRIPTION:Join us for a Holiday Break Kickoff Class for College Students. A hands-on cooking party where students will build outrageous\, Instagram-worthy nacho trays and master a set of fresh mocktails. Also\, we’ll have nacho trivia\, a group photo as “Loaded Madness Champions\,” and door prizes for the “Most Creative Nacho Build.” Students will enjoy mini queso cups\, street corn dip shooters\, and guacamole as they settle in for the class. Students will take home printed recipe cards for nachos and mocktails. Help start your holiday break deliciously!!
URL:https://serenityknoll.com/event/loaded-nacho-madness-mocktail-bar-w-chef-evan-waters-december-19th-at-6pm-50-per-person/
LOCATION:Serenity Knoll Farm\, 542 Bacon Branch Rd\, Jonesborough\, TN\, 37659\, United States
CATEGORIES:Cooking
ATTACH;FMTTYPE=image/jpeg:https://serenityknoll.com/wp-content/uploads/2025/11/gourmet-nachos.jpg
ORGANIZER;CN="Serenity Knoll Cooking School":MAILTO:sheridan@serenityknoll.com
END:VEVENT
BEGIN:VEVENT
DTSTART;TZID=America/New_York:20251220T110000
DTEND;TZID=America/New_York:20251220T130000
DTSTAMP:20260422T165841
CREATED:20251124T202556Z
LAST-MODIFIED:20251219T032839Z
UID:10000990-1766228400-1766235600@serenityknoll.com
SUMMARY:HOLIDAY BAKLAVA w/ CHEF KARLA GRIMALDI\, DECEMBER 20TH AT 11AM\, $65 PER PERSON
DESCRIPTION:Join our resident Greek expert\, Chef Karla\, for this delicious dessert class. Greek holiday baklava is a traditional dessert featuring layers of phyllo dough\, a spiced nut filling (usually walnuts\, but sometimes a mix with almonds and pistachios)\, and a rich syrup made from honey\, sugar\, and spices.
URL:https://serenityknoll.com/event/holiday-baklava-w-chef-karla-grimaldi-december-20th-at-11am-65-per-person/
LOCATION:Serenity Knoll Farm\, 542 Bacon Branch Rd\, Jonesborough\, TN\, 37659\, United States
CATEGORIES:Cooking
ATTACH;FMTTYPE=image/jpeg:https://serenityknoll.com/wp-content/uploads/2025/09/Baklaka-Recipe-S1-1.jpg
ORGANIZER;CN="Serenity Knoll Cooking School":MAILTO:sheridan@serenityknoll.com
END:VEVENT
BEGIN:VEVENT
DTSTART;TZID=America/New_York:20251220T180000
DTEND;TZID=America/New_York:20251220T200000
DTSTAMP:20260422T165841
CREATED:20251111T130146Z
LAST-MODIFIED:20251111T130146Z
UID:10000983-1766253600-1766260800@serenityknoll.com
SUMMARY:SOUTHERN ITALIAN DINNER w/ PRISCILLA HUTTO\, DECEMBER 20TH at 6PM\, $75 PER PERSON\, BYOB
DESCRIPTION:Have you ever been to a Southern Italian dinner? Well\, this is your chance. During this class\, we will be serving four different courses. As you arrive\, we will serve different antipasti like Caprese salad\, bread with olive oil\, mozzarella\, Prosciutto\, olives\, and grilled zucchini with goat cheese. Then the class will begin\, and we will do our first course together. We will make fresh pasta together; you will learn how to make pasta from scratch. The second course we will make will be Fresh Salmon Meatballs served with Italian Rosemary-Baked Potatoes. For dessert\, we will have an amazing Tiramisu.  Don’t miss this unique culinary experience. Whether you’re a food lover or an aspiring chef\, this night promises to be delicious\, fun\, and unforgettable!
URL:https://serenityknoll.com/event/southern-italian-dinner-w-priscilla-hutto-december-20th-at-6pm-75-per-person-byob/
LOCATION:Serenity Knoll Farm\, 542 Bacon Branch Rd\, Jonesborough\, TN\, 37659\, United States
CATEGORIES:Cooking
ATTACH;FMTTYPE=image/jpeg:https://serenityknoll.com/wp-content/uploads/2025/05/Italian-dinner-party-priscilla.jpg
ORGANIZER;CN="Serenity Knoll Cooking School":MAILTO:sheridan@serenityknoll.com
END:VEVENT
END:VCALENDAR