BEGIN:VCALENDAR
VERSION:2.0
PRODID:-//Serenity Knoll - ECPv6.10.1.1//NONSGML v1.0//EN
CALSCALE:GREGORIAN
METHOD:PUBLISH
X-WR-CALNAME:Serenity Knoll
X-ORIGINAL-URL:https://serenityknoll.com
X-WR-CALDESC:Events for Serenity Knoll
REFRESH-INTERVAL;VALUE=DURATION:PT1H
X-Robots-Tag:noindex
X-PUBLISHED-TTL:PT1H
BEGIN:VTIMEZONE
TZID:America/New_York
BEGIN:DAYLIGHT
TZOFFSETFROM:-0500
TZOFFSETTO:-0400
TZNAME:EDT
DTSTART:20250309T070000
END:DAYLIGHT
BEGIN:STANDARD
TZOFFSETFROM:-0400
TZOFFSETTO:-0500
TZNAME:EST
DTSTART:20251102T060000
END:STANDARD
END:VTIMEZONE
BEGIN:VEVENT
DTSTART;TZID=America/New_York:20250720T110000
DTEND;TZID=America/New_York:20250720T130000
DTSTAMP:20260419T184941
CREATED:20250414T181243Z
LAST-MODIFIED:20250719T161040Z
UID:10000807-1753009200-1753016400@serenityknoll.com
SUMMARY:SUNDAY YOGA & BRUNCH\, w/ RACHAEL SANTIAGO\, JULY 20TH at 11AM\, $30 PER PERSON
DESCRIPTION:Join us for an hour of gentle Yoga in our open-air pavilion\, followed by a delicious and healthy brunch! This Yoga session is beginner-friendly\, and mats\, blocks\, bolsters\, and blankets will be available for use. The restrooms are onsite.
URL:https://serenityknoll.com/event/sunday-yoga-brunch-w-rachael-santiago-july-20th-at-11am-30-per-person/
LOCATION:Serenity Knoll Farm\, 542 Bacon Branch Rd\, Jonesborough\, TN\, 37659\, United States
CATEGORIES:Cooking,Yoga
ATTACH;FMTTYPE=image/jpeg:https://serenityknoll.com/wp-content/uploads/2023/09/yoga-SNF-scaled.jpg
ORGANIZER;CN="Serenity Knoll Cooking School":MAILTO:sheridan@serenityknoll.com
END:VEVENT
BEGIN:VEVENT
DTSTART;TZID=America/New_York:20250720T150000
DTEND;TZID=America/New_York:20250720T170000
DTSTAMP:20260419T184941
CREATED:20250423T185515Z
LAST-MODIFIED:20250423T185515Z
UID:10000840-1753023600-1753030800@serenityknoll.com
SUMMARY:BEST BISCUITS EVER w/ DEIDRA HARRUFF\, JULY 20TH\, at 3PM\, $65.00 PER PERSON
DESCRIPTION:Join us for one of our favorite offerings: biscuit bonanza! This class\, taught by Chef Deidra Harruff\, will give you the confidence and knowledge to make the most perfect biscuit. If you love those flaky\, buttery layers but have yet to perfect the recipe\, this IS the class for you. In this class\, you’ll not only learn about plain biscuits\, but we will also make cinnamon rolls\, scones\, chive and cheddar biscuits. What else makes the perfect biscuit meal? Gravy\, of course! Deidra will also show you how to make the most flavorful sausage gravy to accompany the many biscuits you’ll make in this class. Everyone will make some\, and everyone will take some home!
URL:https://serenityknoll.com/event/best-biscuits-ever-w-deidra-harruff-july-20th-at-3pm-65-00-per-person/
LOCATION:Serenity Knoll Farm\, 542 Bacon Branch Rd\, Jonesborough\, TN\, 37659\, United States
CATEGORIES:Cooking
ATTACH;FMTTYPE=image/jpeg:https://serenityknoll.com/wp-content/uploads/2024/12/Depositphotos_238401750_XL-scaled.jpg
ORGANIZER;CN="Serenity Knoll Cooking School":MAILTO:sheridan@serenityknoll.com
END:VEVENT
BEGIN:VEVENT
DTSTART;TZID=America/New_York:20250723T190000
DTEND;TZID=America/New_York:20250723T200000
DTSTAMP:20260419T184941
CREATED:20250413T122851Z
LAST-MODIFIED:20250624T130104Z
UID:10000802-1753297200-1753300800@serenityknoll.com
SUMMARY:WEDNESDAY SUNSET YOGA w/ SUANY DIAZ – Free 7-8 pm
DESCRIPTION:July 23rd session led by Suany Diaz. Spring/ Summer Sunset Yoga Series at Serenity Knoll Farm! We are showcasing many of our area’s newest yoga teachers! Join us for an hour of gentle Yoga in our open-air pavilion! Yoga sessions are always beginner-friendly. We have extra mats\, blocks\, bolsters\, blankets\, and restrooms available for use. This event is Free\, but please sign up! Rain or Shine.
URL:https://serenityknoll.com/event/wednesday-sunset-yoga-free-7-8-pm-12/
LOCATION:Serenity Knoll Farm\, 542 Bacon Branch Rd\, Jonesborough\, TN\, 37659\, United States
CATEGORIES:Yoga
ATTACH;FMTTYPE=image/jpeg:https://serenityknoll.com/wp-content/uploads/2023/05/Yoga-Jonesborough.jpeg
ORGANIZER;CN="Serenity Knoll Cooking School":MAILTO:sheridan@serenityknoll.com
END:VEVENT
BEGIN:VEVENT
DTSTART;TZID=America/New_York:20250724T180000
DTEND;TZID=America/New_York:20250724T200000
DTSTAMP:20260419T184941
CREATED:20250609T160821Z
LAST-MODIFIED:20250609T160821Z
UID:10000878-1753380000-1753387200@serenityknoll.com
SUMMARY:GREEK STREET FOOD w/ CHEF KARLA GRIMALDI\, JULY 24TH at 6PM\, $75 PER PERSON
DESCRIPTION:Perfect dinner for a hot summer night:\nHoriatiki-classic Greek salad\, Marinated and grilled pork and lamb souvlaki\, with Tzatziki Sauce\, Kolokithokeftedes- Zuchhini Fritters\, and Tomatokeftedes-Tomato & Feta Fritters. While you enjoy your dinner\, Chef Karla will prepare Loukoumades\, honey-dipped Greek donuts for dessert.
URL:https://serenityknoll.com/event/greek-street-food-w-chef-karla-grimaldi-july-24th-at-6pm-75-per-person/
LOCATION:Serenity Knoll Farm\, 542 Bacon Branch Rd\, Jonesborough\, TN\, 37659\, United States
CATEGORIES:Cooking
ATTACH;FMTTYPE=image/jpeg:https://serenityknoll.com/wp-content/uploads/2025/05/GREEK-STREET-FOOD.jpg
ORGANIZER;CN="Serenity Knoll Cooking School":MAILTO:sheridan@serenityknoll.com
END:VEVENT
BEGIN:VEVENT
DTSTART;TZID=America/New_York:20250725T180000
DTEND;TZID=America/New_York:20250725T200000
DTSTAMP:20260419T184941
CREATED:20250711T114738Z
LAST-MODIFIED:20250711T114738Z
UID:10000885-1753466400-1753473600@serenityknoll.com
SUMMARY:CAREFREE SUMMER NIGHTS w/ CHEFS JOHN & ASHLEY KOSKO\, JULY 25TH at 6PM\, $65 PER PERSON. BYOB
DESCRIPTION:Join John and Ashley to prepare a perfect summer evening meal. Heirloom Tomato & Burrata Salad with Basil Oil\, Grilled Citrus & Herb Shrimp Skewers with Summer corn Salad\, Chilled Orzo Salad with Grilled Vegetables & Lemon Vinaigrette\, and Peach & Berry Shortcakes with Fresh Whipped Cream for dessert.
URL:https://serenityknoll.com/event/carefree-summer-nights-w-chefs-john-ashley-kosko-july-25th-at-6pm-65-per-person-byob/
LOCATION:Serenity Knoll Farm\, 542 Bacon Branch Rd\, Jonesborough\, TN\, 37659\, United States
CATEGORIES:Cooking
ATTACH;FMTTYPE=image/jpeg:https://serenityknoll.com/wp-content/uploads/2025/07/shrimp-skewers.jpg
ORGANIZER;CN="Serenity Knoll Cooking School":MAILTO:sheridan@serenityknoll.com
END:VEVENT
BEGIN:VEVENT
DTSTART;TZID=America/New_York:20250726T110000
DTEND;TZID=America/New_York:20250726T130000
DTSTAMP:20260419T184941
CREATED:20250516T110203Z
LAST-MODIFIED:20250516T110203Z
UID:10000850-1753527600-1753534800@serenityknoll.com
SUMMARY:JAMS AND JELLIES\, BERRY BLAST w/ ELLEN HARBIN-DABBS\, JULY 26TH at 11:00 AM\, $40 PER PERSON
DESCRIPTION:The yummy summer berries are coming in\, but what do we do with the abundance of our berries. We have so many different types of berries. Do we freeze them? OR LET’S MAKE JAMS!!!! We will learn the differences between the different types of spreads and how to make and can them. We will even get to eat some of our yummy creations. You will need 1/2 pint jelly jars\, lids and rings\, to take your goodies home. \nEllen Harbin-Dabbs is a Tennessee native. Growing up in Tennessee State Parks\, she learned many traditional skills that many have forgotten. She was taught the ways of the hearth by her mother and grandmother\, Nanny. She was taught the outdoors by her father\, who was an outdoors instructor and park ranger. Her adventures and recipes will keep you entertained as she passes along the knowledge of her mountain kin. She’s always learning ways to live a simpler life.
URL:https://serenityknoll.com/event/jams-and-jellies-berry-blast-w-ellen-harbin-dabbs-july-26th-at-1100-am-40-per-person/
LOCATION:Serenity Knoll Farm\, 542 Bacon Branch Rd\, Jonesborough\, TN\, 37659\, United States
CATEGORIES:Cooking
ATTACH;FMTTYPE=image/jpeg:https://serenityknoll.com/wp-content/uploads/2025/05/berries-for-jams.jpg
ORGANIZER;CN="Serenity Knoll Cooking School":MAILTO:sheridan@serenityknoll.com
END:VEVENT
BEGIN:VEVENT
DTSTART;TZID=America/New_York:20250726T180000
DTEND;TZID=America/New_York:20250726T200000
DTSTAMP:20260419T184941
CREATED:20250609T122450Z
LAST-MODIFIED:20250609T122450Z
UID:10000877-1753552800-1753560000@serenityknoll.com
SUMMARY:AUTHENTIC HOMEMADE PASTA w/ PRISCILLA HUTTO\, JULY 26TH at 6PM\,  $65 PER PERSON\, BYOB 
DESCRIPTION:In this class\, you will learn how to make fresh pasta with various shapes using mainly your hands and simple tools. This class is a way to learn something new\, create fun memories\, and bring home what you learn into your kitchen. At the end of the class\, we will cook and taste the pasta we make. Priscilla Hutto was raised in Italy with a dad who is a chef and grandparents who made food from scratch most of their lives; she learned the beauty of making food from scratch and the striking difference in taste.
URL:https://serenityknoll.com/event/authentic-homemade-pasta-w-priscilla-hutto-july-26th-at-6pm-65-per-person-byob/
LOCATION:Serenity Knoll Farm\, 542 Bacon Branch Rd\, Jonesborough\, TN\, 37659\, United States
CATEGORIES:Cooking
ATTACH;FMTTYPE=image/jpeg:https://serenityknoll.com/wp-content/uploads/2025/03/pasta-class-Priscilla.jpg
ORGANIZER;CN="Serenity Knoll Cooking School":MAILTO:sheridan@serenityknoll.com
END:VEVENT
END:VCALENDAR