BEGIN:VCALENDAR
VERSION:2.0
PRODID:-//Serenity Knoll - ECPv6.10.1.1//NONSGML v1.0//EN
CALSCALE:GREGORIAN
METHOD:PUBLISH
X-WR-CALNAME:Serenity Knoll
X-ORIGINAL-URL:https://serenityknoll.com
X-WR-CALDESC:Events for Serenity Knoll
REFRESH-INTERVAL;VALUE=DURATION:PT1H
X-Robots-Tag:noindex
X-PUBLISHED-TTL:PT1H
BEGIN:VTIMEZONE
TZID:America/New_York
BEGIN:DAYLIGHT
TZOFFSETFROM:-0500
TZOFFSETTO:-0400
TZNAME:EDT
DTSTART:20250309T070000
END:DAYLIGHT
BEGIN:STANDARD
TZOFFSETFROM:-0400
TZOFFSETTO:-0500
TZNAME:EST
DTSTART:20251102T060000
END:STANDARD
END:VTIMEZONE
BEGIN:VEVENT
DTSTART;TZID=America/New_York:20250706T160000
DTEND;TZID=America/New_York:20250706T180000
DTSTAMP:20260421T141144
CREATED:20250601T123408Z
LAST-MODIFIED:20250601T123408Z
UID:10000866-1751817600-1751824800@serenityknoll.com
SUMMARY:AUTHENTIC HOMEMADE RAVIOLI w/ PRISCILLA HUTTO\, JULY 6TH AT 4 PM\, BYOB
DESCRIPTION:In this class\, you’ll learn how to make ravioli from scratch\, from the dough to the filling to the delightful sound of Italian music in the background! We will serve dinner after the class with a side salad and a dessert! Priscilla Hutto was born and raised in Italy. With a dad who is a chef and grandparents who made food from scratch most of their lives\, she learned the beauty of making food from scratch and the striking difference in taste.
URL:https://serenityknoll.com/event/authentic-homemade-ravioli-w-priscilla-hutto-july-6th-at-4-pm-byob/
LOCATION:Serenity Knoll Farm\, 542 Bacon Branch Rd\, Jonesborough\, TN\, 37659\, United States
CATEGORIES:Cooking
ATTACH;FMTTYPE=image/jpeg:https://serenityknoll.com/wp-content/uploads/2025/03/pasta-class-Priscilla.jpg
ORGANIZER;CN="Serenity Knoll Cooking School":MAILTO:sheridan@serenityknoll.com
END:VEVENT
BEGIN:VEVENT
DTSTART;TZID=America/New_York:20250709T190000
DTEND;TZID=America/New_York:20250709T200000
DTSTAMP:20260421T141144
CREATED:20250413T122258Z
LAST-MODIFIED:20250413T122258Z
UID:10000800-1752087600-1752091200@serenityknoll.com
SUMMARY:Wednesday Sunset Yoga – Free 7-8 pm
DESCRIPTION:July 9th session led by Scott Sanders. Spring/ Summer Sunset Yoga Series at Serenity Knoll Farm! We are showcasing many of our area’s newest yoga teachers! Join us for an hour of gentle Yoga in our open-air pavilion! Yoga sessions are always beginner-friendly. We have extra mats\, blocks\, bolsters\, blankets\, and restrooms available for use. This event is Free\, but please sign up! Rain or Shine.
URL:https://serenityknoll.com/event/wednesday-sunset-yoga-free-7-8-pm-10/
LOCATION:Serenity Knoll Farm\, 542 Bacon Branch Rd\, Jonesborough\, TN\, 37659\, United States
CATEGORIES:Yoga
ATTACH;FMTTYPE=image/jpeg:https://serenityknoll.com/wp-content/uploads/2023/09/yoga-SNF-scaled.jpg
ORGANIZER;CN="Serenity Knoll Cooking School":MAILTO:sheridan@serenityknoll.com
END:VEVENT
BEGIN:VEVENT
DTSTART;TZID=America/New_York:20250710T180000
DTEND;TZID=America/New_York:20250710T200000
DTSTAMP:20260421T141144
CREATED:20250609T121702Z
LAST-MODIFIED:20250609T121702Z
UID:10000876-1752170400-1752177600@serenityknoll.com
SUMMARY:INDIAN BIRYANI w/ CHEF KARLA GRIMALDI\, JULY 10TH at 6PM\, $75 PER PERSON\, BYOB
DESCRIPTION:We’ll make two types of Biryani\, one with chicken and one with lamb. You’ll also prepare a Spiced Lentil Soup\, a Refreshing Kachumber Salad\, and homemade Naan Bread!
URL:https://serenityknoll.com/event/indian-biryani-w-chef-karla-grimaldi-july-10th-at-6pm-75-per-person-byob/
LOCATION:Serenity Knoll Farm\, 542 Bacon Branch Rd\, Jonesborough\, TN\, 37659\, United States
CATEGORIES:Cooking
ATTACH;FMTTYPE=image/jpeg:https://serenityknoll.com/wp-content/uploads/2025/06/Biryani-Karla.jpg
ORGANIZER;CN="Serenity Knoll Cooking School":MAILTO:sheridan@serenityknoll.com
END:VEVENT
BEGIN:VEVENT
DTSTART;TZID=America/New_York:20250711T180000
DTEND;TZID=America/New_York:20250711T200000
DTSTAMP:20260421T141144
CREATED:20250407T145335Z
LAST-MODIFIED:20250407T145335Z
UID:10000785-1752256800-1752264000@serenityknoll.com
SUMMARY:SUGAR COOKIE DECORATING CLASS w/ANGELA BOWES\, JULY 11TH at 6PM\, $65 PER PERSON
DESCRIPTION:Have you ever wanted to create beautifully decorated sugar cookies? Now’s your chance! In this hands-on class\, you’ll decorate six sugar cookies using three different techniques:\nRoyal Icing – Smooth\, elegant designs perfect for intricate details\n Buttercream – Soft\, textured piping for a classic\, delicious look\nFondant – Create polished\, professional-style decorations\nNo experience? No problem! This class is open to all ages and perfect for beginners and seasoned bakers alike. Join us at Serenity Knoll Cooking School and discover how fun and rewarding cookie decorating can be!\nWhat’s Included:\n✔️ Step-by-step guidance in a fun\, relaxed setting\n✔️ All decorating tools and materials provided\n✔️ Take-home recipes so you can recreate your designs\n✔️ Your own set of six beautifully decorated cookies\nSpots are limited—sign up today and bring your creativity!
URL:https://serenityknoll.com/event/sugar-cookie-decorating-class-w-angela-bowes-july-11th-at-6pm-65-per-person/
LOCATION:Serenity Knoll Farm\, 542 Bacon Branch Rd\, Jonesborough\, TN\, 37659\, United States
CATEGORIES:Cooking
ATTACH;FMTTYPE=image/png:https://serenityknoll.com/wp-content/uploads/2024/05/angela-summer-sugar-cookies.png
ORGANIZER;CN="Serenity Knoll Cooking School":MAILTO:sheridan@serenityknoll.com
END:VEVENT
BEGIN:VEVENT
DTSTART;TZID=America/New_York:20250712T180000
DTEND;TZID=America/New_York:20250712T200000
DTSTAMP:20260421T141144
CREATED:20250601T124120Z
LAST-MODIFIED:20250604T123432Z
UID:10000867-1752343200-1752350400@serenityknoll.com
SUMMARY:SOUTHERN ITALIAN DINNER w/ PRISCILLA HUTTO\, JULY 12TH at 6PM\, $75 PER PERSON\, BYOB 
DESCRIPTION:Have you ever been to a Southern Italian dinner? Well\, this is your chance. During this class\, we will be serving four different courses. As you arrive\, we will serve different antipasti like Caprese salad\, bread with olive oil\, mozzarella\, Prosciutto\, olives\, and grilled zucchini with goat cheese. Then the class will begin\, and we will do our first course together. We will make fresh pasta together; you will learn how to make pasta from scratch. The second course we will make will be Fresh Salmon Meatballs served with Italian Rosemary-Baked Potatoes. For dessert\, we will have an amazing Tiramisu.  Don’t miss this unique culinary experience. Whether you’re a food lover or an aspiring chef\, this night promises to be delicious\, fun\, and unforgettable!
URL:https://serenityknoll.com/event/southern-italian-dinner-w-priscilla-hutto-july-12th-at-6pm-75-per-person-byob/
LOCATION:Serenity Knoll Farm\, 542 Bacon Branch Rd\, Jonesborough\, TN\, 37659\, United States
CATEGORIES:Cooking
ATTACH;FMTTYPE=image/jpeg:https://serenityknoll.com/wp-content/uploads/2025/05/Italian-dinner-party-priscilla.jpg
ORGANIZER;CN="Serenity Knoll Cooking School":MAILTO:sheridan@serenityknoll.com
END:VEVENT
END:VCALENDAR