BEGIN:VCALENDAR
VERSION:2.0
PRODID:-//Serenity Knoll - ECPv6.10.1.1//NONSGML v1.0//EN
CALSCALE:GREGORIAN
METHOD:PUBLISH
X-WR-CALNAME:Serenity Knoll
X-ORIGINAL-URL:https://serenityknoll.com
X-WR-CALDESC:Events for Serenity Knoll
REFRESH-INTERVAL;VALUE=DURATION:PT1H
X-Robots-Tag:noindex
X-PUBLISHED-TTL:PT1H
BEGIN:VTIMEZONE
TZID:America/New_York
BEGIN:DAYLIGHT
TZOFFSETFROM:-0500
TZOFFSETTO:-0400
TZNAME:EDT
DTSTART:20250309T070000
END:DAYLIGHT
BEGIN:STANDARD
TZOFFSETFROM:-0400
TZOFFSETTO:-0500
TZNAME:EST
DTSTART:20251102T060000
END:STANDARD
END:VTIMEZONE
BEGIN:VEVENT
DTSTART;TZID=America/New_York:20250629T110000
DTEND;TZID=America/New_York:20250629T130000
DTSTAMP:20260419T134230
CREATED:20250325T160924Z
LAST-MODIFIED:20250531T123849Z
UID:10000770-1751194800-1751202000@serenityknoll.com
SUMMARY:SUNDAY YOGA & BRUNCH w/ KERRY FERGUSON\, JUNE 29TH at 11AM\, $30 PER PERSON
DESCRIPTION:Join us for an hour of gentle yoga in our open-air pavilion\, followed by a delicious and healthy brunch! Yoga sessions are beginner-friendly\, and mats\, blocks\, bolsters\, and blankets will be available. Restrooms are also available.
URL:https://serenityknoll.com/event/sunday-yoga-brunch-w-kerry-ferguson-june-29th-at-11am-30-per-person/
LOCATION:Serenity Knoll Farm\, 542 Bacon Branch Rd\, Jonesborough\, TN\, 37659\, United States
CATEGORIES:Yoga
ATTACH;FMTTYPE=image/jpeg:https://serenityknoll.com/wp-content/uploads/2023/09/yoga-SNF-scaled.jpg
ORGANIZER;CN="Serenity Knoll Cooking School":MAILTO:sheridan@serenityknoll.com
END:VEVENT
BEGIN:VEVENT
DTSTART;TZID=America/New_York:20250629T160000
DTEND;TZID=America/New_York:20250629T180000
DTSTAMP:20260419T134230
CREATED:20250419T130451Z
LAST-MODIFIED:20250616T132517Z
UID:10000829-1751212800-1751220000@serenityknoll.com
SUMMARY:FRESH FLAVORS COOKING CLASS w/ MYRA CARDENAS\, JUNE 29TH at 4PM\, $65 PER PERSON\, BYOB
DESCRIPTION:Join Myra for a deliciously fun hands-on cooking class celebrating bright\, fresh flavors perfect for spring and summer! We’ll start with a vibrant Spinach\, Feta & Berry Salad topped with a refreshing homemade vinaigrette that’s as easy as it is flavorful. Then we’ll move into the main dish: a comforting Cherry Tomato\, Garlic & Herb Cheese Pasta paired with perfectly grilled chicken for a satisfying\, crowd-pleasing entrée. And to sweeten the evening\, we’ll wrap it all up with a colorful\, made-from-scratch Fruit Pizza—a light and fun dessert that’s as pretty as it is tasty.
URL:https://serenityknoll.com/event/fresh-flavors-cooking-class-w-myra-cardenas-june-29th-at-4pm-65-per-person-byob/
LOCATION:Serenity Knoll Farm\, 542 Bacon Branch Rd\, Jonesborough\, TN\, 37659\, United States
CATEGORIES:Cooking
ATTACH;FMTTYPE=image/jpeg:https://serenityknoll.com/wp-content/uploads/2025/04/Myras-pasta-spring.jpg
ORGANIZER;CN="Serenity Knoll Cooking School":MAILTO:sheridan@serenityknoll.com
END:VEVENT
BEGIN:VEVENT
DTSTART;TZID=America/New_York:20250702T190000
DTEND;TZID=America/New_York:20250702T200000
DTSTAMP:20260419T134230
CREATED:20250413T122016Z
LAST-MODIFIED:20250413T122016Z
UID:10000799-1751482800-1751486400@serenityknoll.com
SUMMARY:Wednesday Sunset Yoga – Free 7-8 pm
DESCRIPTION:July 2nd session led by Shamus Stevens. Spring/ Summer Sunset Yoga Series at Serenity Knoll Farm! We are showcasing many of our area’s newest yoga teachers! Join us for an hour of gentle Yoga in our open-air pavilion! Yoga sessions are always beginner-friendly. We have extra mats\, blocks\, bolsters\, blankets\, and restrooms available for use. This event is Free\, but please sign up! Rain or Shine.
URL:https://serenityknoll.com/event/wednesday-sunset-yoga-free-7-8-pm-9/
LOCATION:Serenity Knoll Farm\, 542 Bacon Branch Rd\, Jonesborough\, TN\, 37659\, United States
CATEGORIES:Yoga
ATTACH;FMTTYPE=image/jpeg:https://serenityknoll.com/wp-content/uploads/2023/09/yoga-SNF-scaled.jpg
ORGANIZER;CN="Serenity Knoll Cooking School":MAILTO:sheridan@serenityknoll.com
END:VEVENT
BEGIN:VEVENT
DTSTART;TZID=America/New_York:20250703T180000
DTEND;TZID=America/New_York:20250703T200000
DTSTAMP:20260419T134230
CREATED:20250520T123334Z
LAST-MODIFIED:20250625T134901Z
UID:10000853-1751565600-1751572800@serenityknoll.com
SUMMARY:PIZZA FROM SCRATCH W/ DAVID WILEY\, JULY 3RD\, at 6 pm\, $65.00\, BYOB
DESCRIPTION:This class will inspire you with simple but effective cooking techniques\, allow you to experience fresh\, local ingredients\, and give you the satisfaction of feeding people great food. Bring the whole family! We’ll make the pizza in the wood oven\, but you can easily do this in your home or backyard grill!
URL:https://serenityknoll.com/event/pizza-from-scratch-w-david-wiley-july-3rd-at-6-pm-65-00-byob/
LOCATION:TN
CATEGORIES:Cooking
ATTACH;FMTTYPE=image/jpeg:https://serenityknoll.com/wp-content/uploads/2023/09/pizza-new-scaled.jpg
ORGANIZER;CN="Serenity Knoll Cooking School":MAILTO:sheridan@serenityknoll.com
END:VEVENT
END:VCALENDAR