BEGIN:VCALENDAR
VERSION:2.0
PRODID:-//Serenity Knoll - ECPv6.10.1.1//NONSGML v1.0//EN
CALSCALE:GREGORIAN
METHOD:PUBLISH
X-WR-CALNAME:Serenity Knoll
X-ORIGINAL-URL:https://serenityknoll.com
X-WR-CALDESC:Events for Serenity Knoll
REFRESH-INTERVAL;VALUE=DURATION:PT1H
X-Robots-Tag:noindex
X-PUBLISHED-TTL:PT1H
BEGIN:VTIMEZONE
TZID:America/New_York
BEGIN:DAYLIGHT
TZOFFSETFROM:-0500
TZOFFSETTO:-0400
TZNAME:EDT
DTSTART:20250309T070000
END:DAYLIGHT
BEGIN:STANDARD
TZOFFSETFROM:-0400
TZOFFSETTO:-0500
TZNAME:EST
DTSTART:20251102T060000
END:STANDARD
END:VTIMEZONE
BEGIN:VEVENT
DTSTART;TZID=America/New_York:20250608T110000
DTEND;TZID=America/New_York:20250608T130000
DTSTAMP:20260419T103608
CREATED:20250325T155713Z
LAST-MODIFIED:20250607T202958Z
UID:10000767-1749380400-1749387600@serenityknoll.com
SUMMARY:SUNDAY YOGA & BRUNCH w/ SABRA SIMPSON\, JUNE 8TH at 11AM\, $30 PER PERSON
DESCRIPTION:Join us for an hour of gentle yoga in our open-air pavilion\, followed by a delicious and healthy brunch! Yoga sessions are beginner-friendly\, and mats\, blocks\, bolsters\, and blankets will be available. Restrooms are also available.
URL:https://serenityknoll.com/event/sunday-yoga-brunch-w-sabra-simpson-june-8th-at-11am-30-per-person/
LOCATION:Serenity Knoll Farm\, 542 Bacon Branch Rd\, Jonesborough\, TN\, 37659\, United States
CATEGORIES:Yoga
ATTACH;FMTTYPE=image/jpeg:https://serenityknoll.com/wp-content/uploads/2023/09/yoga-SNF-scaled.jpg
ORGANIZER;CN="Serenity Knoll Cooking School":MAILTO:sheridan@serenityknoll.com
END:VEVENT
BEGIN:VEVENT
DTSTART;TZID=America/New_York:20250608T160000
DTEND;TZID=America/New_York:20250608T180000
DTSTAMP:20260419T103608
CREATED:20250514T121618Z
LAST-MODIFIED:20250529T121728Z
UID:10000847-1749398400-1749405600@serenityknoll.com
SUMMARY:MEDITERRANEAN SUMMER DINNER PARTY w/ SHERIDAN NICE\, JUNE 8TH at 4PM\, $75 PER PERSON\, BYOB
DESCRIPTION:Join us to learn how to prepare a perfect menu for entertaining or for your family in the upcoming warmer months. Fresh Mediterranean Halibut w/Rosemary Cannellini Beans\, Tomato Sambal\, and Gremolata is the star of the show. Served with Baked Ricotta Crostini\, a seasonal salad and dessert to round out the meal.
URL:https://serenityknoll.com/event/mediterranean-summer-dinner-party-w-sheridan-nice-june-8th-at-4pm-75-per-person-byob/
LOCATION:Serenity Knoll Farm\, 542 Bacon Branch Rd\, Jonesborough\, TN\, 37659\, United States
CATEGORIES:Cooking
ATTACH;FMTTYPE=image/jpeg:https://serenityknoll.com/wp-content/uploads/2025/05/Mediterranean-Halibut.jpg
ORGANIZER;CN="Serenity Knoll Cooking School":MAILTO:sheridan@serenityknoll.com
END:VEVENT
BEGIN:VEVENT
DTSTART;TZID=America/New_York:20250611T190000
DTEND;TZID=America/New_York:20250611T200000
DTSTAMP:20260419T103608
CREATED:20250413T120820Z
LAST-MODIFIED:20250413T120820Z
UID:10000796-1749668400-1749672000@serenityknoll.com
SUMMARY:Wednesday Sunset Yoga – Free 7-8 pm
DESCRIPTION:June 11th session led by Christopher Eddy.\nSpring/ Summer Sunset Yoga Series at Serenity Knoll Farm! We are showcasing many of our area’s newest yoga teachers! Join us for an hour of gentle Yoga in our open-air pavilion! Yoga sessions are always beginner-friendly. We have extra mats\, blocks\, bolsters\, blankets\, and restrooms available for use. This event is Free\, but please sign up! Rain or Shine.
URL:https://serenityknoll.com/event/wednesday-sunset-yoga-free-7-8-pm-6/
LOCATION:Serenity Knoll Farm\, 542 Bacon Branch Rd\, Jonesborough\, TN\, 37659\, United States
CATEGORIES:Yoga
ATTACH;FMTTYPE=image/jpeg:https://serenityknoll.com/wp-content/uploads/2023/09/yoga-SNF-scaled.jpg
ORGANIZER;CN="Serenity Knoll Cooking School":MAILTO:sheridan@serenityknoll.com
END:VEVENT
BEGIN:VEVENT
DTSTART;TZID=America/New_York:20250612T180000
DTEND;TZID=America/New_York:20250612T200000
DTSTAMP:20260419T103608
CREATED:20250516T103325Z
LAST-MODIFIED:20250516T103325Z
UID:10000849-1749751200-1749758400@serenityknoll.com
SUMMARY:PIZZA FROM SCRATCH W/ DAVID WILEY\, JUNE 12TH at 6 pm\, $65.00\, BYOB
DESCRIPTION:This class will inspire you with simple but effective cooking techniques\, allow you to experience fresh\, local ingredients\, and give you the satisfaction of feeding people great food. Bring the whole family! We’ll make the pizza in the wood oven\, but you can easily do this in your home or backyard grill! This fun class will expand your culinary knowledge.
URL:https://serenityknoll.com/event/pizza-from-scratch-w-david-wiley-june-12th-at-6-pm-65-00-byob/
LOCATION:Serenity Knoll Farm\, 542 Bacon Branch Rd\, Jonesborough\, TN\, 37659\, United States
CATEGORIES:Cooking
ATTACH;FMTTYPE=image/jpeg:https://serenityknoll.com/wp-content/uploads/2023/09/pizza-new-scaled.jpg
ORGANIZER;CN="Serenity Knoll Cooking School":MAILTO:sheridan@serenityknoll.com
END:VEVENT
BEGIN:VEVENT
DTSTART;TZID=America/New_York:20250613T180000
DTEND;TZID=America/New_York:20250613T200000
DTSTAMP:20260419T103608
CREATED:20250404T132559Z
LAST-MODIFIED:20250404T132559Z
UID:10000780-1749837600-1749844800@serenityknoll.com
SUMMARY:NEW SERIES: REGIONAL AMERICAN\, NEW ENGLAND CLAMBAKE w/ CHEF KARLA GRIMALDI\, JUNE 13TH at 6PM\, $75 PER PERSON\, BYOB
DESCRIPTION:What better way to welcome the summer than with our new Regional American Series starting with a real New England Clam\nBake. We can’t dig a pit in the sand\, but we will be layering Red New Potatoes\, Corn on the cob\, Chorizo Sausage\, Clams\, Mussels\, and Shrimp\,  into a delicious shore dinner favorite! We will end our evening with Strawberry Shortcakes with local Berries. As always BYOB.
URL:https://serenityknoll.com/event/new-series-regional-american-new-england-clambake-w-chef-karla-grimaldi-june-13th-at-6pm-75-per-person-byob/
LOCATION:Serenity Knoll Farm\, 542 Bacon Branch Rd\, Jonesborough\, TN\, 37659\, United States
CATEGORIES:Cooking
ATTACH;FMTTYPE=image/jpeg:https://serenityknoll.com/wp-content/uploads/2025/04/New-England-Clambake.jpg
ORGANIZER;CN="Serenity Knoll Cooking School":MAILTO:sheridan@serenityknoll.com
END:VEVENT
BEGIN:VEVENT
DTSTART;TZID=America/New_York:20250614T110000
DTEND;TZID=America/New_York:20250614T130000
DTSTAMP:20260419T103608
CREATED:20250531T143521Z
LAST-MODIFIED:20250611T120939Z
UID:10000865-1749898800-1749906000@serenityknoll.com
SUMMARY:MAIN COURSE SUMMER SALADS & HOMEMADE DRESSINGS w/ CHEF SHERIDAN NICE\, JUNE 14TH AT 11AM\, $65 PER PERSON\, BYOB
DESCRIPTION:Say goodbye to boring salads! This summer cooking class will turn the humble salad into a vibrant\, satisfying main course using seasonal ingredients\, flavorful homemade dressings\, and perfectly cooked meats and seafood. You’ll learn how to build hearty\, balanced salads that eat like a meal—crunchy\, colorful\, and endlessly customizable. \nSeared Chili-Lime Shrimp with Creamy Avocado-Lime Dressing\, Green Goddess Chicken Salad\, and Greek Lamb Salad with Honey Lemon Vinaigrette. We’ll be serving a classic Aperol Spritz with the meal.  \n 
URL:https://serenityknoll.com/event/main-course-summer-salads-homemade-dressings-w-chef-sheridan-nice-june-14th-at-11am-65-per-person-byob/
LOCATION:Serenity Knoll Farm\, 542 Bacon Branch Rd\, Jonesborough\, TN\, 37659\, United States
CATEGORIES:Cooking
ATTACH;FMTTYPE=image/jpeg:https://serenityknoll.com/wp-content/uploads/2025/05/shrimp-salad.jpg
ORGANIZER;CN="Serenity Knoll Cooking School":MAILTO:sheridan@serenityknoll.com
END:VEVENT
BEGIN:VEVENT
DTSTART;TZID=America/New_York:20250614T180000
DTEND;TZID=America/New_York:20250614T200000
DTSTAMP:20260419T103608
CREATED:20250523T123347Z
LAST-MODIFIED:20250523T123347Z
UID:10000862-1749924000-1749931200@serenityknoll.com
SUMMARY:SUMMER SOLSTICE SUPPER: A FEAST TO WELCOME SUMMER w/ BRAD KROEKER\, JUNE 14TH at 6PM\, $70 PER PERSON\, BYOB!
DESCRIPTION:This class celebrates the approaching summer solstice with a fresh\, seasonal menu ideal for al fresco entertaining. Students will cook in pairs or small groups\, creating a vibrant\, Mediterranean-inspired meal that’s as enjoyable to prepare as it is to eat. We’ll focus on high-impact\, low-fuss dishes highlighting summer produce and elegant yet relaxed plating.\nCharred Peach & Burrata Crostini with Basil Oil and Smoked Sea Salt\nLemon-Herb Spatchcock Chicken with Salsa Verde\nGrilled Vegetable Orzo Salad with Feta\, Mint & Lemon Vinaigrette\nNo-Churn Honey-Lavender Ice Cream with Fresh Berries & Almond Crumble\n DIY Summer Shrub Mocktail (vinegar-based fruit drink)
URL:https://serenityknoll.com/event/brad-kroeker-june-14th-at-6pm-70-per-person-byob/
LOCATION:Serenity Knoll Farm\, 542 Bacon Branch Rd\, Jonesborough\, TN\, 37659\, United States
CATEGORIES:Cooking
ATTACH;FMTTYPE=image/jpeg:https://serenityknoll.com/wp-content/uploads/2025/05/summer-solstice-brad.jpg
ORGANIZER;CN="Serenity Knoll Cooking School":MAILTO:sheridan@serenityknoll.com
END:VEVENT
END:VCALENDAR