BEGIN:VCALENDAR
VERSION:2.0
PRODID:-//Serenity Knoll - ECPv6.10.1.1//NONSGML v1.0//EN
CALSCALE:GREGORIAN
METHOD:PUBLISH
X-WR-CALNAME:Serenity Knoll
X-ORIGINAL-URL:https://serenityknoll.com
X-WR-CALDESC:Events for Serenity Knoll
REFRESH-INTERVAL;VALUE=DURATION:PT1H
X-Robots-Tag:noindex
X-PUBLISHED-TTL:PT1H
BEGIN:VTIMEZONE
TZID:America/New_York
BEGIN:DAYLIGHT
TZOFFSETFROM:-0500
TZOFFSETTO:-0400
TZNAME:EDT
DTSTART:20240310T070000
END:DAYLIGHT
BEGIN:STANDARD
TZOFFSETFROM:-0400
TZOFFSETTO:-0500
TZNAME:EST
DTSTART:20241103T060000
END:STANDARD
END:VTIMEZONE
BEGIN:VEVENT
DTSTART;TZID=America/New_York:20240502T180000
DTEND;TZID=America/New_York:20240502T200000
DTSTAMP:20260423T162315
CREATED:20240415T162333Z
LAST-MODIFIED:20240415T162333Z
UID:10000497-1714672800-1714680000@serenityknoll.com
SUMMARY:PIZZA FROM SCRATCH W/ DAVID WILEY\, May 2nd\, at 6 pm\, $65.00 PER PERSON
DESCRIPTION:Join us for this fun class to make authentic Italian pizza. We’ll use the wood-fired pizza oven\, but you’ll leave with the knowledge and skills to easily replicate everyone’s favorite food at home\, in the oven\, or on the backyard grill!
URL:https://serenityknoll.com/event/pizza-from-scratch-w-david-wiley-may-2nd-at-6-pm-65-00-per-person/
LOCATION:Serenity Knoll Farm\, 542 Bacon Branch Rd\, Jonesborough\, TN\, 37659\, United States
CATEGORIES:Cooking
ATTACH;FMTTYPE=image/jpeg:https://serenityknoll.com/wp-content/uploads/2023/09/pizza-new-scaled.jpg
ORGANIZER;CN="Serenity Knoll Cooking School":MAILTO:sheridan@serenityknoll.com
END:VEVENT
BEGIN:VEVENT
DTSTART;TZID=America/New_York:20240505T080000
DTEND;TZID=America/New_York:20240505T170000
DTSTAMP:20260423T162315
CREATED:20240402T122627Z
LAST-MODIFIED:20240402T122627Z
UID:10000491-1714896000-1714928400@serenityknoll.com
SUMMARY:GENTLE YOGA & BRUNCH w/ CASEY SAGERS\, MAY 5TH\, at 11 AM\, $25 PER PERSON
DESCRIPTION:Join Casey Sagers for an hour of gentle yoga sessions open to beginners and experienced yogis. The yoga session will be held on our heated side porch or in the pavilion\, weather permitting\, and will be followed by a healthy brunch. No experience is necessary. Equipment such as mats\, blocks\, bolsters\, straps\, and blankets are available for our guests to use.
URL:https://serenityknoll.com/event/gentle-yoga-brunch-w-casey-sagers-may-5th-at-11-am-25-per-person/
LOCATION:Serenity Knoll Farm\, 542 Bacon Branch Rd\, Jonesborough\, TN\, 37659\, United States
CATEGORIES:Yoga
ATTACH;FMTTYPE=image/jpeg:https://serenityknoll.com/wp-content/uploads/2023/09/yoga-SNF-scaled.jpg
ORGANIZER;CN="Serenity Knoll Cooking School":MAILTO:sheridan@serenityknoll.com
END:VEVENT
BEGIN:VEVENT
DTSTART;TZID=America/New_York:20240510T180000
DTEND;TZID=America/New_York:20240510T200000
DTSTAMP:20260423T162315
CREATED:20240329T131317Z
LAST-MODIFIED:20240401T102918Z
UID:10000487-1715364000-1715371200@serenityknoll.com
SUMMARY:PIEROGI CLASS w/ NANCY KING\, MAY 10TH at 6 PM\, $65 PER PERSON
DESCRIPTION:A Pierogi is a Polish Dumpling with Potato and Cheese filling\, sauteed until golden brown with butter and sliced onion. They are served with sour cream on the side. Nancy’s family had a Polish Tavern in Pittsburgh\, PA\, for 33 years\, so authenticity is guaranteed! You need this skill in your repertoire!
URL:https://serenityknoll.com/event/pierogi-class-w-nancy-king-may-10th-at-6-pm-65-per-person/
LOCATION:Serenity Knoll Farm\, 542 Bacon Branch Rd\, Jonesborough\, TN\, 37659\, United States
CATEGORIES:Cooking
ATTACH;FMTTYPE=image/jpeg:https://serenityknoll.com/wp-content/uploads/2024/03/perogi.jpg
ORGANIZER;CN="Serenity Knoll Cooking School":MAILTO:sheridan@serenityknoll.com
END:VEVENT
BEGIN:VEVENT
DTSTART;TZID=America/New_York:20240511T110000
DTEND;TZID=America/New_York:20240511T130000
DTSTAMP:20260423T162315
CREATED:20240309T171121Z
LAST-MODIFIED:20240309T171121Z
UID:10000480-1715425200-1715432400@serenityknoll.com
SUMMARY:SPRING MOTHER'S DAY BRUNCH w/ CHEF KARLA GRIMALDI\, MAY 11TH at 11 AM\, $65 PER PERSON
DESCRIPTION:Bring the most wonderful woman in your life out for a special Mother’s Day Brunch featuring Eggs Benedict over Crab Cake waffles with Hollandaise Sauce\, Arugula Salad with Shaved Reggiano Parmesan & Lemon Vinaigrette\, Fresh Fruit Salad\, and a special gift!
URL:https://serenityknoll.com/event/spring-mothers-day-brunch-w-chef-karla-grimaldi-may-11th-at-11-am-65-per-person/
LOCATION:Serenity Knoll Farm\, 542 Bacon Branch Rd\, Jonesborough\, TN\, 37659\, United States
CATEGORIES:Cooking
ATTACH;FMTTYPE=image/jpeg:https://serenityknoll.com/wp-content/uploads/2024/03/Mothers-Day-Brunch-2024.jpg
ORGANIZER;CN="Serenity Knoll Cooking School":MAILTO:sheridan@serenityknoll.com
END:VEVENT
BEGIN:VEVENT
DTSTART;TZID=America/New_York:20240511T180000
DTEND;TZID=America/New_York:20240511T200000
DTSTAMP:20260423T162315
CREATED:20240228T124705Z
LAST-MODIFIED:20240228T124705Z
UID:10000474-1715450400-1715457600@serenityknoll.com
SUMMARY:FRENCH MACAONS w/ ANGELA BOWES\, MAY 11TH at 6 PM\, $75 PER PERSON
DESCRIPTION:Have you always wanted to make beautiful and delicious French macarons? In this class\, everyone will learn each step of the process hands-on! No experience is necessary\, and it is open to all age groups. Come and learn how much fun it is to make delicious macarons that will be sure to impress your friends and family with us here at Serenity Knoll. All recipes are included in the class! Oreo\, Lemon Poppy\, Maple Back\, White Chocolate Raspberry\, and Snickers.
URL:https://serenityknoll.com/event/french-macaons-w-angela-bowes-may-11th-at-6-pm-75-per-person/
LOCATION:Serenity Knoll Farm\, 542 Bacon Branch Rd\, Jonesborough\, TN\, 37659\, United States
CATEGORIES:Cooking
ATTACH;FMTTYPE=image/jpeg:https://serenityknoll.com/wp-content/uploads/2023/07/candy-macarons.jpg
ORGANIZER;CN="Serenity Knoll Cooking School":MAILTO:sheridan@serenityknoll.com
END:VEVENT
BEGIN:VEVENT
DTSTART;TZID=America/New_York:20240516T180000
DTEND;TZID=America/New_York:20240516T200000
DTSTAMP:20260423T162315
CREATED:20240415T163023Z
LAST-MODIFIED:20240415T163023Z
UID:10000499-1715882400-1715889600@serenityknoll.com
SUMMARY:PIZZA FROM SCRATCH W/ DAVID WILEY\, May 16th\, at 6 pm\, $65.00 PER PERSON
DESCRIPTION:Join us for this fun class to make authentic Italian pizza. We’ll use the wood-fired pizza oven\, but you’ll leave with the knowledge and skills to easily replicate everyone’s favorite food at home\, in the oven\, or on the backyard grill!
URL:https://serenityknoll.com/event/pizza-from-scratch-w-david-wiley-may-16th-at-6-pm-65-00-per-person/
LOCATION:Serenity Knoll Farm\, 542 Bacon Branch Rd\, Jonesborough\, TN\, 37659\, United States
CATEGORIES:Cooking
ATTACH;FMTTYPE=image/jpeg:https://serenityknoll.com/wp-content/uploads/2023/09/pizza-new-scaled.jpg
ORGANIZER;CN="Serenity Knoll Cooking School":MAILTO:sheridan@serenityknoll.com
END:VEVENT
BEGIN:VEVENT
DTSTART;TZID=America/New_York:20240517T180000
DTEND;TZID=America/New_York:20240517T200000
DTSTAMP:20260423T162315
CREATED:20240228T130704Z
LAST-MODIFIED:20240228T130704Z
UID:10000476-1715968800-1715976000@serenityknoll.com
SUMMARY:SMORE'S CHOCOLATE CAKE CLASS w/ ANGELA BOWES\, MAY 17TH at 6 PM\, $75 PER PERSON
DESCRIPTION:Enjoy individual attention while paying a group class fee! In this course\, you will ice your Chocolate Smore’s cake with buttercream! See just how easy and rewarding it is to decorate beautiful cakes and other desserts that will delight your family and friends. Join us here at Serenity Knoll Cooking School as we make this delicious and fun dessert that will impress all your friends and family. No decorating experience is necessary. Sign up to reserve your spot! Recipes and materials are provided.
URL:https://serenityknoll.com/event/smores-chocolate-cake-class-w-angela-bowes-may-17th-at-6-pm-75-per-person/
LOCATION:Serenity Knoll Farm\, 542 Bacon Branch Rd\, Jonesborough\, TN\, 37659\, United States
CATEGORIES:Cooking
ATTACH;FMTTYPE=image/jpeg:https://serenityknoll.com/wp-content/uploads/2024/02/smorescakeclass.jpg
ORGANIZER;CN="Serenity Knoll Cooking School":MAILTO:sheridan@serenityknoll.com
END:VEVENT
BEGIN:VEVENT
DTSTART;TZID=America/New_York:20240519T110000
DTEND;TZID=America/New_York:20240519T130000
DTSTAMP:20260423T162315
CREATED:20240402T123640Z
LAST-MODIFIED:20240402T123640Z
UID:10000492-1716116400-1716123600@serenityknoll.com
SUMMARY:GENTLE YOGA & BRUNCH w/ AHAUVE ORUSA\, MAY 19TH\, at 11 AM\, $25 PER PERSON
DESCRIPTION:Join Ahauve Orusa for an hour of gentle yoga sessions open to beginners and experienced yogis. The yoga session will be held on our heated side porch or in the pavilion\, weather permitting\, and will be followed by a healthy brunch. No experience is necessary. Equipment such as mats\, blocks\, bolsters\, straps\, and blankets are available for our guests to use.
URL:https://serenityknoll.com/event/gentle-yoga-brunch-w-ahauve-orusa-may-19th-at-11-am-25-per-person/
LOCATION:Serenity Knoll Farm\, 542 Bacon Branch Rd\, Jonesborough\, TN\, 37659\, United States
CATEGORIES:Yoga
ATTACH;FMTTYPE=image/jpeg:https://serenityknoll.com/wp-content/uploads/2023/09/yoga-SNF-scaled.jpg
ORGANIZER;CN="Serenity Knoll Cooking School":MAILTO:sheridan@serenityknoll.com
END:VEVENT
BEGIN:VEVENT
DTSTART;TZID=America/New_York:20240519T130000
DTEND;TZID=America/New_York:20240519T150000
DTSTAMP:20260423T162315
CREATED:20240311T201228Z
LAST-MODIFIED:20240508T133647Z
UID:10000455-1716123600-1716130800@serenityknoll.com
SUMMARY:SPRING PLANT WALK w/ LESLEY VERNON\, MAY 19TH\, 1:00 PM\, $10 PER PERSON
DESCRIPTION:Embrace the vibrant energy of spring with our immersive plant walk experience! Join us as we unlock the secrets of medicinal plants thriving right in your own backyard. Discover how these natural wonders can detoxify your organs\, cleanse your blood\, and invigorate your body after the winter months.\n\nDuring our walk\, you’ll learn to identify and utilize these powerhouse plants for various health benefits\, including lymphatic stimulation\, allergy relief\, and metabolism support. Dive into discussions on sustainable foraging and harvesting practices\, empowering you to connect with nature responsibly.\n\nAs a bonus\, participants will receive a comprehensive handout covering all materials discussed in class\, along with recipes and recommended sources for further exploration. Don’t miss this opportunity to deepen your connection to the earth and revitalize your well-being with our Spring Plant Walk experience!
URL:https://serenityknoll.com/event/spring-plant-walk-w-lesley-vernon-may-19th-100-pm-10-per-person/
LOCATION:Serenity Knoll Farm\, 542 Bacon Branch Rd\, Jonesborough\, TN\, 37659\, United States
ATTACH;FMTTYPE=image/jpeg:https://serenityknoll.com/wp-content/uploads/2024/02/spring-flowers.jpg
ORGANIZER;CN="Serenity Knoll Cooking School":MAILTO:sheridan@serenityknoll.com
END:VEVENT
BEGIN:VEVENT
DTSTART;TZID=America/New_York:20240523T180000
DTEND;TZID=America/New_York:20240523T200000
DTSTAMP:20260423T162315
CREATED:20240415T163324Z
LAST-MODIFIED:20240415T163324Z
UID:10000500-1716487200-1716494400@serenityknoll.com
SUMMARY:PIZZA FROM SCRATCH W/ DAVID WILEY\, May 23RD\, at 6 pm\, $65.00 PER PERSON
DESCRIPTION:Join us for this fun class to make authentic Italian pizza. We’ll use the wood-fired pizza oven\, but you’ll leave with the knowledge and skills to easily replicate everyone’s favorite food at home\, in the oven\, or on the backyard grill!
URL:https://serenityknoll.com/event/pizza-from-scratch-w-david-wiley-may-23rd-at-6-pm-65-00-per-person/
LOCATION:Serenity Knoll Farm\, 542 Bacon Branch Rd\, Jonesborough\, TN\, 37659\, United States
CATEGORIES:Cooking
ATTACH;FMTTYPE=image/jpeg:https://serenityknoll.com/wp-content/uploads/2023/09/pizza-new-scaled.jpg
ORGANIZER;CN="Serenity Knoll Cooking School":MAILTO:sheridan@serenityknoll.com
END:VEVENT
BEGIN:VEVENT
DTSTART;TZID=America/New_York:20240525T180000
DTEND;TZID=America/New_York:20240525T200000
DTSTAMP:20260423T162315
CREATED:20240430T120203Z
LAST-MODIFIED:20240506T174315Z
UID:10000506-1716660000-1716667200@serenityknoll.com
SUMMARY:DATE NIGHT STEAK DINNER\, W/ CHEF KARLA GRIMALDI\, MAY 25TH\, AT 6 PM\, $75.00 PER PERSON\, BYOB
DESCRIPTION:Join Chef Karla for a splendid date night meal! Learn how to make a perfect Pan-Seared Rib Eye with Herb Compound Butter\, Roasted Tri-Colored Potatoes\, fresh Asparagus\, and a delectable chocolate mousse with whipped cream and berries. 
URL:https://serenityknoll.com/event/date-night-steak-dinner-w-chef-karla-grimaldi-may-25th-at-6-pm-75-00-per-person-byob/
LOCATION:Serenity Knoll Farm\, 542 Bacon Branch Rd\, Jonesborough\, TN\, 37659\, United States
CATEGORIES:Cooking
ATTACH;FMTTYPE=image/jpeg:https://serenityknoll.com/wp-content/uploads/2023/07/date-night-steak-dinner.jpg
ORGANIZER;CN="Serenity Knoll Cooking School":MAILTO:sheridan@serenityknoll.com
END:VEVENT
BEGIN:VEVENT
DTSTART;TZID=America/New_York:20240526T110000
DTEND;TZID=America/New_York:20240526T170000
DTSTAMP:20260423T162315
CREATED:20240402T124035Z
LAST-MODIFIED:20240515T111339Z
UID:10000493-1716721200-1716742800@serenityknoll.com
SUMMARY:GENTLE YOGA & BRUNCH w/ ERIN HORTON\, MAY 26TH at 11 AM\, $25 PER PERSON
DESCRIPTION:Join Erin Horton for an hour of gentle yoga sessions open to beginners and experienced yogis. The yoga session will be held on our heated side porch or in the pavilion\, weather permitting\, and will be followed by a healthy brunch. No experience is necessary. Equipment such as mats\, blocks\, bolsters\, straps\, and blankets are available for our guests to use.
URL:https://serenityknoll.com/event/gentle-yoga-brunch-w-erin-horton-may-26th-at-11-am-25-per-person/
LOCATION:Serenity Knoll Farm\, 542 Bacon Branch Rd\, Jonesborough\, TN\, 37659\, United States
CATEGORIES:Yoga
ATTACH;FMTTYPE=image/jpeg:https://serenityknoll.com/wp-content/uploads/2023/09/yoga-SNF-scaled.jpg
ORGANIZER;CN="Serenity Knoll Cooking School":MAILTO:sheridan@serenityknoll.com
END:VEVENT
BEGIN:VEVENT
DTSTART;TZID=America/New_York:20240526T150000
DTEND;TZID=America/New_York:20240526T180000
DTSTAMP:20260423T162315
CREATED:20240430T125020Z
LAST-MODIFIED:20240430T125020Z
UID:10000508-1716735600-1716746400@serenityknoll.com
SUMMARY:MEDITERRANEAN JOURNEY\, CLASS II\, w/ CHEF SHERIDAN NICE\, MAY 26TH at 3 PM\, $75 PER PERSON
DESCRIPTION:Join Chef Sheridan to learn to elevate your cooking repertoire with a Mediterranean-inspired menu. These classes are perfect for the summer season and Al Fresco dining. We’ll prepare Beef or Lamb Pistachio Kebabs with Garlic Yogurt & Turkish Spoon Salad\, and Roasted Artichoke Hearts & Preserved Lemon with Gnocchi will be on the menu. Class II of a four-part series.
URL:https://serenityknoll.com/event/mediterranean-journey-class-ii-w-chef-sheridan-nice-may-26th-at-3-pm-75-per-person/
LOCATION:Serenity Knoll Farm\, 542 Bacon Branch Rd\, Jonesborough\, TN\, 37659\, United States
CATEGORIES:Cooking
ATTACH;FMTTYPE=image/jpeg:https://serenityknoll.com/wp-content/uploads/2024/04/mediterranean-II-2024.jpg
ORGANIZER;CN="Serenity Knoll Cooking School":MAILTO:sheridan@serenityknoll.com
END:VEVENT
BEGIN:VEVENT
DTSTART;TZID=America/New_York:20240530T180000
DTEND;TZID=America/New_York:20240530T200000
DTSTAMP:20260423T162315
CREATED:20240415T163553Z
LAST-MODIFIED:20240415T163553Z
UID:10000501-1717092000-1717099200@serenityknoll.com
SUMMARY:PIZZA FROM SCRATCH W/ DAVID WILEY\, May 30th at 6 pm\, $65.00 PER PERSON
DESCRIPTION:Join us for this fun class to make authentic Italian pizza. We’ll use the wood-fired pizza oven\, but you’ll leave with the knowledge and skills to easily replicate everyone’s favorite food at home\, in the oven\, or on the backyard grill!
URL:https://serenityknoll.com/event/pizza-from-scratch-w-david-wiley-may-30th-at-6-pm-65-00-per-person/
LOCATION:Serenity Knoll Farm\, 542 Bacon Branch Rd\, Jonesborough\, TN\, 37659\, United States
CATEGORIES:Cooking
ATTACH;FMTTYPE=image/jpeg:https://serenityknoll.com/wp-content/uploads/2023/09/pizza-new-scaled.jpg
ORGANIZER;CN="Serenity Knoll Cooking School":MAILTO:sheridan@serenityknoll.com
END:VEVENT
END:VCALENDAR