BEGIN:VCALENDAR
VERSION:2.0
PRODID:-//Serenity Knoll - ECPv6.10.1.1//NONSGML v1.0//EN
CALSCALE:GREGORIAN
METHOD:PUBLISH
X-ORIGINAL-URL:https://serenityknoll.com
X-WR-CALDESC:Events for Serenity Knoll
REFRESH-INTERVAL;VALUE=DURATION:PT1H
X-Robots-Tag:noindex
X-PUBLISHED-TTL:PT1H
BEGIN:VTIMEZONE
TZID:America/New_York
BEGIN:DAYLIGHT
TZOFFSETFROM:-0500
TZOFFSETTO:-0400
TZNAME:EDT
DTSTART:20250309T070000
END:DAYLIGHT
BEGIN:STANDARD
TZOFFSETFROM:-0400
TZOFFSETTO:-0500
TZNAME:EST
DTSTART:20251102T060000
END:STANDARD
END:VTIMEZONE
BEGIN:VEVENT
DTSTART;TZID=America/New_York:20250504T110000
DTEND;TZID=America/New_York:20250504T130000
DTSTAMP:20260423T065043
CREATED:20250325T154413Z
LAST-MODIFIED:20250503T191511Z
UID:10000763-1746356400-1746363600@serenityknoll.com
SUMMARY:SUNDAY YOGA & BRUNCH w/ SHERRY MARION\, MAY 4TH at 11AM\, $30 PER PERSON
DESCRIPTION:Join us for an hour of gentle yoga in our open-air pavilion\, followed by a delicious and healthy brunch! Yoga sessions are beginner-friendly\, and mats\, blocks\, bolsters\, and blankets will be available. Restrooms are also available.
URL:https://serenityknoll.com/event/sunday-yoga-brunch-w-sherry-marion-may-4th-at-11am-30-per-person/
LOCATION:Serenity Knoll Farm\, 542 Bacon Branch Rd\, Jonesborough\, TN\, 37659\, United States
CATEGORIES:Cooking,Yoga
ATTACH;FMTTYPE=image/jpeg:https://serenityknoll.com/wp-content/uploads/2023/09/yoga-SNF-scaled.jpg
ORGANIZER;CN="Serenity Knoll Cooking School":MAILTO:sheridan@serenityknoll.com
END:VEVENT
END:VCALENDAR