BEGIN:VCALENDAR
VERSION:2.0
PRODID:-//Serenity Knoll - ECPv6.10.1.1//NONSGML v1.0//EN
CALSCALE:GREGORIAN
METHOD:PUBLISH
X-WR-CALNAME:Serenity Knoll
X-ORIGINAL-URL:https://serenityknoll.com
X-WR-CALDESC:Events for Serenity Knoll
REFRESH-INTERVAL;VALUE=DURATION:PT1H
X-Robots-Tag:noindex
X-PUBLISHED-TTL:PT1H
BEGIN:VTIMEZONE
TZID:America/New_York
BEGIN:DAYLIGHT
TZOFFSETFROM:-0500
TZOFFSETTO:-0400
TZNAME:EDT
DTSTART:20250309T070000
END:DAYLIGHT
BEGIN:STANDARD
TZOFFSETFROM:-0400
TZOFFSETTO:-0500
TZNAME:EST
DTSTART:20251102T060000
END:STANDARD
BEGIN:DAYLIGHT
TZOFFSETFROM:-0500
TZOFFSETTO:-0400
TZNAME:EDT
DTSTART:20260308T070000
END:DAYLIGHT
BEGIN:STANDARD
TZOFFSETFROM:-0400
TZOFFSETTO:-0500
TZNAME:EST
DTSTART:20261101T060000
END:STANDARD
END:VTIMEZONE
BEGIN:VEVENT
DTSTART;TZID=America/New_York:20250820T190000
DTEND;TZID=America/New_York:20250820T200000
DTSTAMP:20260423T020732
CREATED:20250803T125824Z
LAST-MODIFIED:20250803T125824Z
UID:10000907-1755716400-1755720000@serenityknoll.com
SUMMARY:WEDNESDAY SUNSET YOGA\, AUGUST 20TH\, FREE 7-8PM
DESCRIPTION:August 20th session led by Jessica Bedard. \nSpring/ Summer Sunset Yoga Series at Serenity Knoll Farm! We are showcasing many of our area’s newest yoga teachers! Join us for an hour of gentle Yoga in our open-air pavilion! Yoga sessions are always beginner-friendly. We have extra mats\, blocks\, bolsters\, and blankets available for use. Restrooms also. This event is Free\, but please sign up! Rain or Shine.
URL:https://serenityknoll.com/event/wednesday-sunset-yoga-august-20th-free-7-8pm/
LOCATION:Serenity Knoll Farm\, 542 Bacon Branch Rd\, Jonesborough\, TN\, 37659\, United States
CATEGORIES:Yoga
ATTACH;FMTTYPE=image/jpeg:https://serenityknoll.com/wp-content/uploads/2023/05/Yoga-Jonesborough.jpeg
ORGANIZER;CN="Serenity Knoll Cooking School":MAILTO:sheridan@serenityknoll.com
END:VEVENT
BEGIN:VEVENT
DTSTART;TZID=America/New_York:20250824T110000
DTEND;TZID=America/New_York:20250824T130000
DTSTAMP:20260423T020732
CREATED:20250721T160913Z
LAST-MODIFIED:20250721T160913Z
UID:10000891-1756033200-1756040400@serenityknoll.com
SUMMARY:SUNDAY YOGA & BRUNCH\, w/ ALLYSON NEILSON\, AUGUST 24TH at 11AM\, $30 PER PERSON
DESCRIPTION:Join us for an hour of gentle Yoga in our open-air pavilion\, followed by a delicious and healthy brunch! This Yoga session is beginner-friendly\, and mats\, blocks\, bolsters\, and blankets will be available for use. The restrooms are on-site.
URL:https://serenityknoll.com/event/sunday-yoga-brunch-w-allyson-neilson-august-24th-at-11am-30-per-person/
LOCATION:Serenity Knoll Farm\, 542 Bacon Branch Rd\, Jonesborough\, TN\, 37659\, United States
CATEGORIES:Yoga
ATTACH;FMTTYPE=image/jpeg:https://serenityknoll.com/wp-content/uploads/2023/09/yoga-SNF-scaled.jpg
ORGANIZER;CN="Serenity Knoll Cooking School":MAILTO:sheridan@serenityknoll.com
END:VEVENT
BEGIN:VEVENT
DTSTART;TZID=America/New_York:20250827T190000
DTEND;TZID=America/New_York:20250827T200000
DTSTAMP:20260423T020732
CREATED:20250803T130134Z
LAST-MODIFIED:20250803T130134Z
UID:10000908-1756321200-1756324800@serenityknoll.com
SUMMARY:WEDNESDAY SUNSET YOGA\, AUGUST 27TH\, FREE 7-8PM
DESCRIPTION:August 27th session led by Riley Pickett- Armstrong. \nSpring/ Summer Sunset Yoga Series at Serenity Knoll Farm! We are showcasing many of our area’s newest yoga teachers! Join us for an hour of gentle Yoga in our open-air pavilion! Yoga sessions are always beginner-friendly. We have extra mats\, blocks\, bolsters\, and blankets available for use. Restrooms also. This event is Free\, but please sign up! Rain or Shine.
URL:https://serenityknoll.com/event/wednesday-sunset-yoga-august-27th-free-7-8pm/
LOCATION:Serenity Knoll Farm\, 542 Bacon Branch Rd\, Jonesborough\, TN\, 37659\, United States
CATEGORIES:Yoga
ATTACH;FMTTYPE=image/jpeg:https://serenityknoll.com/wp-content/uploads/2023/05/Yoga-Jonesborough.jpeg
ORGANIZER;CN="Serenity Knoll Cooking School":MAILTO:sheridan@serenityknoll.com
END:VEVENT
BEGIN:VEVENT
DTSTART;TZID=America/New_York:20250831T110000
DTEND;TZID=America/New_York:20250831T130000
DTSTAMP:20260423T020732
CREATED:20250414T183639Z
LAST-MODIFIED:20250831T132409Z
UID:10000812-1756638000-1756645200@serenityknoll.com
SUMMARY:SUNDAY YOGA & BRUNCH\, w/ DEBORAH BYRD\, AUGUST 31ST at 11AM\, $30 PER PERSON
DESCRIPTION:Join us for an hour of gentle Yoga in our open-air pavilion\, followed by a delicious and healthy brunch! This Yoga session is beginner-friendly\, and mats\, blocks\, bolsters\, and blankets will be available for use. The restrooms are onsite.
URL:https://serenityknoll.com/event/sunday-yoga-brunch-w-deborah-byrd-august-31st-at-11am-30-per-person/
LOCATION:Serenity Knoll Farm\, 542 Bacon Branch Rd\, Jonesborough\, TN\, 37659\, United States
CATEGORIES:Yoga
ATTACH;FMTTYPE=image/jpeg:https://serenityknoll.com/wp-content/uploads/2023/09/yoga-SNF-scaled.jpg
ORGANIZER;CN="Serenity Knoll Cooking School":MAILTO:sheridan@serenityknoll.com
END:VEVENT
BEGIN:VEVENT
DTSTART;TZID=America/New_York:20250903T190000
DTEND;TZID=America/New_York:20250903T200000
DTSTAMP:20260423T020732
CREATED:20250803T132808Z
LAST-MODIFIED:20250803T132808Z
UID:10000909-1756926000-1756929600@serenityknoll.com
SUMMARY:WEDNESDAY SUNSET YOGA\, SEPTEMBER 3RD\, FREE 7-8PM
DESCRIPTION:September 3rd session led by Casey Sagers. \nSpring/ Summer Sunset Yoga Series at Serenity Knoll Farm! We are showcasing many of our area’s newest yoga teachers! Join us for an hour of gentle Yoga in our open-air pavilion! Yoga sessions are always beginner-friendly. We have extra mats\, blocks\, bolsters\, and blankets available for use. Restrooms also. This event is Free\, but please sign up! Rain or Shine.
URL:https://serenityknoll.com/event/wednesday-sunset-yoga-september-3rd-free-7-8pm/
LOCATION:Serenity Knoll Farm\, 542 Bacon Branch Rd\, Jonesborough\, TN\, 37659\, United States
CATEGORIES:Yoga
ATTACH;FMTTYPE=image/jpeg:https://serenityknoll.com/wp-content/uploads/2023/05/Yoga-Jonesborough.jpeg
ORGANIZER;CN="Serenity Knoll Cooking School":MAILTO:sheridan@serenityknoll.com
END:VEVENT
BEGIN:VEVENT
DTSTART;TZID=America/New_York:20250907T110000
DTEND;TZID=America/New_York:20250907T130000
DTSTAMP:20260423T020732
CREATED:20250414T183934Z
LAST-MODIFIED:20250414T183934Z
UID:10000813-1757242800-1757250000@serenityknoll.com
SUMMARY:SUNDAY YOGA & BRUNCH\, w/ SHERRY MARION\, SEPTEMBER  7TH at 11AM\, $30 PER PERSON
DESCRIPTION:Join us for an hour of gentle Yoga in our open-air pavilion\, followed by a delicious and healthy brunch! This Yoga session is beginner-friendly\, and mats\, blocks\, bolsters\, and blankets will be available for use. The restrooms are onsite.
URL:https://serenityknoll.com/event/sunday-yoga-brunch-w-sherry-marion-september-7th-at-11am-30-per-person/
LOCATION:Serenity Knoll Farm\, 542 Bacon Branch Rd\, Jonesborough\, TN\, 37659\, United States
CATEGORIES:Yoga
ATTACH;FMTTYPE=image/jpeg:https://serenityknoll.com/wp-content/uploads/2023/09/yoga-SNF-scaled.jpg
ORGANIZER;CN="Serenity Knoll Cooking School":MAILTO:sheridan@serenityknoll.com
END:VEVENT
BEGIN:VEVENT
DTSTART;TZID=America/New_York:20250910T190000
DTEND;TZID=America/New_York:20250910T200000
DTSTAMP:20260423T020732
CREATED:20250803T133206Z
LAST-MODIFIED:20250813T190654Z
UID:10000910-1757530800-1757534400@serenityknoll.com
SUMMARY:WEDNESDAY SUNSET YOGA\, SEPTEMBER 10TH\, FREE 7-8PM
DESCRIPTION:September 10th session led by Joy Shepherd. \nSpring/ Summer Sunset Yoga Series at Serenity Knoll Farm! We are showcasing many of our area’s newest yoga teachers! Join us for an hour of gentle Yoga in our open-air pavilion! Yoga sessions are always beginner-friendly. We have extra mats\, blocks\, bolsters\, and blankets available for use. Restrooms also. This event is Free\, but please sign up! Rain or Shine.
URL:https://serenityknoll.com/event/wednesday-sunset-yoga-september-10th-free-7-8pm/
LOCATION:Serenity Knoll Farm\, 542 Bacon Branch Rd\, Jonesborough\, TN\, 37659\, United States
CATEGORIES:Yoga
ATTACH;FMTTYPE=image/jpeg:https://serenityknoll.com/wp-content/uploads/2023/05/Yoga-Jonesborough.jpeg
ORGANIZER;CN="Serenity Knoll Cooking School":MAILTO:sheridan@serenityknoll.com
END:VEVENT
BEGIN:VEVENT
DTSTART;TZID=America/New_York:20250917T190000
DTEND;TZID=America/New_York:20250917T200000
DTSTAMP:20260423T020732
CREATED:20250803T133635Z
LAST-MODIFIED:20250813T190418Z
UID:10000911-1758135600-1758139200@serenityknoll.com
SUMMARY:WEDNESDAY SUNSET YOGA\, SEPTEMBER 17TH\, FREE 7-8PM
DESCRIPTION:September 17th session led by Eric Ruhm. \nSpring/ Summer Sunset Yoga Series at Serenity Knoll Farm! We are showcasing many of our area’s newest yoga teachers! Join us for an hour of gentle Yoga in our open-air pavilion! Yoga sessions are always beginner-friendly. We have extra mats\, blocks\, bolsters\, and blankets available for use. Restrooms also. This event is Free\, but please sign up! Rain or Shine.
URL:https://serenityknoll.com/event/wednesday-sunset-yoga-september-17th-free-7-8pm/
LOCATION:Serenity Knoll Farm\, 542 Bacon Branch Rd\, Jonesborough\, TN\, 37659\, United States
CATEGORIES:Yoga
ATTACH;FMTTYPE=image/jpeg:https://serenityknoll.com/wp-content/uploads/2023/05/Yoga-Jonesborough.jpeg
ORGANIZER;CN="Serenity Knoll Cooking School":MAILTO:sheridan@serenityknoll.com
END:VEVENT
BEGIN:VEVENT
DTSTART;TZID=America/New_York:20250921T110000
DTEND;TZID=America/New_York:20250921T130000
DTSTAMP:20260423T020732
CREATED:20250414T185146Z
LAST-MODIFIED:20250921T153939Z
UID:10000815-1758452400-1758459600@serenityknoll.com
SUMMARY:SUNDAY YOGA & BRUNCH\, w/ CASSIE SHAVER\, SEPTEMBER  21ST at 11AM\, $30 PER PERSON
DESCRIPTION:Join us for an hour of gentle Yoga in our open-air pavilion\, followed by a delicious and healthy brunch! This Yoga session is beginner-friendly\, and mats\, blocks\, bolsters\, and blankets will be available for use. The restrooms are onsite.
URL:https://serenityknoll.com/event/sunday-yoga-brunch-w-cassie-shaver-september-21st-at-11am-30-per-person/
LOCATION:Serenity Knoll Farm\, 542 Bacon Branch Rd\, Jonesborough\, TN\, 37659\, United States
CATEGORIES:Yoga
ATTACH;FMTTYPE=image/jpeg:https://serenityknoll.com/wp-content/uploads/2023/09/yoga-SNF-scaled.jpg
ORGANIZER;CN="Serenity Knoll Cooking School":MAILTO:sheridan@serenityknoll.com
END:VEVENT
BEGIN:VEVENT
DTSTART;TZID=America/New_York:20250924T190000
DTEND;TZID=America/New_York:20250924T200000
DTSTAMP:20260423T020732
CREATED:20250803T134054Z
LAST-MODIFIED:20250803T134054Z
UID:10000912-1758740400-1758744000@serenityknoll.com
SUMMARY:WEDNESDAY SUNSET YOGA\, SEPTEMBER 24TH\, FREE 7-8PM
DESCRIPTION:September 24th session led by Rachel Mendez Barrios \nSpring/ Summer Sunset Yoga Series at Serenity Knoll Farm! We are showcasing many of our area’s newest yoga teachers! Join us for an hour of gentle Yoga in our open-air pavilion! Yoga sessions are always beginner-friendly. We have extra mats\, blocks\, bolsters\, and blankets available for use. Restrooms also. This event is Free\, but please sign up! Rain or Shine.
URL:https://serenityknoll.com/event/wednesday-sunset-yoga-september-24th-free-7-8pm/
LOCATION:Serenity Knoll Farm\, 542 Bacon Branch Rd\, Jonesborough\, TN\, 37659\, United States
CATEGORIES:Yoga
ATTACH;FMTTYPE=image/jpeg:https://serenityknoll.com/wp-content/uploads/2023/05/Yoga-Jonesborough.jpeg
ORGANIZER;CN="Serenity Knoll Cooking School":MAILTO:sheridan@serenityknoll.com
END:VEVENT
BEGIN:VEVENT
DTSTART;TZID=America/New_York:20250926T170000
DTEND;TZID=America/New_York:20250928T143000
DTSTAMP:20260423T020732
CREATED:20250710T123745Z
LAST-MODIFIED:20250911T181308Z
UID:10000880-1758906000-1759069800@serenityknoll.com
SUMMARY:Serenity Knoll Yoga and Wellness Retreat September 26th -28th\, Full Weekend\, $375
DESCRIPTION:Join us for Serenity Knoll’s Yoga and Wellness Retreat!\nCome experience the magic of Serenity Knoll Farm with a weekend curated to serve\nyou on your wellness journey.  Enjoy a relaxing weekend\, guided yoga\, cooking\nclasses\, nourishing seasonal meals\, community\, and much much more!!\nWhether you commute or stay in one of our brand new luxury cabins\, you are sure to\nfeel right at home.\nCome soak up the beauty of Serenity Knoll Farm while nourishing your Body\, Mind\,\nand Spirit! \nFull Weekend: Schedule of Events will be emailed directly to you! All registrants will\nreceive an email including an exact schedule of events\, and other specific information.\nSee our website https://serenityknoll.com/yoga-classes/ for our flyer with retreat\nofferings. Full Weekend or Individual Day purchase options. \n9/26 Friday 5:30(flexible arrival time) – 9 PM\n9/27 Saturday 8:30 AM (flexible arrival time) – 9 PM\n9/28 Sunday 10 AM-2:30 PM \nFor Cabin accommodations\, please book soon as number of cabins are limited\nonly 5 available. First come first serve! Please book online\nhttps://serenityknoll.com/product-category/cabin-rentals/\nCabin accommodations are in addition to retreat registration price. \nRetreat Long Sleeve T-shirts are available for purchase $30 Unisex Sizing S-2XL.\nThis purchase can be made online and we will contact you for your sizing. Please order\nsoon so shirts will be ready by retreat weekend. Unfortunately we won’t be able to take\norders past Labor Day\,Sept 1 or during the retreat. \nMassage Therapy will be available on Sat and Sun for an additional cost. More info\nand online sign up links will be emailed to you after registration.\nWe can’t wait to retreat with you this September!
URL:https://serenityknoll.com/event/yoga-wellness-retreat-2025-september-26th-28th-full-weekend-375/
LOCATION:Serenity Knoll Farm\, 542 Bacon Branch Rd\, Jonesborough\, TN\, 37659\, United States
CATEGORIES:Yoga
ATTACH;FMTTYPE=image/jpeg:https://serenityknoll.com/wp-content/uploads/2025/07/yoga-2024.jpg
ORGANIZER;CN="Serenity Knoll Cooking School":MAILTO:sheridan@serenityknoll.com
END:VEVENT
BEGIN:VEVENT
DTSTART;TZID=America/New_York:20250926T173000
DTEND;TZID=America/New_York:20250926T210000
DTSTAMP:20260423T020732
CREATED:20250710T133754Z
LAST-MODIFIED:20250711T180836Z
UID:10000883-1758907800-1758920400@serenityknoll.com
SUMMARY:Serenity Yoga & Wellness Retreat\, Friday only\, $50 per person
DESCRIPTION:Friday 9/26/25 \n5:30-6:30  Guest (flexible arrival) Meet and Greet \n6:30-7:15  Sunset Yoga & Intention Setting w/ Lisa King \n7:15-8 Light Fare Food \n8-9:00 Campfire *Weather Permitting and Song
URL:https://serenityknoll.com/event/serenity-yoga-wellness-retreat-friday-only-50-per-person/
LOCATION:Serenity Knoll Farm\, 542 Bacon Branch Rd\, Jonesborough\, TN\, 37659\, United States
CATEGORIES:Yoga
ATTACH;FMTTYPE=image/jpeg:https://serenityknoll.com/wp-content/uploads/2025/07/Serenity-Retreat-2024-Flyer-1.jpg
ORGANIZER;CN="Serenity Knoll Cooking School":MAILTO:sheridan@serenityknoll.com
END:VEVENT
BEGIN:VEVENT
DTSTART;TZID=America/New_York:20250926T173000
DTEND;TZID=America/New_York:20250928T140000
DTSTAMP:20260423T020732
CREATED:20250715T125702Z
LAST-MODIFIED:20250715T133951Z
UID:10000887-1758907800-1759068000@serenityknoll.com
SUMMARY:SERENITY KNOLL YOGA & WELLNESS RETREAT LONG SLEEVE T-SHIRT\, SEPTEMBER 26th -28th.  $30 EACH
DESCRIPTION:Get a memento to mark the occasion with this graphic tee (we will contact you for sizing)\, S-2XL available!
URL:https://serenityknoll.com/event/serenity-knoll-yoga-wellness-retreat-long-sleeve-t-shirt-september-26th-28th-30-each/
LOCATION:Serenity Knoll Farm\, 542 Bacon Branch Rd\, Jonesborough\, TN\, 37659\, United States
CATEGORIES:Yoga
ATTACH;FMTTYPE=image/png:https://serenityknoll.com/wp-content/uploads/2025/07/yoga-tee-shirt.png
ORGANIZER;CN="Serenity Knoll Cooking School":MAILTO:sheridan@serenityknoll.com
END:VEVENT
BEGIN:VEVENT
DTSTART;TZID=America/New_York:20250927T083000
DTEND;TZID=America/New_York:20250927T210000
DTSTAMP:20260423T020732
CREATED:20250710T131445Z
LAST-MODIFIED:20250711T181356Z
UID:10000881-1758961800-1759006800@serenityknoll.com
SUMMARY:Serenity Knoll Yoga and Wellness Retreat September 27th.  Saturday Only\, $300
DESCRIPTION:Saturday 9/27/25 \n8:30-9:30 (flexible arrival)\nContinental Breakfast \n9:30-10:30  Moving Meditation\n(Qigong) and Tea w/ Mark Viglione \n11-12:30 Options/ Choose 1(sign up on day of retreat) \nOpt. 1 – Lunch Cooking Class or Opt. 2 – Primal Flow Yoga w/ Cassie Shaver \n12:30-2:00 Group Lunch \n2-3:30 Cacao Ceremony w/ Lydie Ometto \n4:00 -5:30 Options/ Choose 1(sign up on day of retreat) \nOpt.1- Dinner Cooking Class or Opt.2- Storied Flow/Yin w/Casey Sagers \n5:30-7:00 Group Dinner \n7-8:00 Sound Bath w/Ryan Fair \n8-9:00 Campfire *Weather Permitting \nMassage Therapy Offerings Sat & Sun additional cost
URL:https://serenityknoll.com/event/serenity-knoll-yoga-and-wellness-retreat-september-27th-saturday-only-300/
LOCATION:Serenity Knoll Farm\, 542 Bacon Branch Rd\, Jonesborough\, TN\, 37659\, United States
CATEGORIES:Yoga
ATTACH;FMTTYPE=image/jpeg:https://serenityknoll.com/wp-content/uploads/2025/07/Serenity-Retreat-2024-Flyer-1.jpg
ORGANIZER;CN="Serenity Knoll Cooking School":MAILTO:sheridan@serenityknoll.com
END:VEVENT
BEGIN:VEVENT
DTSTART;TZID=America/New_York:20250928T100000
DTEND;TZID=America/New_York:20250928T110000
DTSTAMP:20260423T020732
CREATED:20250916T192116Z
LAST-MODIFIED:20250916T192508Z
UID:10000956-1759053600-1759057200@serenityknoll.com
SUMMARY:SUNDAY YOGA & BRUNCH\, w/ ERIN HORTON\, SEPTEMBER 28TH at 10AM\, $30 PER PERSON
DESCRIPTION:Join us for an hour of gentle Yoga in our open-air pavilion\, followed by a delicious and healthy brunch! This Yoga session is beginner-friendly\, and mats\, blocks\, bolsters\, and blankets will be available for use. The restrooms are onsite.
URL:https://serenityknoll.com/event/sunday-yoga-brunch-w-erin-horton-september-28th-at-10am-30-per-person/
LOCATION:Serenity Knoll Farm\, 542 Bacon Branch Rd\, Jonesborough\, TN\, 37659\, United States
CATEGORIES:Yoga
ATTACH;FMTTYPE=image/jpeg:https://serenityknoll.com/wp-content/uploads/2023/05/Yoga-Jonesborough.jpeg
ORGANIZER;CN="Serenity Knoll Cooking School":MAILTO:sheridan@serenityknoll.com
END:VEVENT
BEGIN:VEVENT
DTSTART;TZID=America/New_York:20250928T100000
DTEND;TZID=America/New_York:20250928T143000
DTSTAMP:20260423T020732
CREATED:20250710T134817Z
LAST-MODIFIED:20250710T134817Z
UID:10000884-1759053600-1759069800@serenityknoll.com
SUMMARY:Serenity Yoga & Wellness Retreat\, Sunday only\, $75 per person
DESCRIPTION:Sunday 9/28/25 \n10-10:45 Elemental Yoga w/Erin Horton \n11-12:00 Herbal Medicine and Healthy Products w/ Lesley Vernon \n12:00- 1:30 Brunch \n1:30-2:30 Closing Meditation and Reflection w/ Sarah Wennogle \nMassage Therapy Offerings Sat & Sun additional cost
URL:https://serenityknoll.com/event/serenity-yoga-wellness-retreat-sunday-only-75-per-person/
LOCATION:Serenity Knoll Farm\, 542 Bacon Branch Rd\, Jonesborough\, TN\, 37659\, United States
CATEGORIES:Yoga
ATTACH;FMTTYPE=image/jpeg:https://serenityknoll.com/wp-content/uploads/2025/07/Serenity-Retreat-2024-Flyer-1.jpg
ORGANIZER;CN="Serenity Knoll Cooking School":MAILTO:sheridan@serenityknoll.com
END:VEVENT
BEGIN:VEVENT
DTSTART;TZID=America/New_York:20250928T123000
DTEND;TZID=America/New_York:20250928T133000
DTSTAMP:20260423T020732
CREATED:20250916T191457Z
LAST-MODIFIED:20250916T191535Z
UID:10000955-1759062600-1759066200@serenityknoll.com
SUMMARY:HERBALISM 101– ANCIENT WISDOM FOR MODERN MATS  w/ LESLEY VERNON\, SEPTEMBER 28TH at 12:30PM. $25 PER PERSON
DESCRIPTION:In this lively sixty-minute session\, Lesley Vernon of Appalachian Alchemy opens the doorway to herbal wisdom that has steadied humans for millennia. We will explore the roots of Greek\, Chinese\, and Ayurvedic traditions\, decode the concepts of hot and cold tissue states\, and demystify common kitchen preparations that anyone can make. Learn how to choose vibrant herbs\, brew the perfect restorative cup\, and understand why whole plants often work better than isolated compounds. Discover daily tonic allies for energy\, menstrual ease\, stress relief\, and restful sleep\, then explore simple body care that keeps your skin radiant without synthetic additives. Expect folklore\, gentle humor\, and plenty of sensory inspiration as you sample handcrafted teas\, tinctures\, and salves. Leave with a concise two-page cheat sheet\, fresh confidence to start your home apothecary\, and a festival-only discount at the Appalachian Alchemy apothecary. All levels welcome; curiosity is encouraged\, and no prior experience is required. Come sip\, learn\, and let the plants greet you.
URL:https://serenityknoll.com/event/herbalism-101-ancient-wisdom-for-modern-mats-w-lesley-vernon-september-28th-at-1230pm-25-per-person/
LOCATION:Serenity Knoll Farm\, 542 Bacon Branch Rd\, Jonesborough\, TN\, 37659\, United States
CATEGORIES:Yoga
ATTACH;FMTTYPE=image/jpeg:https://serenityknoll.com/wp-content/uploads/2025/09/HERBALISM.jpg
ORGANIZER;CN="Serenity Knoll Cooking School":MAILTO:sheridan@serenityknoll.com
END:VEVENT
BEGIN:VEVENT
DTSTART;TZID=America/New_York:20251012T110000
DTEND;TZID=America/New_York:20251012T130000
DTSTAMP:20260423T020732
CREATED:20250414T185456Z
LAST-MODIFIED:20251003T104959Z
UID:10000816-1760266800-1760274000@serenityknoll.com
SUMMARY:SUNDAY YOGA & BRUNCH\, w/ HAYLEIGH DAVIS\, OCTOBER 12TH at 11AM\, $30 PER PERSON
DESCRIPTION:Join us for an hour of gentle Yoga in our open-air pavilion\, followed by a delicious and healthy brunch! This Yoga session is beginner-friendly\, and mats\, blocks\, bolsters\, and blankets will be available for use. The restrooms are onsite.
URL:https://serenityknoll.com/event/sunday-yoga-brunch-w-hayleigh-davis-october-12th-at-11am-30-per-person/
LOCATION:Serenity Knoll Farm\, 542 Bacon Branch Rd\, Jonesborough\, TN\, 37659\, United States
CATEGORIES:Yoga
ATTACH;FMTTYPE=image/jpeg:https://serenityknoll.com/wp-content/uploads/2023/09/yoga-SNF-scaled.jpg
ORGANIZER;CN="Serenity Knoll Cooking School":MAILTO:sheridan@serenityknoll.com
END:VEVENT
BEGIN:VEVENT
DTSTART;TZID=America/New_York:20251019T110000
DTEND;TZID=America/New_York:20251019T110000
DTSTAMP:20260423T020732
CREATED:20251013T174344Z
LAST-MODIFIED:20251016T115208Z
UID:10000968-1760871600-1760871600@serenityknoll.com
SUMMARY:SUNDAY YOGA & BRUNCH\, w/ LINDSEY YARGAR\, OCTOBER 19TH at 11AM\, $30 PER PERSON
DESCRIPTION:Join us for an hour of gentle Yoga in our open-air pavilion\, followed by a delicious and healthy brunch! This Yoga session is beginner-friendly\, and mats\, blocks\, bolsters\, and blankets will be available for use. The restrooms are onsite.
URL:https://serenityknoll.com/event/sunday-yoga-brunch-w-lindsey-yargar-october-19th-at-10am-30-per-person/
LOCATION:Serenity Knoll Farm\, 542 Bacon Branch Rd\, Jonesborough\, TN\, 37659\, United States
CATEGORIES:Yoga
ATTACH;FMTTYPE=image/jpeg:https://serenityknoll.com/wp-content/uploads/2023/05/Yoga-Jonesborough.jpeg
ORGANIZER;CN="Serenity Knoll Cooking School":MAILTO:sheridan@serenityknoll.com
END:VEVENT
BEGIN:VEVENT
DTSTART;TZID=America/New_York:20260101T110000
DTEND;TZID=America/New_York:20260101T130000
DTSTAMP:20260423T020732
CREATED:20251208T151945Z
LAST-MODIFIED:20251221T203409Z
UID:10001005-1767265200-1767272400@serenityknoll.com
SUMMARY:NEW YEAR'S DAY YOGA BRUNCH w/ SHERRY MARION\, JANUARY 1ST at 11AM\, $30 PER PERSON\, LIMITED TO 12 PARTICIPANTS
DESCRIPTION:Join us on January 1\, 2026\, for community\, yoga\, and brunch led by Sherry Marion.  During our gentle yoga flow\, we will find time to settle into stillness\, creating space for deeper reflection. Reflect and release the old\, open to new beginnings\, and set intentions with gratitude for the New Year! Space is limited to 12 yogis on our heated side porch\, so please sign up early. 
URL:https://serenityknoll.com/event/new-years-day-yoga-brunch-w-sherry-marion-january-1st-at-11am-30-per-person-limited-to-12-participants/
LOCATION:Serenity Knoll Farm\, 542 Bacon Branch Rd\, Jonesborough\, TN\, 37659\, United States
CATEGORIES:Yoga
ATTACH;FMTTYPE=image/png:https://serenityknoll.com/wp-content/uploads/2025/12/winter-yoga.png
ORGANIZER;CN="Serenity Knoll Cooking School":MAILTO:sheridan@serenityknoll.com
END:VEVENT
BEGIN:VEVENT
DTSTART;TZID=America/New_York:20260426T110000
DTEND;TZID=America/New_York:20260426T130000
DTSTAMP:20260423T020732
CREATED:20260405T192650Z
LAST-MODIFIED:20260405T192720Z
UID:10001124-1777201200-1777208400@serenityknoll.com
SUMMARY:SUNDAY YOGA BRUNCH\, APRIL 26TH at 11AM\, $30 PER PERSON
DESCRIPTION:Led by Cassie Shaver. Join us for an hour of gentle yoga in our open-air pavilion\, followed by a delicious and healthy\nbrunch! Yoga sessions are beginner-friendly\, and mats\, blocks\, bolsters\, and blankets will be available. Please sign up to secure your spot! Rain or Shine. Search the events calendar and register today!
URL:https://serenityknoll.com/event/sunday-yoga-brunch-april-26th-at-11am-30-per-person/
LOCATION:Serenity Knoll Farm\, 542 Bacon Branch Rd\, Jonesborough\, TN\, 37659\, United States
CATEGORIES:Yoga
ATTACH;FMTTYPE=image/jpeg:https://serenityknoll.com/wp-content/uploads/2023/05/Yoga-Jonesborough.jpeg
ORGANIZER;CN="Serenity Knoll Cooking School":MAILTO:sheridan@serenityknoll.com
END:VEVENT
BEGIN:VEVENT
DTSTART;TZID=America/New_York:20260524T110000
DTEND;TZID=America/New_York:20260524T130000
DTSTAMP:20260423T020732
CREATED:20260407T232630Z
LAST-MODIFIED:20260407T232630Z
UID:10001131-1779620400-1779627600@serenityknoll.com
SUMMARY:SUNDAY YOGA & BRUNCH\, MAY 24TH at 11AM\, $30 PER PERSON
DESCRIPTION:Led by Lydie Ometto. Join us for an hour of gentle Yoga in our open-air pavilion\, followed by a delicious and healthy brunch! Yoga sessions are beginner-friendly\, and mats\, blocks\, bolsters\, and blankets will be available. Please sign up to secure your spot! Rain or Shine.
URL:https://serenityknoll.com/event/sunday-yoga-brunch-may-24th-at-11am-30-per-person/
LOCATION:Serenity Knoll Farm\, 542 Bacon Branch Rd\, Jonesborough\, TN\, 37659\, United States
CATEGORIES:Yoga
ATTACH;FMTTYPE=image/jpeg:https://serenityknoll.com/wp-content/uploads/2023/05/Yoga-Jonesborough.jpeg
ORGANIZER;CN="Serenity Knoll Cooking School":MAILTO:sheridan@serenityknoll.com
END:VEVENT
BEGIN:VEVENT
DTSTART;TZID=America/New_York:20260607T110000
DTEND;TZID=America/New_York:20260607T130000
DTSTAMP:20260423T020732
CREATED:20260407T233539Z
LAST-MODIFIED:20260407T233539Z
UID:10001133-1780830000-1780837200@serenityknoll.com
SUMMARY:SUNDAY YOGA & BRUNCH\, JUNE 7TH at 11AM\, $30 PER PERSON
DESCRIPTION:Led by Carrie Ferguson. Join us for an hour of gentle Yoga in our open-air pavilion\, followed by a delicious and healthy brunch! Yoga sessions are beginner-friendly\, and mats\, blocks\, bolsters\, and blankets will be available. Please sign up to secure your spot! Rain or Shine.
URL:https://serenityknoll.com/event/sunday-yoga-brunch-june-7th-at-11am-30-per-person/
LOCATION:Serenity Knoll Farm\, 542 Bacon Branch Rd\, Jonesborough\, TN\, 37659\, United States
CATEGORIES:Yoga
ATTACH;FMTTYPE=image/jpeg:https://serenityknoll.com/wp-content/uploads/2023/05/Yoga-Jonesborough.jpeg
ORGANIZER;CN="Serenity Knoll Cooking School":MAILTO:sheridan@serenityknoll.com
END:VEVENT
BEGIN:VEVENT
DTSTART;TZID=America/New_York:20260621T110000
DTEND;TZID=America/New_York:20260621T130000
DTSTAMP:20260423T020732
CREATED:20260407T233832Z
LAST-MODIFIED:20260407T233832Z
UID:10001134-1782039600-1782046800@serenityknoll.com
SUMMARY:SUNDAY YOGA & BRUNCH\, JUNE 21st at 11AM\, $30 PER PERSON
DESCRIPTION:Led by Lydie Ometto. Join us for an hour of gentle Yoga in our open-air pavilion\, followed by a delicious and healthy brunch! Yoga sessions are beginner-friendly\, and mats\, blocks\, bolsters\, and blankets will be available. Please sign up to secure your spot! Rain or Shine.
URL:https://serenityknoll.com/event/sunday-yoga-brunch-june-21st-at-11am-30-per-person/
LOCATION:Serenity Knoll Farm\, 542 Bacon Branch Rd\, Jonesborough\, TN\, 37659\, United States
CATEGORIES:Yoga
ATTACH;FMTTYPE=image/jpeg:https://serenityknoll.com/wp-content/uploads/2023/05/Yoga-Jonesborough.jpeg
ORGANIZER;CN="Serenity Knoll Cooking School":MAILTO:sheridan@serenityknoll.com
END:VEVENT
END:VCALENDAR