BEGIN:VCALENDAR
VERSION:2.0
PRODID:-//Serenity Knoll - ECPv6.10.1.1//NONSGML v1.0//EN
CALSCALE:GREGORIAN
METHOD:PUBLISH
X-ORIGINAL-URL:https://serenityknoll.com
X-WR-CALDESC:Events for Serenity Knoll
REFRESH-INTERVAL;VALUE=DURATION:PT1H
X-Robots-Tag:noindex
X-PUBLISHED-TTL:PT1H
BEGIN:VTIMEZONE
TZID:America/New_York
BEGIN:DAYLIGHT
TZOFFSETFROM:-0500
TZOFFSETTO:-0400
TZNAME:EDT
DTSTART:20250309T070000
END:DAYLIGHT
BEGIN:STANDARD
TZOFFSETFROM:-0400
TZOFFSETTO:-0500
TZNAME:EST
DTSTART:20251102T060000
END:STANDARD
END:VTIMEZONE
BEGIN:VEVENT
DTSTART;TZID=America/New_York:20250601T110000
DTEND;TZID=America/New_York:20250601T130000
DTSTAMP:20260422T192948
CREATED:20250325T155406Z
LAST-MODIFIED:20250529T110151Z
UID:10000766-1748775600-1748782800@serenityknoll.com
SUMMARY:SUNDAY YOGA & BRUNCH w/TEREZA DiFRANCESCO  \, JUNE 1ST at 11AM\, $30 PER PERSON
DESCRIPTION:Join us for an hour of gentle yoga in our open-air pavilion\, followed by a delicious and healthy brunch! Yoga sessions are beginner-friendly\, and mats\, blocks\, bolsters\, and blankets will be available. Restrooms are also available.
URL:https://serenityknoll.com/event/sunday-yoga-brunch-w-tereza-difrancesco-june-1st-at-11am-30-per-person/
LOCATION:Serenity Knoll Farm\, 542 Bacon Branch Rd\, Jonesborough\, TN\, 37659\, United States
CATEGORIES:Yoga
ATTACH;FMTTYPE=image/jpeg:https://serenityknoll.com/wp-content/uploads/2023/09/yoga-SNF-scaled.jpg
ORGANIZER;CN="Serenity Knoll Cooking School":MAILTO:sheridan@serenityknoll.com
END:VEVENT
BEGIN:VEVENT
DTSTART;TZID=America/New_York:20250604T190000
DTEND;TZID=America/New_York:20250604T200000
DTSTAMP:20260422T192948
CREATED:20250413T115638Z
LAST-MODIFIED:20250413T115638Z
UID:10000795-1749063600-1749067200@serenityknoll.com
SUMMARY:Wednesday Sunset Yoga – Free 7-8 pm
DESCRIPTION:June 4th session led by Nicole Aurilio\nSpring/ Summer Sunset Yoga Series at Serenity Knoll Farm! We are showcasing many of our area’s newest yoga teachers! Join us for an hour of gentle Yoga in our open air pavilion! Yoga sessions are always beginner-friendly. We have extra mats\, blocks\, bolsters\, blankets\, and restrooms available for use. This event is Free\, but please sign up! Rain or Shine.
URL:https://serenityknoll.com/event/wednesday-sunset-yoga-free-7-8-pm-5/
LOCATION:Serenity Knoll Farm\, 542 Bacon Branch Rd\, Jonesborough\, TN\, 37659\, United States
CATEGORIES:Yoga
ATTACH;FMTTYPE=image/jpeg:https://serenityknoll.com/wp-content/uploads/2023/09/yoga-SNF-scaled.jpg
ORGANIZER;CN="Serenity Knoll Cooking School":MAILTO:sheridan@serenityknoll.com
END:VEVENT
BEGIN:VEVENT
DTSTART;TZID=America/New_York:20250608T110000
DTEND;TZID=America/New_York:20250608T130000
DTSTAMP:20260422T192948
CREATED:20250325T155713Z
LAST-MODIFIED:20250607T202958Z
UID:10000767-1749380400-1749387600@serenityknoll.com
SUMMARY:SUNDAY YOGA & BRUNCH w/ SABRA SIMPSON\, JUNE 8TH at 11AM\, $30 PER PERSON
DESCRIPTION:Join us for an hour of gentle yoga in our open-air pavilion\, followed by a delicious and healthy brunch! Yoga sessions are beginner-friendly\, and mats\, blocks\, bolsters\, and blankets will be available. Restrooms are also available.
URL:https://serenityknoll.com/event/sunday-yoga-brunch-w-sabra-simpson-june-8th-at-11am-30-per-person/
LOCATION:Serenity Knoll Farm\, 542 Bacon Branch Rd\, Jonesborough\, TN\, 37659\, United States
CATEGORIES:Yoga
ATTACH;FMTTYPE=image/jpeg:https://serenityknoll.com/wp-content/uploads/2023/09/yoga-SNF-scaled.jpg
ORGANIZER;CN="Serenity Knoll Cooking School":MAILTO:sheridan@serenityknoll.com
END:VEVENT
BEGIN:VEVENT
DTSTART;TZID=America/New_York:20250611T190000
DTEND;TZID=America/New_York:20250611T200000
DTSTAMP:20260422T192948
CREATED:20250413T120820Z
LAST-MODIFIED:20250413T120820Z
UID:10000796-1749668400-1749672000@serenityknoll.com
SUMMARY:Wednesday Sunset Yoga – Free 7-8 pm
DESCRIPTION:June 11th session led by Christopher Eddy.\nSpring/ Summer Sunset Yoga Series at Serenity Knoll Farm! We are showcasing many of our area’s newest yoga teachers! Join us for an hour of gentle Yoga in our open-air pavilion! Yoga sessions are always beginner-friendly. We have extra mats\, blocks\, bolsters\, blankets\, and restrooms available for use. This event is Free\, but please sign up! Rain or Shine.
URL:https://serenityknoll.com/event/wednesday-sunset-yoga-free-7-8-pm-6/
LOCATION:Serenity Knoll Farm\, 542 Bacon Branch Rd\, Jonesborough\, TN\, 37659\, United States
CATEGORIES:Yoga
ATTACH;FMTTYPE=image/jpeg:https://serenityknoll.com/wp-content/uploads/2023/09/yoga-SNF-scaled.jpg
ORGANIZER;CN="Serenity Knoll Cooking School":MAILTO:sheridan@serenityknoll.com
END:VEVENT
BEGIN:VEVENT
DTSTART;TZID=America/New_York:20250615T110000
DTEND;TZID=America/New_York:20250615T130000
DTSTAMP:20260422T192948
CREATED:20250325T160043Z
LAST-MODIFIED:20250528T180333Z
UID:10000768-1749985200-1749992400@serenityknoll.com
SUMMARY:SUNDAY YOGA & BRUNCH w/ SARAH WENNOGLE JUNE 15TH at 11AM\, $30 PER PERSON
DESCRIPTION:Join us for an hour of gentle yoga in our open-air pavilion\, followed by a delicious and healthy brunch! Yoga sessions are beginner-friendly\, and mats\, blocks\, bolsters\, and blankets will be available. Restrooms are also available.
URL:https://serenityknoll.com/event/sunday-yoga-brunch-w-sarah-wennogle-june-15th-at-11am-30-per-person/
LOCATION:Serenity Knoll Farm\, 542 Bacon Branch Rd\, Jonesborough\, TN\, 37659\, United States
CATEGORIES:Yoga
ATTACH;FMTTYPE=image/jpeg:https://serenityknoll.com/wp-content/uploads/2023/09/yoga-SNF-scaled.jpg
ORGANIZER;CN="Serenity Knoll Cooking School":MAILTO:sheridan@serenityknoll.com
END:VEVENT
BEGIN:VEVENT
DTSTART;TZID=America/New_York:20250618T190000
DTEND;TZID=America/New_York:20250618T200000
DTSTAMP:20260422T192948
CREATED:20250413T121247Z
LAST-MODIFIED:20250413T121247Z
UID:10000797-1750273200-1750276800@serenityknoll.com
SUMMARY:Wednesday Sunset Yoga – Free 7-8 pm
DESCRIPTION:June 18th session led by Ashlee Hill.\nSpring/ Summer Sunset Yoga Series at Serenity Knoll Farm! We are showcasing many of our area’s newest yoga teachers! Join us for an hour of gentle Yoga in our open-air pavilion! Yoga sessions are always beginner-friendly. We have extra mats\, blocks\, bolsters\, blankets\, and restrooms available for use. This event is Free\, but please sign up! Rain or Shine.
URL:https://serenityknoll.com/event/wednesday-sunset-yoga-free-7-8-pm-7/
LOCATION:Serenity Knoll Farm\, 542 Bacon Branch Rd\, Jonesborough\, TN\, 37659\, United States
CATEGORIES:Yoga
ATTACH;FMTTYPE=image/jpeg:https://serenityknoll.com/wp-content/uploads/2023/09/yoga-SNF-scaled.jpg
ORGANIZER;CN="Serenity Knoll Cooking School":MAILTO:sheridan@serenityknoll.com
END:VEVENT
BEGIN:VEVENT
DTSTART;TZID=America/New_York:20250622T110000
DTEND;TZID=America/New_York:20250622T130000
DTSTAMP:20260422T192948
CREATED:20250325T160419Z
LAST-MODIFIED:20250620T120224Z
UID:10000769-1750590000-1750597200@serenityknoll.com
SUMMARY:SUNDAY YOGA & BRUNCH w/ CASEY SAGERS \, JUNE 22ND at 11AM\, $30 PER PERSON
DESCRIPTION:Join us for an hour of gentle yoga in our open-air pavilion\, followed by a delicious and healthy brunch! Yoga sessions are beginner-friendly\, and mats\, blocks\, bolsters\, and blankets will be available. Restrooms are also available.
URL:https://serenityknoll.com/event/sunday-yoga-brunch-w-casey-sagers-june-22nd-at-11am-30-per-person/
LOCATION:Serenity Knoll Farm\, 542 Bacon Branch Rd\, Jonesborough\, TN\, 37659\, United States
CATEGORIES:Yoga
ATTACH;FMTTYPE=image/jpeg:https://serenityknoll.com/wp-content/uploads/2023/09/yoga-SNF-scaled.jpg
ORGANIZER;CN="Serenity Knoll Cooking School":MAILTO:sheridan@serenityknoll.com
END:VEVENT
BEGIN:VEVENT
DTSTART;TZID=America/New_York:20250625T190000
DTEND;TZID=America/New_York:20250625T200000
DTSTAMP:20260422T192948
CREATED:20250413T121608Z
LAST-MODIFIED:20250620T195816Z
UID:10000798-1750878000-1750881600@serenityknoll.com
SUMMARY:Wednesday Sunset Yoga – Free 7-8 pm
DESCRIPTION:June 25th session led by Suany Diaz.\nYou’re invited to an unforgettable evening of celebration\, connection\, and community! \nWe are combining a birthday celebration with the dedication of our brand-new fire pit and octagonal wrap-around deck.  The evening schedule: \n7:00 pm Sunset Yoga (FREE) \n8:00 pm Cookout begins.  Grilling burgers and hot dogs.  Potluck style-bring your favorite sides and dessert. \n9:00 pm Fire pit dedication and singing under the stars.  S’mores by the fire…Birthday cake/ice cream \nPlease register on our website\, www.serenityknoll.com\, for Yoga and the party. Please arrive before 7:00 pm or after 8:00 pm.
URL:https://serenityknoll.com/event/wednesday-sunset-yoga-free-7-8-pm-8/
LOCATION:Serenity Knoll Farm\, 542 Bacon Branch Rd\, Jonesborough\, TN\, 37659\, United States
CATEGORIES:Yoga
ATTACH;FMTTYPE=image/jpeg:https://serenityknoll.com/wp-content/uploads/2023/09/yoga-SNF-scaled.jpg
ORGANIZER;CN="Serenity Knoll Cooking School":MAILTO:sheridan@serenityknoll.com
END:VEVENT
BEGIN:VEVENT
DTSTART;TZID=America/New_York:20250629T110000
DTEND;TZID=America/New_York:20250629T130000
DTSTAMP:20260422T192948
CREATED:20250325T160924Z
LAST-MODIFIED:20250531T123849Z
UID:10000770-1751194800-1751202000@serenityknoll.com
SUMMARY:SUNDAY YOGA & BRUNCH w/ KERRY FERGUSON\, JUNE 29TH at 11AM\, $30 PER PERSON
DESCRIPTION:Join us for an hour of gentle yoga in our open-air pavilion\, followed by a delicious and healthy brunch! Yoga sessions are beginner-friendly\, and mats\, blocks\, bolsters\, and blankets will be available. Restrooms are also available.
URL:https://serenityknoll.com/event/sunday-yoga-brunch-w-kerry-ferguson-june-29th-at-11am-30-per-person/
LOCATION:Serenity Knoll Farm\, 542 Bacon Branch Rd\, Jonesborough\, TN\, 37659\, United States
CATEGORIES:Yoga
ATTACH;FMTTYPE=image/jpeg:https://serenityknoll.com/wp-content/uploads/2023/09/yoga-SNF-scaled.jpg
ORGANIZER;CN="Serenity Knoll Cooking School":MAILTO:sheridan@serenityknoll.com
END:VEVENT
END:VCALENDAR