BEGIN:VCALENDAR
VERSION:2.0
PRODID:-//Serenity Knoll - ECPv6.10.1.1//NONSGML v1.0//EN
CALSCALE:GREGORIAN
METHOD:PUBLISH
X-ORIGINAL-URL:https://serenityknoll.com
X-WR-CALDESC:Events for Serenity Knoll
REFRESH-INTERVAL;VALUE=DURATION:PT1H
X-Robots-Tag:noindex
X-PUBLISHED-TTL:PT1H
BEGIN:VTIMEZONE
TZID:America/New_York
BEGIN:DAYLIGHT
TZOFFSETFROM:-0500
TZOFFSETTO:-0400
TZNAME:EDT
DTSTART:20230312T070000
END:DAYLIGHT
BEGIN:STANDARD
TZOFFSETFROM:-0400
TZOFFSETTO:-0500
TZNAME:EST
DTSTART:20231105T060000
END:STANDARD
BEGIN:DAYLIGHT
TZOFFSETFROM:-0500
TZOFFSETTO:-0400
TZNAME:EDT
DTSTART:20240310T070000
END:DAYLIGHT
BEGIN:STANDARD
TZOFFSETFROM:-0400
TZOFFSETTO:-0500
TZNAME:EST
DTSTART:20241103T060000
END:STANDARD
BEGIN:DAYLIGHT
TZOFFSETFROM:-0500
TZOFFSETTO:-0400
TZNAME:EDT
DTSTART:20250309T070000
END:DAYLIGHT
BEGIN:STANDARD
TZOFFSETFROM:-0400
TZOFFSETTO:-0500
TZNAME:EST
DTSTART:20251102T060000
END:STANDARD
END:VTIMEZONE
BEGIN:VEVENT
DTSTART;TZID=America/New_York:20250123T180000
DTEND;TZID=America/New_York:20250123T200000
DTSTAMP:20260421T223046
CREATED:20250106T122220Z
LAST-MODIFIED:20250106T122220Z
UID:10000686-1737655200-1737662400@serenityknoll.com
SUMMARY:HOMEMADE HUMMUS TRIO w/ DAVID WILEY\, JANUARY 23RD at 6PM\, $65 BYOB
DESCRIPTION:There is no need to buy hummus in the store anymore once you learn how easy it is to make fantastic hummus right at home! Join David to learn how to create three tasty types of hummus. In this hands-on class\, attendees will all make their own hummuses. We will make classic hummus\, roasted red pepper & garlic hummus\, and beet & goat cheese herbed hummus that will knock your socks off. We’ll make this hummus\, plus some fresh pita chips or naan to enjoy with our creations (we will have veggies\, too!)  Our participants will be encouraged to customize their hummus with toppings like toasted pine nuts\, sumac\, za’atar\, pomegranate seeds\, or crispy chickpeas. Recipe cards and storage suggestions will be available for take-home. This class is perfect for a girls’ night\, team building\, or for families.
URL:https://serenityknoll.com/event/homemade-hummus-trio-w-david-wiley-january-23rd-at-6pm-65-byob/
LOCATION:Serenity Knoll Farm\, 542 Bacon Branch Rd\, Jonesborough\, TN\, 37659\, United States
CATEGORIES:Cooking,Mindfulness/Creativity,Other
ATTACH;FMTTYPE=image/jpeg:https://serenityknoll.com/wp-content/uploads/2025/01/Depositphotos_653810790_XL-scaled.jpg
ORGANIZER;CN="Serenity Knoll Cooking School":MAILTO:sheridan@serenityknoll.com
END:VEVENT
BEGIN:VEVENT
DTSTART;TZID=America/New_York:20250119T150000
DTEND;TZID=America/New_York:20250119T170000
DTSTAMP:20260421T223046
CREATED:20241224T144303Z
LAST-MODIFIED:20241224T144303Z
UID:10000677-1737298800-1737306000@serenityknoll.com
SUMMARY:VIETNAMESE SAVORY PANCAKES (Banh Xeo) & Canh Rau Ma w/ CHEF SHERIDAN\, JANUARY 19TH at 3PM\, $75 PER PERSON\, BYOB
DESCRIPTION:Translated to “sizzling cake\,” Banh Xeo is a Vietnamese crepe that gets its name from the satisfying soues when the batter hits the hot skillet. They are filled with a vibrant medley of shrimp\, pork\, bean sprouts\, and green onions. They are served with fresh herbs\, lettuce\, and a dipping sauce for wrapping. We’ll also make Canh Rau Ma\, an easy\, warming soup. Vietnamese tea will be served.
URL:https://serenityknoll.com/event/vietnamese-savory-pancakes-banh-xeo-canh-rau-ma-w-chef-sheridan-january-19th-at-3pm-75-per-person-byob/
LOCATION:Serenity Knoll Farm\, 542 Bacon Branch Rd\, Jonesborough\, TN\, 37659\, United States
CATEGORIES:Cooking,Mindfulness/Creativity,Other
ATTACH;FMTTYPE=image/jpeg:https://serenityknoll.com/wp-content/uploads/2024/12/vietnamese-pork-prawn-pancakes-94580-1.jpeg
ORGANIZER;CN="Serenity Knoll Cooking School":MAILTO:sheridan@serenityknoll.com
END:VEVENT
BEGIN:VEVENT
DTSTART;TZID=America/New_York:20250117T180000
DTEND;TZID=America/New_York:20250117T200000
DTSTAMP:20260421T223046
CREATED:20241226T182436Z
LAST-MODIFIED:20241226T182436Z
UID:10000681-1737136800-1737144000@serenityknoll.com
SUMMARY:WINTER WARMTH: LOBSTER GUMBO & SOUTHERN COMFORTS w/ DAVID WILEY\, JANUARY 17TH at 6PM\, $75 PER PERSON
DESCRIPTION:Join us on a culinary journey down south with a rich lobster gumbo (the perfect blend of seafood and smokiness with just enough spice to get those lips tingling!)\, buttermilk cornbread\, and a banana cream pie for dessert.
URL:https://serenityknoll.com/event/winter-warmth-lobster-gumbo-southern-comforts-w-david-wiley-january-17th-at-6pm-75-per-person/
LOCATION:Serenity Knoll Farm\, 542 Bacon Branch Rd\, Jonesborough\, TN\, 37659\, United States
CATEGORIES:Cooking,Mindfulness/Creativity,Other
ATTACH;FMTTYPE=image/jpeg:https://serenityknoll.com/wp-content/uploads/2024/12/scallop-and-lobster-gumbo-6cf9480d193442348001819b7db8c7cf-1920.jpg
ORGANIZER;CN="Serenity Knoll Cooking School":MAILTO:sheridan@serenityknoll.com
END:VEVENT
BEGIN:VEVENT
DTSTART;TZID=America/New_York:20250116T180000
DTEND;TZID=America/New_York:20250116T200000
DTSTAMP:20260421T223046
CREATED:20241205T114542Z
LAST-MODIFIED:20241205T114542Z
UID:10000667-1737050400-1737057600@serenityknoll.com
SUMMARY:PIZZA FROM SCRATCH W/ DAVID WILEY\, JANUARY 16TH\, at 6 pm\, $65.00\, BYOB
DESCRIPTION:This class will inspire you with simple but effective cooking techniques\, allow you to experience fresh\, local ingredients\, and give you the satisfaction of feeding people great food. Bring the whole family! We’ll make the pizza in the wood oven\, but you can easily do this in your home or backyard grill! This fun class will expand your culinary knowledge.
URL:https://serenityknoll.com/event/pizza-from-scratch-w-david-wiley-january-16th-at-6-pm-65-00-byob/
LOCATION:Serenity Knoll Farm\, 542 Bacon Branch Rd\, Jonesborough\, TN\, 37659\, United States
CATEGORIES:Cooking,Mindfulness/Creativity,Other
ATTACH;FMTTYPE=image/jpeg:https://serenityknoll.com/wp-content/uploads/2024/12/Depositphotos_11440853_XL-scaled.jpg
ORGANIZER;CN="Serenity Knoll Cooking School":MAILTO:sheridan@serenityknoll.com
END:VEVENT
BEGIN:VEVENT
DTSTART;TZID=America/New_York:20250112T150000
DTEND;TZID=America/New_York:20250112T170000
DTSTAMP:20260421T223046
CREATED:20241219T125634Z
LAST-MODIFIED:20241219T125634Z
UID:10000671-1736694000-1736701200@serenityknoll.com
SUMMARY:PIEROGI CLASS w/ NANCY KING\, JANUARY 12th at 3 PM\, $65 PER PERSON
DESCRIPTION:A Pierogi is a Polish Dumpling with Potato and Cheese filling\, sautéed until golden brown with butter and sliced onion. They are served with sour cream on the side. Nancy’s family had a Polish Tavern in Pittsburgh\, PA\, for 33 years\, so authenticity is guaranteed! You need this skill in your repertoire!
URL:https://serenityknoll.com/event/pierogi-class-w-nancy-king-january-12th-at-3-pm-65-per-person/
LOCATION:Serenity Knoll Farm\, 542 Bacon Branch Rd\, Jonesborough\, TN\, 37659\, United States
CATEGORIES:Cooking,Mindfulness/Creativity,Other
ATTACH;FMTTYPE=image/jpeg:https://serenityknoll.com/wp-content/uploads/2024/10/perogi-1.jpg
ORGANIZER;CN="Serenity Knoll Cooking School":MAILTO:sheridan@serenityknoll.com
END:VEVENT
BEGIN:VEVENT
DTSTART;TZID=America/New_York:20250111T180000
DTEND;TZID=America/New_York:20250111T200000
DTSTAMP:20260421T223046
CREATED:20241224T130330Z
LAST-MODIFIED:20241225T132819Z
UID:10000675-1736618400-1736625600@serenityknoll.com
SUMMARY:STEAK & PASTA FEAST w/ ASHLEY & JOHN KOSKO\, JANUARY 11TH at 6PM\, $75 PER PERSON
DESCRIPTION:Indulge in a culinary journey where hearty flavors meet elegant techniques. In this hands-on class\, you’ll learn to:\n•       Perfectly pan-sear a 10-ounce rib steak to achieve a flavorful crust and juicy center.\n•       Handmade pasta for our cacio e pepe.\n•       Elevate roasted Brussels sprouts with a sweet and tangy balsamic glaze.\n•       Master making tiramisu\, layering coffee-soaked ladyfingers with luscious mascarpone cream.\nDinner will be served with the chef’s choice of burgundy wines.
URL:https://serenityknoll.com/event/steak-pasta-feast-w-ashley-john-kosko-january-11th-at-6pm-75-per-person/
LOCATION:Serenity Knoll Farm\, 542 Bacon Branch Rd\, Jonesborough\, TN\, 37659\, United States
CATEGORIES:Cooking,Mindfulness/Creativity,Other
ATTACH;FMTTYPE=image/jpeg:https://serenityknoll.com/wp-content/uploads/2024/12/Depositphotos_772686014_XL.jpg
ORGANIZER;CN="Serenity Knoll Cooking School":MAILTO:sheridan@serenityknoll.com
END:VEVENT
BEGIN:VEVENT
DTSTART;TZID=America/New_York:20250101T120000
DTEND;TZID=America/New_York:20250101T130000
DTSTAMP:20260421T223046
CREATED:20241225T155903Z
LAST-MODIFIED:20241225T155903Z
UID:10000678-1735732800-1735736400@serenityknoll.com
SUMMARY:GENTLE YOGA FLOW w/ SARAH WENNOGLE\, JANUARY 1\, at NOON\, $10 PER PERSON
DESCRIPTION:A special intention setting gentle yoga flow for the New Year. This will be held on the heated side porch\, and no food will be served.
URL:https://serenityknoll.com/event/gentle-yoga-flow-w-sarah-wennogle-january-1-at-noon-10-per-person/
LOCATION:Serenity Knoll Farm\, 542 Bacon Branch Rd\, Jonesborough\, TN\, 37659\, United States
CATEGORIES:Cooking,Mindfulness/Creativity,Other
ATTACH;FMTTYPE=image/jpeg:https://serenityknoll.com/wp-content/uploads/2023/05/Yoga-Jonesborough.jpeg
ORGANIZER;CN="Serenity Knoll Cooking School":MAILTO:sheridan@serenityknoll.com
END:VEVENT
BEGIN:VEVENT
DTSTART;TZID=America/New_York:20241228T180000
DTEND;TZID=America/New_York:20241228T200000
DTSTAMP:20260421T223046
CREATED:20241223T112930Z
LAST-MODIFIED:20241226T004423Z
UID:10000674-1735408800-1735416000@serenityknoll.com
SUMMARY:HOMEMADE DONUTS & CHURROS w/ DAVID WILEY\, DECEMBER 28TH at 6 PM\, $65 PER PERSON
DESCRIPTION:Hands-on\, immersive\, entirely fun\, all-inclusive 2-hour class in which you’ll learn how to make delicious homemade donuts & churros.
URL:https://serenityknoll.com/event/homemade-donuts-churros-w-david-wiley-december-28th-at-6-pm-65-per-person/
LOCATION:Serenity Knoll Farm\, 542 Bacon Branch Rd\, Jonesborough\, TN\, 37659\, United States
CATEGORIES:Cooking,Mindfulness/Creativity,Other
ATTACH;FMTTYPE=image/jpeg:https://serenityknoll.com/wp-content/uploads/2024/10/donuts-pretty.jpg
ORGANIZER;CN="Serenity Knoll Cooking School":MAILTO:sheridan@serenityknoll.com
END:VEVENT
BEGIN:VEVENT
DTSTART;TZID=America/New_York:20241026T180000
DTEND;TZID=America/New_York:20241026T210000
DTSTAMP:20260421T223046
CREATED:20241015T172435Z
LAST-MODIFIED:20241015T172735Z
UID:10000635-1729965600-1729976400@serenityknoll.com
SUMMARY:HUMANS VS. MONSTERS STORYTELLING EVENT w/ CORY HOWARD\, OCTOBER 26TH at 6PM\, FREE EVENT!!!
DESCRIPTION:Join us at the Serenity Knoll Farm pavilion for The Campfireball: Humans vs Monsters\, a special ’spooky-season’ edition of the part storytelling\, part game show live experience. In this one-night-only event\, the worst has finally happened: monsters have attacked Serenity Knoll Farm! Can humans work together through games\, challenges\, and storytelling experiences to defeat the monsters and save mankind? There’s only one way to find out: show up at Serenity Knoll Farm on October 26th at 6:00p. The event is free\, and donations are encouraged.
URL:https://serenityknoll.com/event/humans-vs-monsters-storytelling-event-w-cory-howard-october-26th-at-6pm-free-event-2/
LOCATION:Serenity Knoll Farm\, 542 Bacon Branch Rd\, Jonesborough\, TN\, 37659\, United States
CATEGORIES:Cooking,Other
ATTACH;FMTTYPE=image/png:https://serenityknoll.com/wp-content/uploads/2024/08/HUMANS-VS.-MONSTERS2.png
ORGANIZER;CN="Serenity Knoll Cooking School":MAILTO:sheridan@serenityknoll.com
END:VEVENT
BEGIN:VEVENT
DTSTART;TZID=America/New_York:20240823T190000
DTEND;TZID=America/New_York:20240823T210000
DTSTAMP:20260421T223046
CREATED:20240808T115211Z
LAST-MODIFIED:20240813T185131Z
UID:10000594-1724439600-1724446800@serenityknoll.com
SUMMARY:CAMPFIREBALL STORYTELLING w/ CORY HOWARD\, AUGUST 23RD at 7PM\, FREE / DONATIONS ACCEPTED
DESCRIPTION:BRING A PICNIC DINNER & BEVERAGE! The Campfireball is a storytelling show crafted in the moment around the lives and stories of the audience. Storytelling is one of the most culturally essential art forms; stories are how we relate and connect with one another. In a moment when we seem to understand each other less and less\, we could use storytelling more and more. The Campfireball experience draws from storytelling traditions while turning the act of telling inside out. During The Campfireball\, the audience is not asked to sit passively\, listening as stories are told to them; the audience is the story. The Campfireball is built entirely around finding entertaining and unique ways to excite audience members to share pieces of their lives.\nIn The Campfireball\, the audience is the main attraction\, and each event is unique to whoever is sharing the space. The result is an experience unlike any entertainment option: a show with a twist ending where\, SURPRISE\, the audience was a community all along.
URL:https://serenityknoll.com/event/campfireball-storytelling-w-cory-howard-august-23rd-at-7pm-free-donations-accepted/
LOCATION:Serenity Knoll Farm\, 542 Bacon Branch Rd\, Jonesborough\, TN\, 37659\, United States
CATEGORIES:Other
ATTACH;FMTTYPE=image/png:https://serenityknoll.com/wp-content/uploads/2024/08/Corey-August-event.png
ORGANIZER;CN="Serenity Knoll Cooking School":MAILTO:sheridan@serenityknoll.com
END:VEVENT
BEGIN:VEVENT
DTSTART;TZID=America/New_York:20240330T130000
DTEND;TZID=America/New_York:20240330T150000
DTSTAMP:20260421T223046
CREATED:20240208T210457Z
LAST-MODIFIED:20240215T152410Z
UID:10000443-1711803600-1711810800@serenityknoll.com
SUMMARY:NATURAL SKIN CARE AND HERBAL SPA DAY WITH LESLEY VERNON\, MARCH 30TH\, 1:00 PM\, $50 PER PERSON
DESCRIPTION:Treat yourself to a spa day on the farm!! You will get to use variety of handmade herbal lotions\, oils\, salves\, foot soaks\, facial steams\, teas to support radiant beauty from both inside and out.  Immerse your senses in the soothing aromas and revitalizing properties of natural herbs that will leave you feeling refreshed\, relaxed\, and glowing. Come learn about the dangers of conventional beauty products and how you can easily switch your products with simple DIY recipes.\n\nEach participant will leave with a handmade lotion and an in-depth handout including all materials covered in class\, recipes\, and sources for books\, herbs\, ect. Herbal Medicine products will be available for purchase after the event.\n\nParticipants should bring a bowl big enough for an herbal foot soak & a bath towel.\n\nSign up today to be part of our 2024 Herbalism Program hosted by Lesley with Appalachian Alchemy. These spots will go fast\, reserve yours now.
URL:https://serenityknoll.com/event/natural-skin-care-and-herbal-spa-day-with-lesley-vernon-march-30th-100-pm-50-per-person/
LOCATION:Serenity Knoll Farm\, 542 Bacon Branch Rd\, Jonesborough\, TN\, 37659\, United States
CATEGORIES:Mindfulness/Creativity,Other
ATTACH;FMTTYPE=image/jpeg:https://serenityknoll.com/wp-content/uploads/2023/09/lotion-class.jpg
ORGANIZER;CN="Serenity Knoll Cooking School":MAILTO:sheridan@serenityknoll.com
END:VEVENT
BEGIN:VEVENT
DTSTART;TZID=America/New_York:20240317T140000
DTEND;TZID=America/New_York:20240317T160000
DTSTAMP:20260421T223046
CREATED:20240215T144459Z
LAST-MODIFIED:20240216T154136Z
UID:10000457-1710684000-1710691200@serenityknoll.com
SUMMARY:KITCHEN GARDENING w/ ELLEN HARBIN-DABBS\, MARCH 17TH\, 2:00 PM\, $25.00 PER PERSON
DESCRIPTION:Are you tired of not knowing how your food is being handled?  Why not grow your own? \nIn this Kitchen Gardening workshop\, you will learn the difference sprouts and micro-greens\, the benefits of eating each and how to grow them.  We will create a jar screen for sprouting and start a tray of micro-greens.  We will also start an edible flower pot. \nParticipants will need to bring a wide-mouth quart canning jar and a canning ring that will fit the jar.  All other materials will be provided. \nEllen Harbin-Dabbs is a Tennessee native.  Growing up in the Tennessee State Park system\, she learned many traditional skills that have been forgotten over time.  She was taught ways of the hearth by her mother and grandmother\, and outdoor skills by her father who was an outdoor instructor and park ranger.  Her stories and insights will keep your entertained as she passes along the knowledge of the “old ways”. \nThis class is part of our new Home Spun series\, designed to get us back in touch with our hand-made heritage.
URL:https://serenityknoll.com/event/kitchen-gardening-w-ellen-harbin-dabbs-march-17th-200-pm-25-00-per-person/
LOCATION:Serenity Knoll Farm\, 542 Bacon Branch Rd\, Jonesborough\, TN\, 37659\, United States
CATEGORIES:Other
ATTACH;FMTTYPE=image/jpeg:https://serenityknoll.com/wp-content/uploads/2024/02/sprouts-and-spring-vegetables.jpg
ORGANIZER;CN="Serenity Knoll Cooking School":MAILTO:sheridan@serenityknoll.com
END:VEVENT
BEGIN:VEVENT
DTSTART;TZID=America/New_York:20231025T181500
DTEND;TZID=America/New_York:20231025T203000
DTSTAMP:20260421T223046
CREATED:20230918T161759Z
LAST-MODIFIED:20230918T161759Z
UID:10000350-1698257700-1698265800@serenityknoll.com
SUMMARY:Join us for an empowering Herbal Salves\, Lotions and Oils Workshop with Lesley Vernon
DESCRIPTION:Are you tired of purchasing expensive and chemical-laden skincare products that never quite meet your needs? Look no further! In this workshop\, we will teach you the art of herbal medicine and give you the tools to create your own personalized products tailored specifically to your body type.\n\nGone are the days of generic products that only cater to the masses. With our workshop\, you will learn to harness the power of herbs to formulate cost-effective salves\, lotions\, and oils that are free from harmful chemicals and preservatives. Discover the true benefits of nature’s bounty!  Not only will you walk away with a wealth of knowledge about herbal medicine and skincare\, but each participant will leave with their very own medicinal salve. This salve will be tailored to support you in the upcoming change of seasons.\n\nLesley’s goal is to empower individuals like you to take control of their health and well-being. She will guide you through the process\, ensuring that you not only have a fantastic learning experience but also have fun along the way in a gorgeous setting at the farm.  Don’t miss out on this amazing opportunity to delve into the world of herbal medicine and learn how to create your own personalized products. Sign up for our workshop today and take the first step towards a healthier\, chemical-free lifestyle!\n\nAppalachian Alchemy products will be available for purchase after the event. Each participant will receive a worksheet packed with recipes\, tips\, and everything that was discussed in class. This will allow you to take fewer notes and have more time to concentrate on the process.\n\nSpaces are limited\, so reserve your spot now. We look forward to seeing you!\n 
URL:https://serenityknoll.com/event/join-us-for-an-empowering-herbal-salves-lotions-and-oils-workshop-with-lesley-vernon/
LOCATION:Serenity Knoll Farm\, 542 Bacon Branch Rd\, Jonesborough\, TN\, 37659\, United States
CATEGORIES:Other
ATTACH;FMTTYPE=image/jpeg:https://serenityknoll.com/wp-content/uploads/2023/09/lotion-class.jpg
ORGANIZER;CN="Serenity Knoll Cooking School":MAILTO:sheridan@serenityknoll.com
END:VEVENT
BEGIN:VEVENT
DTSTART;TZID=America/New_York:20230908T183000
DTEND;TZID=America/New_York:20230908T210000
DTSTAMP:20260421T223046
CREATED:20230813T175023Z
LAST-MODIFIED:20230829T124521Z
UID:10000315-1694197800-1694206800@serenityknoll.com
SUMMARY:CAMPFIRE STORYTELLING EVENT w/ CORY HOWARD\, SEPTEMBER 8TH\, at 6:30 PM\, FREE\, BUT DONATIONS ARE WELCOMED
DESCRIPTION:Bring your own picnic and beverages to this great get-together!  The event starts at 7:30 PM. The Campfireball is an immersive storytelling event created live and in the moment out of the stories and experiences of the people in the audience. Whether you feel compelled to play along or if you prefer to sit back and watch how it all unfolds\, don’t miss this opportunity to be surprised\, witness strangers becoming neighbors\, and be a part of a storytelling show that will\, quite literally\, never happen again. See more at Campfireball.net
URL:https://serenityknoll.com/event/campfire-storytelling-event-w-cory-howard-september-8th-at-630-pm-free-but-donations-are-welcomed/
LOCATION:Serenity Knoll Farm\, 542 Bacon Branch Rd\, Jonesborough\, TN\, 37659\, United States
CATEGORIES:Mindfulness/Creativity,Other
ATTACH;FMTTYPE=image/jpeg:https://serenityknoll.com/wp-content/uploads/2023/07/Campfireball-Tacoma-31-2.jpeg
ORGANIZER;CN="Serenity Knoll Cooking School":MAILTO:sheridan@serenityknoll.com
END:VEVENT
BEGIN:VEVENT
DTSTART;TZID=America/New_York:20230906T183000
DTEND;TZID=America/New_York:20230906T203000
DTSTAMP:20260421T223046
CREATED:20230817T152822Z
LAST-MODIFIED:20230817T152822Z
UID:10000321-1694025000-1694032200@serenityknoll.com
SUMMARY:Pressed Flowers with Debbie Griffin
DESCRIPTION:Come join Debbie as we learn about creating and using pressed flowers in beautifully creative ways.  We will start by building a flower press\, then selecting some flowers and plants to press from the gardens at the farm.  Debbie will review the types of flowers that are best for this application\, how to handle them once they are pressed and provide some examples of completed pressed flower artwork. \nYou’ll take home your flower press plus lots of creative ideas for making beautiful pressed flower pieces. Please feel free to bring a snack and/or beverage of your choice.
URL:https://serenityknoll.com/event/pressed-flowers-with-debbie-griffin/
LOCATION:Serenity Knoll Farm\, 542 Bacon Branch Rd\, Jonesborough\, TN\, 37659\, United States
CATEGORIES:Other
ORGANIZER;CN="Serenity Knoll Cooking School":MAILTO:sheridan@serenityknoll.com
END:VEVENT
END:VCALENDAR