BEGIN:VCALENDAR
VERSION:2.0
PRODID:-//Serenity Knoll - ECPv6.10.1.1//NONSGML v1.0//EN
CALSCALE:GREGORIAN
METHOD:PUBLISH
X-ORIGINAL-URL:https://serenityknoll.com
X-WR-CALDESC:Events for Serenity Knoll
REFRESH-INTERVAL;VALUE=DURATION:PT1H
X-Robots-Tag:noindex
X-PUBLISHED-TTL:PT1H
BEGIN:VTIMEZONE
TZID:America/New_York
BEGIN:DAYLIGHT
TZOFFSETFROM:-0500
TZOFFSETTO:-0400
TZNAME:EDT
DTSTART:20250309T070000
END:DAYLIGHT
BEGIN:STANDARD
TZOFFSETFROM:-0400
TZOFFSETTO:-0500
TZNAME:EST
DTSTART:20251102T060000
END:STANDARD
END:VTIMEZONE
BEGIN:VEVENT
DTSTART;TZID=America/New_York:20250226T163000
DTEND;TZID=America/New_York:20250226T183000
DTSTAMP:20260425T235427
CREATED:20250210T150623Z
LAST-MODIFIED:20250225T122436Z
UID:10000726-1740587400-1740594600@serenityknoll.com
SUMMARY:TACO TIME KIDS COOKING CLASS w/ DAVID WILEY\, FEBRUARY 26TH at 4:30 PM. $35 PER CHILD\, AGES 6 - 12
DESCRIPTION:In this class\, we will focus on making homemade tortillas. We will make the dough from masa harina\, demonstrate how to use a press or rolling pin\, and prepare simple taco fillings\, such as Chicken or Beef. A Black Bean vegetarian option will be available. Tacos will be served with Guacamole\, tomatoes\, cheese\, lettuce\, and sour cream. We will also make a mild salsa. Recipes are provided.
URL:https://serenityknoll.com/event/taco-time-kids-cooking-class-w-david-wiley-february-26th-at-430-pm-35-per-child-ages-6-12/
LOCATION:Serenity Knoll Farm\, 542 Bacon Branch Rd\, Jonesborough\, TN\, 37659\, United States
CATEGORIES:Cooking,Mindfulness/Creativity,Other
ATTACH;FMTTYPE=image/jpeg:https://serenityknoll.com/wp-content/uploads/2025/02/kids-tacos-cooking-class.jpg
ORGANIZER;CN="Serenity Knoll Cooking School":MAILTO:sheridan@serenityknoll.com
END:VEVENT
END:VCALENDAR