BEGIN:VCALENDAR
VERSION:2.0
PRODID:-//Serenity Knoll - ECPv6.10.1.1//NONSGML v1.0//EN
CALSCALE:GREGORIAN
METHOD:PUBLISH
X-ORIGINAL-URL:https://serenityknoll.com
X-WR-CALDESC:Events for Serenity Knoll
REFRESH-INTERVAL;VALUE=DURATION:PT1H
X-Robots-Tag:noindex
X-PUBLISHED-TTL:PT1H
BEGIN:VTIMEZONE
TZID:America/New_York
BEGIN:DAYLIGHT
TZOFFSETFROM:-0500
TZOFFSETTO:-0400
TZNAME:EDT
DTSTART:20260308T070000
END:DAYLIGHT
BEGIN:STANDARD
TZOFFSETFROM:-0400
TZOFFSETTO:-0500
TZNAME:EST
DTSTART:20261101T060000
END:STANDARD
END:VTIMEZONE
BEGIN:VEVENT
DTSTART;TZID=America/New_York:20260522T180000
DTEND;TZID=America/New_York:20260522T200000
DTSTAMP:20260419T111746
CREATED:20260401T141643Z
LAST-MODIFIED:20260401T141643Z
UID:10001113-1779472800-1779480000@serenityknoll.com
SUMMARY:BETTER THAN TAKEOUT: CHINESE CLASSICS w/ CHEF KARLA GRIMALDI\, MAY 22ND at 6PM\, $70 PER PERSON BYOB
DESCRIPTION:Join us for a culinary adventure in our “Better Than Take Out” Chinese food classes\, where you’ll learn to create authentic Chinese classics that are sure to impress! This hands-on experience is perfect for food enthusiasts looking to elevate their cooking skills and enjoy delicious home-cooked meals. \n\nShrimp Toast: Master the art of making crispy shrimp toast\, a beloved appetizer that’s packed with flavor.\nEgg Fu Young: Discover the secrets to crafting this delightful omelet dish\, filled with fresh vegetables and protein\, perfect for any meal.\nGeneral Tso’s Chicken: LeaTso’s prepares this iconic sweet-and-spicy dish\, featuring tender chicken in a savory sauce that rivals your favorite takeout.\nPerfectly Steamed Rice: Gain the skills to create fluffy\, perfectly steamed rice—an essential side for any Chinese meal.
URL:https://serenityknoll.com/event/better-than-takeout-chinese-classics-w-chef-karla-grimaldi-may-22nd-at-6pm-70-per-person-byob/
LOCATION:Serenity Knoll Farm\, 542 Bacon Branch Rd\, Jonesborough\, TN\, 37659\, United States
CATEGORIES:Cooking
ATTACH;FMTTYPE=image/jpeg:https://serenityknoll.com/wp-content/uploads/2025/04/Chinese-Takeout.jpg
ORGANIZER;CN="Serenity Knoll Cooking School":MAILTO:sheridan@serenityknoll.com
END:VEVENT
END:VCALENDAR