BEGIN:VCALENDAR
VERSION:2.0
PRODID:-//Serenity Knoll - ECPv6.10.1.1//NONSGML v1.0//EN
CALSCALE:GREGORIAN
METHOD:PUBLISH
X-ORIGINAL-URL:https://serenityknoll.com
X-WR-CALDESC:Events for Serenity Knoll
REFRESH-INTERVAL;VALUE=DURATION:PT1H
X-Robots-Tag:noindex
X-PUBLISHED-TTL:PT1H
BEGIN:VTIMEZONE
TZID:America/New_York
BEGIN:DAYLIGHT
TZOFFSETFROM:-0500
TZOFFSETTO:-0400
TZNAME:EDT
DTSTART:20260308T070000
END:DAYLIGHT
BEGIN:STANDARD
TZOFFSETFROM:-0400
TZOFFSETTO:-0500
TZNAME:EST
DTSTART:20261101T060000
END:STANDARD
END:VTIMEZONE
BEGIN:VEVENT
DTSTART;TZID=America/New_York:20260513T163000
DTEND;TZID=America/New_York:20260513T180000
DTSTAMP:20260421T112156
CREATED:20260408T121034Z
LAST-MODIFIED:20260408T122242Z
UID:10001137-1778689800-1778695200@serenityknoll.com
SUMMARY:JUNIOR PIZZA CHEF w/ DAVID WILEY\, MAY 13TH at 4:30 PM\, $35 PER CHILD\, AGES 6 -12
DESCRIPTION:We will teach your child how to make pizza dough and sauce. They will then add their favorite toppings to create their own masterpiece! At the end of the class\, they will be awarded a Junior Pizza Chef Certificate! Child must be accompanied by an adult.
URL:https://serenityknoll.com/event/junior-pizza-chef-w-david-wiley-may-13th-at-430-pm-35-per-child-ages-6-12/
LOCATION:Serenity Knoll Farm\, 542 Bacon Branch Rd\, Jonesborough\, TN\, 37659\, United States
CATEGORIES:Cooking
ATTACH;FMTTYPE=image/jpeg:https://serenityknoll.com/wp-content/uploads/2025/02/Junior-pizza-chef.jpg
ORGANIZER;CN="Serenity Knoll Cooking School":MAILTO:sheridan@serenityknoll.com
END:VEVENT
END:VCALENDAR