BEGIN:VCALENDAR
VERSION:2.0
PRODID:-//Serenity Knoll - ECPv6.10.1.1//NONSGML v1.0//EN
CALSCALE:GREGORIAN
METHOD:PUBLISH
X-WR-CALNAME:Serenity Knoll
X-ORIGINAL-URL:https://serenityknoll.com
X-WR-CALDESC:Events for Serenity Knoll
REFRESH-INTERVAL;VALUE=DURATION:PT1H
X-Robots-Tag:noindex
X-PUBLISHED-TTL:PT1H
BEGIN:VTIMEZONE
TZID:America/New_York
BEGIN:DAYLIGHT
TZOFFSETFROM:-0500
TZOFFSETTO:-0400
TZNAME:EDT
DTSTART:20260308T070000
END:DAYLIGHT
BEGIN:STANDARD
TZOFFSETFROM:-0400
TZOFFSETTO:-0500
TZNAME:EST
DTSTART:20261101T060000
END:STANDARD
END:VTIMEZONE
BEGIN:VEVENT
DTSTART;TZID=America/New_York:20260430T180000
DTEND;TZID=America/New_York:20260430T200000
DTSTAMP:20260421T055930
CREATED:20260224T130942Z
LAST-MODIFIED:20260224T130942Z
UID:10001086-1777572000-1777579200@serenityknoll.com
SUMMARY:CELEBRATING SPRING w/ CHEF NATHAN BRAND\, APRIL 30TH at 6PM\, $70 PER PERSON\, BYOB
DESCRIPTION:Celebrate the arrival of spring with a vibrant\, seasonal dinner centered on one of the season’s most perfect foods: beautiful\, prepared salmon. In this relaxed\, convivial evening\, we’ll explore the flavors we’ve been waiting all year for — tender herbs\, young greens\, early citrus\, and bright pantry staples that make spring cooking feel alive again. You’ll learn how to build light yet satisfying dishes that highlight pristine ingredients\, with simple techniques you can return to all season long.\nTogether we’ll prepare and enjoy a multi-course spring supper\, culminating in a seared salmon centerpiece — gently cooked and paired with fresh herbs\, citrus\, and lively seasonal accompaniments. Along the way\, we’ll create herb-forward starters\, citrusy vinaigrettes\, and elegant small plates that balance richness with brightness. This class is less about complicated cooking and more about reawakening your palate after winter while gathering around the table.
URL:https://serenityknoll.com/event/celebrating-spring-w-chef-nathan-brand-april-30th-at-6pm-70-per-person-byob/
LOCATION:Serenity Knoll Farm\, 542 Bacon Branch Rd\, Jonesborough\, TN\, 37659\, United States
CATEGORIES:Cooking
ATTACH;FMTTYPE=image/jpeg:https://serenityknoll.com/wp-content/uploads/2026/02/SPRING-SALMON.jpg
ORGANIZER;CN="Serenity Knoll Cooking School":MAILTO:sheridan@serenityknoll.com
END:VEVENT
END:VCALENDAR