BEGIN:VCALENDAR
VERSION:2.0
PRODID:-//Serenity Knoll - ECPv6.10.1.1//NONSGML v1.0//EN
CALSCALE:GREGORIAN
METHOD:PUBLISH
X-ORIGINAL-URL:https://serenityknoll.com
X-WR-CALDESC:Events for Serenity Knoll
REFRESH-INTERVAL;VALUE=DURATION:PT1H
X-Robots-Tag:noindex
X-PUBLISHED-TTL:PT1H
BEGIN:VTIMEZONE
TZID:America/New_York
BEGIN:DAYLIGHT
TZOFFSETFROM:-0500
TZOFFSETTO:-0400
TZNAME:EDT
DTSTART:20260308T070000
END:DAYLIGHT
BEGIN:STANDARD
TZOFFSETFROM:-0400
TZOFFSETTO:-0500
TZNAME:EST
DTSTART:20261101T060000
END:STANDARD
END:VTIMEZONE
BEGIN:VEVENT
DTSTART;TZID=America/New_York:20260712T110000
DTEND;TZID=America/New_York:20260712T130000
DTSTAMP:20260420T105550
CREATED:20260408T102931Z
LAST-MODIFIED:20260408T102931Z
UID:10001136-1783854000-1783861200@serenityknoll.com
SUMMARY:SUNDAY YOGA & BRUNCH\, JULY 12TH at 11AM\, $30 PER PERSON
DESCRIPTION:Led by Allyson Neilson. Join us for an hour of gentle Yoga in our open-air pavilion\, followed by a delicious and healthy brunch! Yoga sessions are beginner-friendly\, and mats\, blocks\, bolsters\, and blankets will be available. Please sign up to secure your spot! Rain or Shine.
URL:https://serenityknoll.com/event/sunday-yoga-brunch-july-12th-at-11am-30-per-person/
LOCATION:Serenity Knoll Farm\, 542 Bacon Branch Rd\, Jonesborough\, TN\, 37659\, United States
CATEGORIES:Cooking
ATTACH;FMTTYPE=image/jpeg:https://serenityknoll.com/wp-content/uploads/2023/05/Yoga-Jonesborough.jpeg
ORGANIZER;CN="Serenity Knoll Cooking School":MAILTO:sheridan@serenityknoll.com
END:VEVENT
BEGIN:VEVENT
DTSTART;TZID=America/New_York:20260712T150000
DTEND;TZID=America/New_York:20260712T170000
DTSTAMP:20260420T105550
CREATED:20260418T125848Z
LAST-MODIFIED:20260418T125848Z
UID:10001144-1783868400-1783875600@serenityknoll.com
SUMMARY:SUGAR COOKIE DECORATING CLASS w/ CHEF ANGELA BOWES\, JULY 12TH at 3PM\, $65 PER PERSON
DESCRIPTION:Have you ever wanted to create beautifully decorated sugar cookies? Now’s your chance! Join Food Network Winner Chef Angela Bowes in the Serenity Knoll kitchen for this hands-on class. You’ll decorate six sugar cookies using three different techniques: \n Royal Icing – Smooth\, elegant designs perfect for intricate details \n Buttercream – Soft\, textured piping for a classic\, delicious look \n Fondant – Create polished\, professional-style decorations \nNo experience? No problem! This class is open to all ages and perfect for beginners and seasoned bakers alike. Join us at Serenity Knoll Cooking School and discover just how fun and rewarding cookie decorating can be! \nWhat’s Included: \n Step-by-step guidance in a fun\, relaxed setting \n All decorating tools and materials are provided for class \n Take-home recipes so you can recreate your designs \nThis class can be made gluten-free for a small additional charge. Just let us know when you purchase your ticket so we can have everything ready for you! Spots are limited—sign up today and bring your creativity! 
URL:https://serenityknoll.com/event/sugar-cookie-decorating-class-w-chef-angela-bowes-july-12th-at-3pm-65-per-person/
LOCATION:Serenity Knoll Farm\, 542 Bacon Branch Rd\, Jonesborough\, TN\, 37659\, United States
CATEGORIES:Cooking
ATTACH;FMTTYPE=image/png:https://serenityknoll.com/wp-content/uploads/2024/05/angela-summer-sugar-cookies.png
ORGANIZER;CN="Serenity Knoll Cooking School":MAILTO:sheridan@serenityknoll.com
END:VEVENT
END:VCALENDAR