BEGIN:VCALENDAR
VERSION:2.0
PRODID:-//Serenity Knoll - ECPv6.10.1.1//NONSGML v1.0//EN
CALSCALE:GREGORIAN
METHOD:PUBLISH
X-WR-CALNAME:Serenity Knoll
X-ORIGINAL-URL:https://serenityknoll.com
X-WR-CALDESC:Events for Serenity Knoll
REFRESH-INTERVAL;VALUE=DURATION:PT1H
X-Robots-Tag:noindex
X-PUBLISHED-TTL:PT1H
BEGIN:VTIMEZONE
TZID:America/New_York
BEGIN:DAYLIGHT
TZOFFSETFROM:-0500
TZOFFSETTO:-0400
TZNAME:EDT
DTSTART:20260308T070000
END:DAYLIGHT
BEGIN:STANDARD
TZOFFSETFROM:-0400
TZOFFSETTO:-0500
TZNAME:EST
DTSTART:20261101T060000
END:STANDARD
END:VTIMEZONE
BEGIN:VEVENT
DTSTART;TZID=America/New_York:20260527T163000
DTEND;TZID=America/New_York:20260527T180000
DTSTAMP:20260420T105414
CREATED:20260408T121947Z
LAST-MODIFIED:20260408T121947Z
UID:10001138-1779899400-1779904800@serenityknoll.com
SUMMARY:DONUTS & CHURROS KID’S COOKING CLASS\, WEDNESDAY\, MAY 27TH at 4:30PM\, AGES 6–12 $35 PER PERSON\, MUST BE ACCOMPANIED BY AN ADULT
DESCRIPTION:In this edition of our kids’ cooking series\, young chefs will mix\, bake\, and decorate their own donuts. Each child will enjoy a donut in class and take a few home to share.
URL:https://serenityknoll.com/event/donuts-churros-kids-cooking-class-wednesday-may-27th-at-430pm-ages-6-12-35-per-person-must-be-accompanied-by-an-adult/
LOCATION:Serenity Knoll Farm\, 542 Bacon Branch Rd\, Jonesborough\, TN\, 37659\, United States
CATEGORIES:Cooking
ATTACH;FMTTYPE=image/jpeg:https://serenityknoll.com/wp-content/uploads/2025/12/Kids-donuts-2.jpg
ORGANIZER;CN="Serenity Knoll Cooking School":MAILTO:sheridan@serenityknoll.com
END:VEVENT
END:VCALENDAR