BEGIN:VCALENDAR
VERSION:2.0
PRODID:-//Serenity Knoll - ECPv6.10.1.1//NONSGML v1.0//EN
CALSCALE:GREGORIAN
METHOD:PUBLISH
X-WR-CALNAME:Serenity Knoll
X-ORIGINAL-URL:https://serenityknoll.com
X-WR-CALDESC:Events for Serenity Knoll
REFRESH-INTERVAL;VALUE=DURATION:PT1H
X-Robots-Tag:noindex
X-PUBLISHED-TTL:PT1H
BEGIN:VTIMEZONE
TZID:America/New_York
BEGIN:DAYLIGHT
TZOFFSETFROM:-0500
TZOFFSETTO:-0400
TZNAME:EDT
DTSTART:20260308T070000
END:DAYLIGHT
BEGIN:STANDARD
TZOFFSETFROM:-0400
TZOFFSETTO:-0500
TZNAME:EST
DTSTART:20261101T060000
END:STANDARD
END:VTIMEZONE
BEGIN:VEVENT
DTSTART;TZID=America/New_York:20260424T180000
DTEND;TZID=America/New_York:20260424T200000
DTSTAMP:20260420T050800
CREATED:20260311T183908Z
LAST-MODIFIED:20260311T183908Z
UID:10001100-1777053600-1777060800@serenityknoll.com
SUMMARY:MEDITERRANEAN - GREEK KABOBS w/ CHEF KARLA GRIMALDI\, APRIL 24TH at 6PM\, $75 PER PERSON\, BYOB
DESCRIPTION:Go beyond burgers and steaks; up your summer grilling game while learning new dishes and techniques to wow your guests. What’s on the menu? Chicken Souvlaki\, Lamb Kofta\, Salmon & Vegetables\, Lemon Rice\, and Horitake Salad.
URL:https://serenityknoll.com/event/mediterranean-greek-kabobs-w-chef-karla-grimaldi-april-24th-at-6pm-75-per-person-byob/
LOCATION:Serenity Knoll Farm\, 542 Bacon Branch Rd\, Jonesborough\, TN\, 37659\, United States
CATEGORIES:Cooking
ATTACH;FMTTYPE=image/jpeg:https://serenityknoll.com/wp-content/uploads/2026/03/Karlas-kabobs.jpg
ORGANIZER;CN="Serenity Knoll Cooking School":MAILTO:sheridan@serenityknoll.com
END:VEVENT
END:VCALENDAR