BEGIN:VCALENDAR
VERSION:2.0
PRODID:-//Serenity Knoll - ECPv6.10.1.1//NONSGML v1.0//EN
CALSCALE:GREGORIAN
METHOD:PUBLISH
X-WR-CALNAME:Serenity Knoll
X-ORIGINAL-URL:https://serenityknoll.com
X-WR-CALDESC:Events for Serenity Knoll
REFRESH-INTERVAL;VALUE=DURATION:PT1H
X-Robots-Tag:noindex
X-PUBLISHED-TTL:PT1H
BEGIN:VTIMEZONE
TZID:America/New_York
BEGIN:DAYLIGHT
TZOFFSETFROM:-0500
TZOFFSETTO:-0400
TZNAME:EDT
DTSTART:20260308T070000
END:DAYLIGHT
BEGIN:STANDARD
TZOFFSETFROM:-0400
TZOFFSETTO:-0500
TZNAME:EST
DTSTART:20261101T060000
END:STANDARD
END:VTIMEZONE
BEGIN:VEVENT
DTSTART;TZID=America/New_York:20260423T180000
DTEND;TZID=America/New_York:20260423T200000
DTSTAMP:20260423T013800
CREATED:20260406T113850Z
LAST-MODIFIED:20260406T130855Z
UID:10001125-1776967200-1776974400@serenityknoll.com
SUMMARY:PIZZA FROM SCRATCH W/ BRAD PARKER\, APRIL 23RD at 6PM\, $65.00 PER PERSON\, BYOB
DESCRIPTION:One of our favorite people\, Brad Parker\, will be teaching this class! Learn to make fresh pizza dough and an authentic pizza sauce before you build you pizza with your favorite toppings! This class will inspire you with simple yet effective cooking techniques\, allow you to experience fresh\, local ingredients\, and give you the satisfaction of serving great food to others. Bring the whole family! We’ll make the pizza in the wood oven\, but you can easily do this at home or on your backyard grill.
URL:https://serenityknoll.com/event/pizza-from-scratch-w-brad-parker-april-23rd-at-6pm-65-00-per-person-byob/
LOCATION:Serenity Knoll Farm\, 542 Bacon Branch Rd\, Jonesborough\, TN\, 37659\, United States
CATEGORIES:Cooking
ATTACH;FMTTYPE=image/jpeg:https://serenityknoll.com/wp-content/uploads/2025/07/ultimate-pizza.jpg
ORGANIZER;CN="Serenity Knoll Cooking School":MAILTO:sheridan@serenityknoll.com
END:VEVENT
END:VCALENDAR