BEGIN:VCALENDAR
VERSION:2.0
PRODID:-//Serenity Knoll - ECPv6.10.1.1//NONSGML v1.0//EN
CALSCALE:GREGORIAN
METHOD:PUBLISH
X-ORIGINAL-URL:https://serenityknoll.com
X-WR-CALDESC:Events for Serenity Knoll
REFRESH-INTERVAL;VALUE=DURATION:PT1H
X-Robots-Tag:noindex
X-PUBLISHED-TTL:PT1H
BEGIN:VTIMEZONE
TZID:America/New_York
BEGIN:DAYLIGHT
TZOFFSETFROM:-0500
TZOFFSETTO:-0400
TZNAME:EDT
DTSTART:20260308T070000
END:DAYLIGHT
BEGIN:STANDARD
TZOFFSETFROM:-0400
TZOFFSETTO:-0500
TZNAME:EST
DTSTART:20261101T060000
END:STANDARD
END:VTIMEZONE
BEGIN:VEVENT
DTSTART;TZID=America/New_York:20260321T120000
DTEND;TZID=America/New_York:20260321T150000
DTSTAMP:20260420T190123
CREATED:20260205T135132Z
LAST-MODIFIED:20260205T135132Z
UID:10001072-1774094400-1774105200@serenityknoll.com
SUMMARY:SAUSAGE MAKING 101 w/ BUTCHER / CHEF THOMAS FRITZINGER\, MARCH 21ST at NOON\, $75 PER PERSON
DESCRIPTION:Learn the timeless craft of sausage making in this hands-on workshop designed for beginners and enthusiasts alike. We’ll cover everything from selecting meats and seasonings to grinding\, mixing\, stuffing\, and cooking techniques. Whether you’re looking to make fresh breakfast links or smoky bratwursts\, this class gives you the foundation to start crafting sausages safely and confidently at home. Please bring paper; note-taking is encouraged!\nBy the end of the session\, you’ll go home with a deeper understanding of the science and art behind sausage making — and a few sausages of your own!\nClass Length and Format:\n3 Hour Class\nLecture & Demo (1 hour)\nHands-On Workshop (1.5 hours)\nQ&A + Tasting / Wrap-Up (30 mins)\nCourse Will Cover:\nFood Safety & Cleanliness\nThe Importance of Fat\nBest Cuts to Use for Sausage\nGrind Basics\nSeasoning & Mixing\nBasic Spice Formulations\nCasings & Stuffing\nDifferent Flavor Profiles
URL:https://serenityknoll.com/event/sausage-making-101-w-butcher-chef-thomas-fritzinger-march-21st-at-noon-75-per-person/
LOCATION:Serenity Knoll Farm\, 542 Bacon Branch Rd\, Jonesborough\, TN\, 37659\, United States
CATEGORIES:Cooking
ATTACH;FMTTYPE=image/jpeg:https://serenityknoll.com/wp-content/uploads/2025/09/homemade-sausages.jpg
ORGANIZER;CN="Serenity Knoll Cooking School":MAILTO:sheridan@serenityknoll.com
END:VEVENT
BEGIN:VEVENT
DTSTART;TZID=America/New_York:20260321T180000
DTEND;TZID=America/New_York:20260321T200000
DTSTAMP:20260420T190123
CREATED:20260114T125155Z
LAST-MODIFIED:20260114T125155Z
UID:10001053-1774116000-1774123200@serenityknoll.com
SUMMARY:SOUTHERN ITALIAN DINNER w/ PRISCILLA HUTTO\, MARCH 21ST at 6PM\, $75 PER PERSON\, BYOB
DESCRIPTION:Have you ever been to a Southern Italian dinner? Well\, this is your chance. During this class\, we will be serving four different courses. As you arrive\, we will serve different antipasti like Caprese salad\, bread with olive oil\, mozzarella\, Prosciutto\, olives\, and grilled zucchini with goat cheese. Then the class will begin\, and we will do our first course together. We will make fresh pasta together; you will learn how to make pasta from scratch. The second course we will make will be Fresh Salmon Meatballs served with Italian Rosemary-Baked Potatoes. For dessert\, we will have an amazing Tiramisu.  Don’t miss this unique culinary experience. Whether you’re a food lover or an aspiring chef\, this night promises to be delicious\, fun\, and unforgettable!
URL:https://serenityknoll.com/event/southern-italian-dinner-w-priscilla-hutto-march-21st-at-6pm-75-per-person-byob/
LOCATION:Serenity Knoll Farm\, 542 Bacon Branch Rd\, Jonesborough\, TN\, 37659\, United States
CATEGORIES:Cooking
ATTACH;FMTTYPE=image/jpeg:https://serenityknoll.com/wp-content/uploads/2025/05/Italian-dinner-party-priscilla.jpg
ORGANIZER;CN="Serenity Knoll Cooking School":MAILTO:sheridan@serenityknoll.com
END:VEVENT
END:VCALENDAR