BEGIN:VCALENDAR
VERSION:2.0
PRODID:-//Serenity Knoll - ECPv6.10.1.1//NONSGML v1.0//EN
CALSCALE:GREGORIAN
METHOD:PUBLISH
X-ORIGINAL-URL:https://serenityknoll.com
X-WR-CALDESC:Events for Serenity Knoll
REFRESH-INTERVAL;VALUE=DURATION:PT1H
X-Robots-Tag:noindex
X-PUBLISHED-TTL:PT1H
BEGIN:VTIMEZONE
TZID:America/New_York
BEGIN:DAYLIGHT
TZOFFSETFROM:-0500
TZOFFSETTO:-0400
TZNAME:EDT
DTSTART:20260308T070000
END:DAYLIGHT
BEGIN:STANDARD
TZOFFSETFROM:-0400
TZOFFSETTO:-0500
TZNAME:EST
DTSTART:20261101T060000
END:STANDARD
END:VTIMEZONE
BEGIN:VEVENT
DTSTART;TZID=America/New_York:20260318T163000
DTEND;TZID=America/New_York:20260318T180000
DTSTAMP:20260420T185928
CREATED:20260221T155733Z
LAST-MODIFIED:20260312T134353Z
UID:10001083-1773851400-1773856800@serenityknoll.com
SUMMARY:KID'S SOFT PRETZEL AND DIPPING SAUCE LAB w/ DAVID WILEY\, MARCH 18th at 4:30PM\, $35 PER CHILD\, MUST BE ACCOMPANIED BY AN ADULT
DESCRIPTION:In this savory baking lab\, kids will mix\, shape\, and bake soft pretzels from scratch-Then whip up delicious dipping sauces to go with them. A perfect mix of kitchen science and fun. Warm pretzels+homemade dips=happy kids!
URL:https://serenityknoll.com/event/kids-soft-pretzel-and-dipping-sauce-lab-w-david-wiley-march-18th-at-430pm-35-per-child-must-be-accompanied-by-an-adult/
LOCATION:Serenity Knoll Farm\, 542 Bacon Branch Rd\, Jonesborough\, TN\, 37659\, United States
CATEGORIES:Cooking
ATTACH;FMTTYPE=image/jpeg:https://serenityknoll.com/wp-content/uploads/2026/02/KIDS-PRETZELS.jpg
ORGANIZER;CN="Serenity Knoll Cooking School":MAILTO:sheridan@serenityknoll.com
END:VEVENT
END:VCALENDAR