BEGIN:VCALENDAR
VERSION:2.0
PRODID:-//Serenity Knoll - ECPv6.10.1.1//NONSGML v1.0//EN
CALSCALE:GREGORIAN
METHOD:PUBLISH
X-WR-CALNAME:Serenity Knoll
X-ORIGINAL-URL:https://serenityknoll.com
X-WR-CALDESC:Events for Serenity Knoll
REFRESH-INTERVAL;VALUE=DURATION:PT1H
X-Robots-Tag:noindex
X-PUBLISHED-TTL:PT1H
BEGIN:VTIMEZONE
TZID:America/New_York
BEGIN:DAYLIGHT
TZOFFSETFROM:-0500
TZOFFSETTO:-0400
TZNAME:EDT
DTSTART:20260308T070000
END:DAYLIGHT
BEGIN:STANDARD
TZOFFSETFROM:-0400
TZOFFSETTO:-0500
TZNAME:EST
DTSTART:20261101T060000
END:STANDARD
END:VTIMEZONE
BEGIN:VEVENT
DTSTART;TZID=America/New_York:20260311T163000
DTEND;TZID=America/New_York:20260311T180000
DTSTAMP:20260420T185726
CREATED:20260221T161551Z
LAST-MODIFIED:20260310T123228Z
UID:10001084-1773246600-1773252000@serenityknoll.com
SUMMARY:KID'S ST. PATRICK'S DAY RAINBOW CHOCOLATE BARK w/DAVID WILEY\, MARCH 11TH at 4:30PM\, $35 PER PERSON\, MUST BE ACCOMPANIED BY AN ADULT
DESCRIPTION:Celebrate St.Patrick’s Day with hands-on chocolate fun! In this interactive class\, kids will\ncreate their own rainbow chocolate bark and “pot of gold” treats using white chocolate\,\ncolorful candy melts\, and festive sprinkles. They’ll practice melting\, drizzling\, layering\nand decorating techniques while designing unique edible masterpieces.\nEach student will take home a box of bright\, colorful chocolate creations to share or\nenjoy. This class is perfect for kids who love hands-on creativity\, vibrant colors and\nsweet treats.
URL:https://serenityknoll.com/event/kids-st-patricks-day-rainbow-chocolate-bark-w-david-wiley-march-11th-at-430pm-35-per-person-must-be-accompanied-by-an-adult/
LOCATION:Serenity Knoll Farm\, 542 Bacon Branch Rd\, Jonesborough\, TN\, 37659\, United States
CATEGORIES:Cooking
ATTACH;FMTTYPE=image/jpeg:https://serenityknoll.com/wp-content/uploads/2026/02/rainbow-chocolate-bark.jpg
ORGANIZER;CN="Serenity Knoll Cooking School":MAILTO:sheridan@serenityknoll.com
END:VEVENT
END:VCALENDAR