BEGIN:VCALENDAR
VERSION:2.0
PRODID:-//Serenity Knoll - ECPv6.10.1.1//NONSGML v1.0//EN
CALSCALE:GREGORIAN
METHOD:PUBLISH
X-ORIGINAL-URL:https://serenityknoll.com
X-WR-CALDESC:Events for Serenity Knoll
REFRESH-INTERVAL;VALUE=DURATION:PT1H
X-Robots-Tag:noindex
X-PUBLISHED-TTL:PT1H
BEGIN:VTIMEZONE
TZID:America/New_York
BEGIN:DAYLIGHT
TZOFFSETFROM:-0500
TZOFFSETTO:-0400
TZNAME:EDT
DTSTART:20250309T070000
END:DAYLIGHT
BEGIN:STANDARD
TZOFFSETFROM:-0400
TZOFFSETTO:-0500
TZNAME:EST
DTSTART:20251102T060000
END:STANDARD
END:VTIMEZONE
BEGIN:VEVENT
DTSTART;TZID=America/New_York:20251205T180000
DTEND;TZID=America/New_York:20251205T200000
DTSTAMP:20260422T183624
CREATED:20251118T132116Z
LAST-MODIFIED:20251203T152812Z
UID:10000987-1764957600-1764964800@serenityknoll.com
SUMMARY:GLOBAL FONDUE ADVENTURE: A CHEESE AND CHOCOLATE JOURNEY w/ ASHLEY & JOHN KOSKO\, DECEMBER 5TH at 6PM\, $75 PER PERSON\, BYOB
DESCRIPTION:Discover the world of fondue as our husband-and-wife chefs\, John and Ashley Kosko\, lead you through a delicious\, hands-on global fondue class featuring artisan cheeses and chocolates from around the world. This class will be perfect for anyone who loves great food and international flavors. Whether you are a first-time fondue lover or a seasoned gourmet\, this class blends comfort\, culture\, and creativity into a night of delicious learning.
URL:https://serenityknoll.com/event/global-fondue-adventure-a-cheese-and-chocolate-journey-w-ashley-john-kosko-december-5th-at-6pm-75-per-person-byob/
LOCATION:Serenity Knoll Farm\, 542 Bacon Branch Rd\, Jonesborough\, TN\, 37659\, United States
CATEGORIES:Cooking
ATTACH;FMTTYPE=image/jpeg:https://serenityknoll.com/wp-content/uploads/2025/11/cheese-and-chocolate-fondue.jpg
ORGANIZER;CN="Serenity Knoll Cooking School":MAILTO:sheridan@serenityknoll.com
END:VEVENT
END:VCALENDAR