BEGIN:VCALENDAR
VERSION:2.0
PRODID:-//Serenity Knoll - ECPv6.10.1.1//NONSGML v1.0//EN
CALSCALE:GREGORIAN
METHOD:PUBLISH
X-ORIGINAL-URL:https://serenityknoll.com
X-WR-CALDESC:Events for Serenity Knoll
REFRESH-INTERVAL;VALUE=DURATION:PT1H
X-Robots-Tag:noindex
X-PUBLISHED-TTL:PT1H
BEGIN:VTIMEZONE
TZID:America/New_York
BEGIN:DAYLIGHT
TZOFFSETFROM:-0500
TZOFFSETTO:-0400
TZNAME:EDT
DTSTART:20250309T070000
END:DAYLIGHT
BEGIN:STANDARD
TZOFFSETFROM:-0400
TZOFFSETTO:-0500
TZNAME:EST
DTSTART:20251102T060000
END:STANDARD
END:VTIMEZONE
BEGIN:VEVENT
DTSTART;TZID=America/New_York:20251126T163000
DTEND;TZID=America/New_York:20251126T180000
DTSTAMP:20260422T200534
CREATED:20251020T185649Z
LAST-MODIFIED:20251020T185649Z
UID:10000977-1764174600-1764180000@serenityknoll.com
SUMMARY:HOLIDAY COOKIE WORKSHOP w/ DAVID WILEY\, NOVEMBER 26TH at 4:30PM\, $35 PER CHILD\, 6 - 12 MUST BE ACCOMPANIED BY AN ADULT
DESCRIPTION:Holiday Cookie Kickoff! Creative baking right after Thanksgiving weekend to start the holiday spirit. Sugar cookie cutouts to decorate. Hot cocoa mug cookies (mini chocolate chip cookies designed to perch on cocoa mugs)\, Shortbread or thumbprint cookies with jam. We’ll focus on Mixing dough\, rolling\, using cookie cutters\, decorating with icing and sprinkles. Each child decorates a few cookies to take home in a gift box or bag.
URL:https://serenityknoll.com/event/holiday-cookie-workshop-w-david-wiley-november-26th-at-430pm-35-per-child-6-12-must-be-accompanied-by-an-adult/
LOCATION:Serenity Knoll Farm\, 542 Bacon Branch Rd\, Jonesborough\, TN\, 37659\, United States
CATEGORIES:Cooking
ATTACH;FMTTYPE=image/jpeg:https://serenityknoll.com/wp-content/uploads/2025/10/KIDS-MAKING-HOLIDAY-COOKIES.jpg
ORGANIZER;CN="Serenity Knoll Cooking School":MAILTO:sheridan@serenityknoll.com
END:VEVENT
END:VCALENDAR