BEGIN:VCALENDAR
VERSION:2.0
PRODID:-//Serenity Knoll - ECPv6.10.1.1//NONSGML v1.0//EN
CALSCALE:GREGORIAN
METHOD:PUBLISH
X-WR-CALNAME:Serenity Knoll
X-ORIGINAL-URL:https://serenityknoll.com
X-WR-CALDESC:Events for Serenity Knoll
REFRESH-INTERVAL;VALUE=DURATION:PT1H
X-Robots-Tag:noindex
X-PUBLISHED-TTL:PT1H
BEGIN:VTIMEZONE
TZID:America/New_York
BEGIN:DAYLIGHT
TZOFFSETFROM:-0500
TZOFFSETTO:-0400
TZNAME:EDT
DTSTART:20250309T070000
END:DAYLIGHT
BEGIN:STANDARD
TZOFFSETFROM:-0400
TZOFFSETTO:-0500
TZNAME:EST
DTSTART:20251102T060000
END:STANDARD
END:VTIMEZONE
BEGIN:VEVENT
DTSTART;TZID=America/New_York:20251008T163000
DTEND;TZID=America/New_York:20251008T183000
DTSTAMP:20260422T045937
CREATED:20250917T162919Z
LAST-MODIFIED:20250917T163009Z
UID:10000959-1759941000-1759948200@serenityknoll.com
SUMMARY:KID’S PASTA CLASS w/ DAVID WILEY\, OCTOBER 8TH at 4:30 PM\, $35 PER CHILD\, AGES 6 – 12\, MUST BE ACCOMPANIED BY AN ADULT
DESCRIPTION:Get ready to roll\, cut\, and twirl in this hands-on pasta-making adventure. Kids will learn how to mix and knead fresh pasta dough\, roll it out\, and cut it into fun shapes. They’ll discover the magic of making their own noodles from scratch and cooking them to perfection. Then\, they will whip up a simple\, delicious sauce to bring it all together. Parents/grandparents must attend with each child.
URL:https://serenityknoll.com/event/kids-pasta-class-w-david-wiley-october-8th-at-430-pm-35-per-child-ages-6-12-must-be-accompanied-by-an-adult/
LOCATION:Serenity Knoll Farm\, 542 Bacon Branch Rd\, Jonesborough\, TN\, 37659\, United States
CATEGORIES:Cooking
ATTACH;FMTTYPE=image/jpeg:https://serenityknoll.com/wp-content/uploads/2025/02/kids-6-12-making-homemade-pasta.jpg
ORGANIZER;CN="Serenity Knoll Cooking School":MAILTO:sheridan@serenityknoll.com
END:VEVENT
END:VCALENDAR