BEGIN:VCALENDAR
VERSION:2.0
PRODID:-//Serenity Knoll - ECPv6.10.1.1//NONSGML v1.0//EN
CALSCALE:GREGORIAN
METHOD:PUBLISH
X-WR-CALNAME:Serenity Knoll
X-ORIGINAL-URL:https://serenityknoll.com
X-WR-CALDESC:Events for Serenity Knoll
REFRESH-INTERVAL;VALUE=DURATION:PT1H
X-Robots-Tag:noindex
X-PUBLISHED-TTL:PT1H
BEGIN:VTIMEZONE
TZID:America/New_York
BEGIN:DAYLIGHT
TZOFFSETFROM:-0500
TZOFFSETTO:-0400
TZNAME:EDT
DTSTART:20250309T070000
END:DAYLIGHT
BEGIN:STANDARD
TZOFFSETFROM:-0400
TZOFFSETTO:-0500
TZNAME:EST
DTSTART:20251102T060000
END:STANDARD
END:VTIMEZONE
BEGIN:VEVENT
DTSTART;TZID=America/New_York:20250802T110000
DTEND;TZID=America/New_York:20250802T130000
DTSTAMP:20260420T202803
CREATED:20250723T144235Z
LAST-MODIFIED:20250723T144235Z
UID:10000895-1754132400-1754139600@serenityknoll.com
SUMMARY:PROVENÇAL LUNCHEON w/ CHEF SHERIDAN NICE\, AUGUST 2ND at 11AM\, $70 PER PERSON\, BYOB
DESCRIPTION:This class will feature some of our favorite French classics. One of them is Julia Child’s Bouillabaisse with Sauce Rouille\, a dish that remains strictly Provençal\, with its unique blend of local herbs\, and specific serving ritual. A typical Provençal Salad will be served\, as well as a fantastic Olive\, Fig\, & Honey Tapenade. A French Rosé will be served with the meal.
URL:https://serenityknoll.com/event/provencal-luncheon-w-chef-sheridan-nice-august-2nd-at-11am-70-per-person-byob/
LOCATION:Serenity Knoll Farm\, 542 Bacon Branch Rd\, Jonesborough\, TN\, 37659\, United States
CATEGORIES:Cooking
ATTACH;FMTTYPE=image/jpeg:https://serenityknoll.com/wp-content/uploads/2025/07/bouillibaise.jpg
ORGANIZER;CN="Serenity Knoll Cooking School":MAILTO:sheridan@serenityknoll.com
END:VEVENT
BEGIN:VEVENT
DTSTART;TZID=America/New_York:20250802T180000
DTEND;TZID=America/New_York:20250802T200000
DTSTAMP:20260420T202803
CREATED:20250722T123827Z
LAST-MODIFIED:20250730T163029Z
UID:10000892-1754157600-1754164800@serenityknoll.com
SUMMARY:ULTIMATE WOODFIRED PIZZA FEAST w/ DAVID WILEY\, AUGUST 2ND at 6PM\, $70 PER PERSON\, BYOB
DESCRIPTION:Learn how to make perfect pizza dough and sauce\, whip up our signature pea shoot pesto (for base or topping)\, and build your woodfired pizza at our topping station. Plus\, enjoy crispy deep-fried mozzarella balls with pepperoni\, woodfired garlic knots with our home-grown garlic\, and finish with a gooey s’mores pizza straight from the oven.  Come hungry and ready for a fun night. Served with your dinner will be a glass of Chianti Classico.  With dessert\, we’ll offer a Tawny Port sip.
URL:https://serenityknoll.com/event/ultimate-woodfired-pizza-feast-w-david-wiley-august-2nd-at-6pm-70-per-person-byob/
LOCATION:Serenity Knoll Farm\, 542 Bacon Branch Rd\, Jonesborough\, TN\, 37659\, United States
CATEGORIES:Cooking
ATTACH;FMTTYPE=image/jpeg:https://serenityknoll.com/wp-content/uploads/2025/07/ultimate-pizza.jpg
ORGANIZER;CN="Serenity Knoll Cooking School":MAILTO:sheridan@serenityknoll.com
END:VEVENT
END:VCALENDAR