BEGIN:VCALENDAR
VERSION:2.0
PRODID:-//Serenity Knoll - ECPv6.10.1.1//NONSGML v1.0//EN
CALSCALE:GREGORIAN
METHOD:PUBLISH
X-WR-CALNAME:Serenity Knoll
X-ORIGINAL-URL:https://serenityknoll.com
X-WR-CALDESC:Events for Serenity Knoll
REFRESH-INTERVAL;VALUE=DURATION:PT1H
X-Robots-Tag:noindex
X-PUBLISHED-TTL:PT1H
BEGIN:VTIMEZONE
TZID:America/New_York
BEGIN:DAYLIGHT
TZOFFSETFROM:-0500
TZOFFSETTO:-0400
TZNAME:EDT
DTSTART:20250309T070000
END:DAYLIGHT
BEGIN:STANDARD
TZOFFSETFROM:-0400
TZOFFSETTO:-0500
TZNAME:EST
DTSTART:20251102T060000
END:STANDARD
END:VTIMEZONE
BEGIN:VEVENT
DTSTART;TZID=America/New_York:20250801T170000
DTEND;TZID=America/New_York:20250801T190000
DTSTAMP:20260420T203301
CREATED:20250407T150152Z
LAST-MODIFIED:20250407T150152Z
UID:10000786-1754067600-1754074800@serenityknoll.com
SUMMARY:PIPING FLOWER CAKE DECORATION CLASS w/ ANGELA BOWES\, AUGUST 1ST at 5PM\, $65 PER PERSON
DESCRIPTION:Ready to bring your cake-decorating skills to life? Join us for this fun\, hands-on class where you’ll learn how to decorate your own gorgeous two-layer\, six-inch cake! \nIn this class\, you’ll master the art of prepping cake pans\, stacking layers\, and decorating your cake with buttercream flowers using a variety of piping tips! Whether you’re a beginner or just looking to refine your skills\, you’ll leave with a beautiful\, delicious cake you’ve decorated yourself. \nThis class is perfect for all ages\, and no prior experience is required—just bring your creativity and a big appetite for cake!\nWhat You’ll Get:\n✔️ A two-layer\, six-inch chocolate cake (that you’ll decorate with flowers!)\n✔️ Hands-on experience piping beautiful buttercream flowers using different tips\n✔️ All materials and tools provided—you need to show up ready to create!\n✔️ A cake that’s as pretty as it is delicious (and yours to take home)\nSpots are limited—sign up today\, and let’s get piping!
URL:https://serenityknoll.com/event/piping-flower-cake-decoration-class-w-angela-bowes-august-1st-at-5pm-65-per-person/
LOCATION:Serenity Knoll Farm\, 542 Bacon Branch Rd\, Jonesborough\, TN\, 37659\, United States
CATEGORIES:Cooking
ATTACH;FMTTYPE=image/jpeg:https://serenityknoll.com/wp-content/uploads/2025/04/cakeflowersUSE.jpg
ORGANIZER;CN="Serenity Knoll Cooking School":MAILTO:sheridan@serenityknoll.com
END:VEVENT
END:VCALENDAR