BEGIN:VCALENDAR
VERSION:2.0
PRODID:-//Serenity Knoll - ECPv6.10.1.1//NONSGML v1.0//EN
CALSCALE:GREGORIAN
METHOD:PUBLISH
X-WR-CALNAME:Serenity Knoll
X-ORIGINAL-URL:https://serenityknoll.com
X-WR-CALDESC:Events for Serenity Knoll
REFRESH-INTERVAL;VALUE=DURATION:PT1H
X-Robots-Tag:noindex
X-PUBLISHED-TTL:PT1H
BEGIN:VTIMEZONE
TZID:America/New_York
BEGIN:DAYLIGHT
TZOFFSETFROM:-0500
TZOFFSETTO:-0400
TZNAME:EDT
DTSTART:20250309T070000
END:DAYLIGHT
BEGIN:STANDARD
TZOFFSETFROM:-0400
TZOFFSETTO:-0500
TZNAME:EST
DTSTART:20251102T060000
END:STANDARD
END:VTIMEZONE
BEGIN:VEVENT
DTSTART;TZID=America/New_York:20250724T180000
DTEND;TZID=America/New_York:20250724T200000
DTSTAMP:20260419T171324
CREATED:20250609T160821Z
LAST-MODIFIED:20250609T160821Z
UID:10000878-1753380000-1753387200@serenityknoll.com
SUMMARY:GREEK STREET FOOD w/ CHEF KARLA GRIMALDI\, JULY 24TH at 6PM\, $75 PER PERSON
DESCRIPTION:Perfect dinner for a hot summer night:\nHoriatiki-classic Greek salad\, Marinated and grilled pork and lamb souvlaki\, with Tzatziki Sauce\, Kolokithokeftedes- Zuchhini Fritters\, and Tomatokeftedes-Tomato & Feta Fritters. While you enjoy your dinner\, Chef Karla will prepare Loukoumades\, honey-dipped Greek donuts for dessert.
URL:https://serenityknoll.com/event/greek-street-food-w-chef-karla-grimaldi-july-24th-at-6pm-75-per-person/
LOCATION:Serenity Knoll Farm\, 542 Bacon Branch Rd\, Jonesborough\, TN\, 37659\, United States
CATEGORIES:Cooking
ATTACH;FMTTYPE=image/jpeg:https://serenityknoll.com/wp-content/uploads/2025/05/GREEK-STREET-FOOD.jpg
ORGANIZER;CN="Serenity Knoll Cooking School":MAILTO:sheridan@serenityknoll.com
END:VEVENT
END:VCALENDAR