BEGIN:VCALENDAR
VERSION:2.0
PRODID:-//Serenity Knoll - ECPv6.10.1.1//NONSGML v1.0//EN
CALSCALE:GREGORIAN
METHOD:PUBLISH
X-WR-CALNAME:Serenity Knoll
X-ORIGINAL-URL:https://serenityknoll.com
X-WR-CALDESC:Events for Serenity Knoll
REFRESH-INTERVAL;VALUE=DURATION:PT1H
X-Robots-Tag:noindex
X-PUBLISHED-TTL:PT1H
BEGIN:VTIMEZONE
TZID:America/New_York
BEGIN:DAYLIGHT
TZOFFSETFROM:-0500
TZOFFSETTO:-0400
TZNAME:EDT
DTSTART:20250309T070000
END:DAYLIGHT
BEGIN:STANDARD
TZOFFSETFROM:-0400
TZOFFSETTO:-0500
TZNAME:EST
DTSTART:20251102T060000
END:STANDARD
END:VTIMEZONE
BEGIN:VEVENT
DTSTART;TZID=America/New_York:20250720T110000
DTEND;TZID=America/New_York:20250720T130000
DTSTAMP:20260419T154001
CREATED:20250414T181243Z
LAST-MODIFIED:20250719T161040Z
UID:10000807-1753009200-1753016400@serenityknoll.com
SUMMARY:SUNDAY YOGA & BRUNCH\, w/ RACHAEL SANTIAGO\, JULY 20TH at 11AM\, $30 PER PERSON
DESCRIPTION:Join us for an hour of gentle Yoga in our open-air pavilion\, followed by a delicious and healthy brunch! This Yoga session is beginner-friendly\, and mats\, blocks\, bolsters\, and blankets will be available for use. The restrooms are onsite.
URL:https://serenityknoll.com/event/sunday-yoga-brunch-w-rachael-santiago-july-20th-at-11am-30-per-person/
LOCATION:Serenity Knoll Farm\, 542 Bacon Branch Rd\, Jonesborough\, TN\, 37659\, United States
CATEGORIES:Cooking,Yoga
ATTACH;FMTTYPE=image/jpeg:https://serenityknoll.com/wp-content/uploads/2023/09/yoga-SNF-scaled.jpg
ORGANIZER;CN="Serenity Knoll Cooking School":MAILTO:sheridan@serenityknoll.com
END:VEVENT
BEGIN:VEVENT
DTSTART;TZID=America/New_York:20250720T150000
DTEND;TZID=America/New_York:20250720T170000
DTSTAMP:20260419T154001
CREATED:20250423T185515Z
LAST-MODIFIED:20250423T185515Z
UID:10000840-1753023600-1753030800@serenityknoll.com
SUMMARY:BEST BISCUITS EVER w/ DEIDRA HARRUFF\, JULY 20TH\, at 3PM\, $65.00 PER PERSON
DESCRIPTION:Join us for one of our favorite offerings: biscuit bonanza! This class\, taught by Chef Deidra Harruff\, will give you the confidence and knowledge to make the most perfect biscuit. If you love those flaky\, buttery layers but have yet to perfect the recipe\, this IS the class for you. In this class\, you’ll not only learn about plain biscuits\, but we will also make cinnamon rolls\, scones\, chive and cheddar biscuits. What else makes the perfect biscuit meal? Gravy\, of course! Deidra will also show you how to make the most flavorful sausage gravy to accompany the many biscuits you’ll make in this class. Everyone will make some\, and everyone will take some home!
URL:https://serenityknoll.com/event/best-biscuits-ever-w-deidra-harruff-july-20th-at-3pm-65-00-per-person/
LOCATION:Serenity Knoll Farm\, 542 Bacon Branch Rd\, Jonesborough\, TN\, 37659\, United States
CATEGORIES:Cooking
ATTACH;FMTTYPE=image/jpeg:https://serenityknoll.com/wp-content/uploads/2024/12/Depositphotos_238401750_XL-scaled.jpg
ORGANIZER;CN="Serenity Knoll Cooking School":MAILTO:sheridan@serenityknoll.com
END:VEVENT
END:VCALENDAR