BEGIN:VCALENDAR
VERSION:2.0
PRODID:-//Serenity Knoll - ECPv6.10.1.1//NONSGML v1.0//EN
CALSCALE:GREGORIAN
METHOD:PUBLISH
X-WR-CALNAME:Serenity Knoll
X-ORIGINAL-URL:https://serenityknoll.com
X-WR-CALDESC:Events for Serenity Knoll
REFRESH-INTERVAL;VALUE=DURATION:PT1H
X-Robots-Tag:noindex
X-PUBLISHED-TTL:PT1H
BEGIN:VTIMEZONE
TZID:America/New_York
BEGIN:DAYLIGHT
TZOFFSETFROM:-0500
TZOFFSETTO:-0400
TZNAME:EDT
DTSTART:20250309T070000
END:DAYLIGHT
BEGIN:STANDARD
TZOFFSETFROM:-0400
TZOFFSETTO:-0500
TZNAME:EST
DTSTART:20251102T060000
END:STANDARD
END:VTIMEZONE
BEGIN:VEVENT
DTSTART;TZID=America/New_York:20250606T180000
DTEND;TZID=America/New_York:20250606T200000
DTSTAMP:20260419T104152
CREATED:20250403T130648Z
LAST-MODIFIED:20250529T122013Z
UID:10000779-1749232800-1749240000@serenityknoll.com
SUMMARY:CHOCOLATE PEANUT BUTTER CAKE w/ ANGELA BOWES\, JUNE 6TH at 6PM\, $75 PER PERSON
DESCRIPTION:Love peanut butter? This class is for you!\nEnjoy personalized attention while paying a group class fee! In this hands-on course\,\nyou will frost your own chocolate cake with peanut butter buttercream\, bake three\ntypes of peanut butter cookies\, and use creamy peanut butter fudge. Discover just\nhow fun and rewarding it is to create beautifully decorated cakes and delicious treats\nthat will wow your friends and family. \nNo decorating experience? No problem! Join us at Serenity Knoll Cooking School for\nthis fun and flavorful class.  Recipes and materials are included. Reserve your spot today!
URL:https://serenityknoll.com/event/chocolate-peanut-butter-cake-w-angela-bowes-june-6th-at-6pm-75-per-person/
LOCATION:Serenity Knoll Farm\, 542 Bacon Branch Rd\, Jonesborough\, TN\, 37659\, United States
CATEGORIES:Cooking
ATTACH;FMTTYPE=image/jpeg:https://serenityknoll.com/wp-content/uploads/2024/02/Chocolatepeanutbuttercakeclass.jpg
ORGANIZER;CN="Serenity Knoll Cooking School":MAILTO:sheridan@serenityknoll.com
END:VEVENT
END:VCALENDAR