BEGIN:VCALENDAR
VERSION:2.0
PRODID:-//Serenity Knoll - ECPv6.10.1.1//NONSGML v1.0//EN
CALSCALE:GREGORIAN
METHOD:PUBLISH
X-ORIGINAL-URL:https://serenityknoll.com
X-WR-CALDESC:Events for Serenity Knoll
REFRESH-INTERVAL;VALUE=DURATION:PT1H
X-Robots-Tag:noindex
X-PUBLISHED-TTL:PT1H
BEGIN:VTIMEZONE
TZID:America/New_York
BEGIN:DAYLIGHT
TZOFFSETFROM:-0500
TZOFFSETTO:-0400
TZNAME:EDT
DTSTART:20250309T070000
END:DAYLIGHT
BEGIN:STANDARD
TZOFFSETFROM:-0400
TZOFFSETTO:-0500
TZNAME:EST
DTSTART:20251102T060000
END:STANDARD
END:VTIMEZONE
BEGIN:VEVENT
DTSTART;TZID=America/New_York:20250523T180000
DTEND;TZID=America/New_York:20250523T200000
DTSTAMP:20260423T090049
CREATED:20250407T162108Z
LAST-MODIFIED:20250407T162108Z
UID:10000790-1748023200-1748030400@serenityknoll.com
SUMMARY:KOREAN BBQ or GOGIGUL w/ CHEF KARLA GRIMALDI\, MAY 23RD at 6PM\, $75 PER PERSON
DESCRIPTION:Join Chef Karla to learn how to make some of your favorite Korean dishes at home! We will be grilling up Dak Bulgogi -chicken\, Galbi -beef short rib\, Samgyeopsal -pork\nbelly\, Steamed rice\, lettuce wraps\, Kimchi\, Scallion Salad\, and Spicy Radish Salad. \n 
URL:https://serenityknoll.com/event/korean-bbq-or-gogigul-w-chef-karla-grimaldi-may-23rd-at-6pm-75-per-person/
LOCATION:Serenity Knoll Farm\, 542 Bacon Branch Rd\, Jonesborough\, TN\, 37659\, United States
CATEGORIES:Cooking
ATTACH;FMTTYPE=image/jpeg:https://serenityknoll.com/wp-content/uploads/2025/04/Korean-BBQ.jpg
ORGANIZER;CN="Serenity Knoll Cooking School":MAILTO:sheridan@serenityknoll.com
END:VEVENT
END:VCALENDAR