BEGIN:VCALENDAR
VERSION:2.0
PRODID:-//Serenity Knoll - ECPv6.10.1.1//NONSGML v1.0//EN
CALSCALE:GREGORIAN
METHOD:PUBLISH
X-WR-CALNAME:Serenity Knoll
X-ORIGINAL-URL:https://serenityknoll.com
X-WR-CALDESC:Events for Serenity Knoll
REFRESH-INTERVAL;VALUE=DURATION:PT1H
X-Robots-Tag:noindex
X-PUBLISHED-TTL:PT1H
BEGIN:VTIMEZONE
TZID:America/New_York
BEGIN:DAYLIGHT
TZOFFSETFROM:-0500
TZOFFSETTO:-0400
TZNAME:EDT
DTSTART:20240310T070000
END:DAYLIGHT
BEGIN:STANDARD
TZOFFSETFROM:-0400
TZOFFSETTO:-0500
TZNAME:EST
DTSTART:20241103T060000
END:STANDARD
END:VTIMEZONE
BEGIN:VEVENT
DTSTART;TZID=America/New_York:20240602T110000
DTEND;TZID=America/New_York:20240602T130000
DTSTAMP:20260424T210433
CREATED:20240402T124916Z
LAST-MODIFIED:20240402T124916Z
UID:10000494-1717326000-1717333200@serenityknoll.com
SUMMARY:GENTLE YOGA & BRUNCH w/ CASSIE SHAVER\, JUNE 2ND\, at 11 AM\, $25 PER PERSON
DESCRIPTION:Join Cassie Shaver for an hour of gentle yoga sessions open to beginners and experienced yogis. The yoga session will be held on our heated side porch or in the pavilion\, weather permitting\, and will be followed by a healthy brunch. No experience is necessary. Equipment such as mats\, blocks\, bolsters\, straps\, and blankets are available for our guests to use. for an hour of gentle yoga sessions open to beginners and experienced yogis. The yoga session will be held on our heated side porch or in the pavilion\, weather permitting\, and will be followed by a healthy brunch. No experience is necessary. Equipment such as mats\, blocks\, bolsters\, straps\, and blankets are available for our guests to use.
URL:https://serenityknoll.com/event/gentle-yoga-brunch-w-cassie-shaver-june-2nd-at-11-am-25-per-person/
LOCATION:Serenity Knoll Farm\, 542 Bacon Branch Rd\, Jonesborough\, TN\, 37659\, United States
CATEGORIES:Yoga
ATTACH;FMTTYPE=image/jpeg:https://serenityknoll.com/wp-content/uploads/2023/09/yoga-SNF-scaled.jpg
ORGANIZER;CN="Serenity Knoll Cooking School":MAILTO:sheridan@serenityknoll.com
END:VEVENT
END:VCALENDAR