BEGIN:VCALENDAR
VERSION:2.0
PRODID:-//Serenity Knoll - ECPv6.10.1.1//NONSGML v1.0//EN
CALSCALE:GREGORIAN
METHOD:PUBLISH
X-WR-CALNAME:Serenity Knoll
X-ORIGINAL-URL:https://serenityknoll.com
X-WR-CALDESC:Events for Serenity Knoll
REFRESH-INTERVAL;VALUE=DURATION:PT1H
X-Robots-Tag:noindex
X-PUBLISHED-TTL:PT1H
BEGIN:VTIMEZONE
TZID:America/New_York
BEGIN:DAYLIGHT
TZOFFSETFROM:-0500
TZOFFSETTO:-0400
TZNAME:EDT
DTSTART:20240310T070000
END:DAYLIGHT
BEGIN:STANDARD
TZOFFSETFROM:-0400
TZOFFSETTO:-0500
TZNAME:EST
DTSTART:20241103T060000
END:STANDARD
END:VTIMEZONE
BEGIN:VEVENT
DTSTART;TZID=America/New_York:20240601T140000
DTEND;TZID=America/New_York:20240601T160000
DTSTAMP:20260425T062320
CREATED:20240430T130654Z
LAST-MODIFIED:20240526T094155Z
UID:10000509-1717250400-1717257600@serenityknoll.com
SUMMARY:BEST BISCUITS EVER w/ DEIDRA HARRUFF\, JUNE 1ST\, at 2PM\, $65.00 PER PERSON
DESCRIPTION:Join us for one of our favorite offerings: biscuit bonanza! This class\, taught by Chef Deidra Harruff\, will give you the confidence and knowledge to make the most perfect biscuit. If you love those flaky\, buttery layers but you’ve never perfected the recipe\, this IS the class for you. In this class\, you’ll not only learn about plain biscuits\, but we will also make cinnamon rolls\, scones\, chive and cheddar biscuits. What else makes the perfect biscuit meal? Gravy\, of course! Deidra will also show you how to make the most flavorful sausage gravy to accompany the many biscuits you’ll make in this class. Everyone will make some\, and everyone will take some home!
URL:https://serenityknoll.com/event/best-biscuits-ever-w-deidra-harruff-june-1st-at-2pm-65-00-per-person/
LOCATION:Serenity Knoll Farm\, 542 Bacon Branch Rd\, Jonesborough\, TN\, 37659\, United States
CATEGORIES:Cooking
ATTACH;FMTTYPE=image/jpeg:https://serenityknoll.com/wp-content/uploads/2023/07/biscuits-and-jam.jpg
ORGANIZER;CN="Serenity Knoll Cooking School":MAILTO:sheridan@serenityknoll.com
END:VEVENT
BEGIN:VEVENT
DTSTART;TZID=America/New_York:20240601T180000
DTEND;TZID=America/New_York:20240601T200000
DTSTAMP:20260425T062320
CREATED:20240507T091356Z
LAST-MODIFIED:20240530T141617Z
UID:10000511-1717264800-1717272000@serenityknoll.com
SUMMARY:MEXICAN NIGHT OUT w/ CHEFS ASHLEY & JOHN KOSKO\, JUNE 1ST at 6 PM\, $65 PER PERSON\, BYOB
DESCRIPTION:Join us for a delicious night out with Ashley & John featuring Homemade Tortillas & Tacos (Ashley will make her abuela’s tortilla recipe)\, Shredded Chili Verde Chicken\, and fresh Salsa.
URL:https://serenityknoll.com/event/mexican-night-out-w-chefs-ashley-john-kosko-june-1st-at-6-pm-65-per-person-byob/
LOCATION:Serenity Knoll Farm\, 542 Bacon Branch Rd\, Jonesborough\, TN\, 37659\, United States
CATEGORIES:Cooking
ATTACH;FMTTYPE=image/jpeg:https://serenityknoll.com/wp-content/uploads/2024/05/mexican-green-chili-verde.jpg
ORGANIZER;CN="Serenity Knoll Cooking School":MAILTO:sheridan@serenityknoll.com
END:VEVENT
END:VCALENDAR